BEGIN:VCALENDAR
VERSION:2.0
PRODID:-//イベントカレンダー｜トヨタモビリティ富山｜店舗イベント情報 - ECPv6.8.1//NONSGML v1.0//EN
CALSCALE:GREGORIAN
METHOD:PUBLISH
X-WR-CALNAME:イベントカレンダー｜トヨタモビリティ富山｜店舗イベント情報
X-ORIGINAL-URL:https://events.toyota-mobi-toyama.jp
X-WR-CALDESC:イベントカレンダー｜トヨタモビリティ富山｜店舗イベント情報 のイベント
REFRESH-INTERVAL;VALUE=DURATION:PT1H
X-Robots-Tag:noindex
X-PUBLISHED-TTL:PT1H
BEGIN:VTIMEZONE
TZID:Asia/Tokyo
BEGIN:STANDARD
TZOFFSETFROM:+0900
TZOFFSETTO:+0900
TZNAME:JST
DTSTART:20260101T000000
END:STANDARD
END:VTIMEZONE
BEGIN:VEVENT
DTSTART;TZID=Asia/Tokyo:20260329T110000
DTEND;TZID=Asia/Tokyo:20260329T163000
DTSTAMP:20260424T032350
CREATED:20260318T051536Z
LAST-MODIFIED:20260319T015327Z
UID:1856-1774782000-1774801800@events.toyota-mobi-toyama.jp
SUMMARY:【富山グラウジーズ】マイナビ富山支社presentsホームゲームvs滋賀レイクス
DESCRIPTION:1階ロビーのトヨタモビリティ富山ブースでは、SNSのフォローでフリスビーチャレンジを実施いたします。 \nまた、マスコットキャラクターのティモティとグラッキーとのスリーショット撮影会を開催いたします。\n【 開催時間 】①11時30分～11時45分　②12時30分～12時45分 \nゲームデーの詳細はこちら \n 
URL:https://events.toyota-mobi-toyama.jp/event/%e3%83%9e%e3%82%a4%e3%83%8a%e3%83%93%e5%af%8c%e5%b1%b1%e6%94%af%e7%a4%bepresents%e3%83%9b%e3%83%bc%e3%83%a0%e3%82%b2%e3%83%bc%e3%83%a0vs%e6%bb%8b%e8%b3%80%e3%83%ac%e3%82%a4%e3%82%af%e3%82%b9/
LOCATION:富山県
CATEGORIES:スポーツ
ATTACH;FMTTYPE=image/png:https://events.toyota-mobi-toyama.jp/wp/wp-content/uploads/2026/03/ティモティ_バスケ.png
END:VEVENT
END:VCALENDAR