BEGIN:VCALENDAR
VERSION:2.0
PRODID:-//イベントカレンダー｜トヨタモビリティ富山｜店舗イベント情報 - ECPv6.8.1//NONSGML v1.0//EN
CALSCALE:GREGORIAN
METHOD:PUBLISH
X-ORIGINAL-URL:https://events.toyota-mobi-toyama.jp
X-WR-CALDESC:イベントカレンダー｜トヨタモビリティ富山｜店舗イベント情報 のイベント
REFRESH-INTERVAL;VALUE=DURATION:PT1H
X-Robots-Tag:noindex
X-PUBLISHED-TTL:PT1H
BEGIN:VTIMEZONE
TZID:Asia/Tokyo
BEGIN:STANDARD
TZOFFSETFROM:+0900
TZOFFSETTO:+0900
TZNAME:JST
DTSTART:20250101T000000
END:STANDARD
END:VTIMEZONE
BEGIN:VEVENT
DTSTART;VALUE=DATE:20250725
DTEND;VALUE=DATE:20250811
DTSTAMP:20260424T152435
CREATED:20250725T023302Z
LAST-MODIFIED:20250725T055612Z
UID:1479-1753401600-1754870399@events.toyota-mobi-toyama.jp
SUMMARY:2025夏まつり🍉中古車フェア✨🎐
DESCRIPTION:\\イベントのお知らせです//\n7月26日（土）〜8月10日（日） \n中古車フェアを開催いたします✨🔥 \n中古車GAREGE富山ではたくさんの\nおクルマを展示しております🚗 \n人気のおクルマはすでに\n商談予約が入っている\n場合がございます🙏\nご気軽にお問い合わせください👌🏻🫧 \n\\プルボードチャレンジ//\n期間内に新車・中古車ご成約\nいただいた方に素敵な商品が\nあたるチャンス！！\n📍ランドマークSOTY\n中古車GARAGE富山 \nお気に入りの１台を一緒に\n見つけましょう👀✨ \n皆様のご来店心より\nお待ちしております🐰
URL:https://events.toyota-mobi-toyama.jp/event/2025%e5%a4%8f%e3%81%be%e3%81%a4%e3%82%8a%f0%9f%8d%89%e4%b8%ad%e5%8f%a4%e8%bb%8a%e3%83%95%e3%82%a7%e3%82%a2%e2%9c%a8%f0%9f%8e%90/
LOCATION:中古車Garage富山\, 田中町４－１８－３５\, 富山市\, 富山県\, 930-0985\, 日本
CATEGORIES:ファミリー,中古車,夏フェス,富山市内
ATTACH;FMTTYPE=image/png:https://events.toyota-mobi-toyama.jp/wp/wp-content/uploads/2025/07/ブログ画像サイズ-573-x-373-px.png
END:VEVENT
BEGIN:VEVENT
DTSTART;VALUE=DATE:20250726
DTEND;VALUE=DATE:20250809
DTSTAMP:20260424T152435
CREATED:20250710T084928Z
LAST-MODIFIED:20250710T085100Z
UID:1371-1753488000-1754697599@events.toyota-mobi-toyama.jp
SUMMARY:SPORTS SPOT スポスポ 【高岡】
DESCRIPTION:【イベントのお知らせ📢】 \n「SPORTS SPOT スポスポ」が\nトヨタモビリティ富山 高岡にやってくる‼︎✨ \n開催期間: 7/26(土) 〜8/8(金) \n▶︎詳細は下記URLよりご確認ください💡\nhttps://sports-spot.rsvsys.jp/reservations/calendar?category=69 \n沢山のご予約お待ちしております♪ \n \n 
URL:https://events.toyota-mobi-toyama.jp/event/sports-spot-%e3%82%b9%e3%83%9d%e3%82%b9%e3%83%9d-%e3%80%90%e9%ab%98%e5%b2%a1%e3%80%91/
LOCATION:高岡\, 美幸町１－１－７２\, 高岡市\, 富山県\, 933-0954\, 日本
ATTACH;FMTTYPE=image/png:https://events.toyota-mobi-toyama.jp/wp/wp-content/uploads/2024/10/スライド1-1.png
END:VEVENT
END:VCALENDAR