BEGIN:VCALENDAR
VERSION:2.0
PRODID:-//イベントカレンダー｜トヨタモビリティ富山｜店舗イベント情報 - ECPv6.8.1//NONSGML v1.0//EN
CALSCALE:GREGORIAN
METHOD:PUBLISH
X-ORIGINAL-URL:https://events.toyota-mobi-toyama.jp
X-WR-CALDESC:イベントカレンダー｜トヨタモビリティ富山｜店舗イベント情報 のイベント
REFRESH-INTERVAL;VALUE=DURATION:PT1H
X-Robots-Tag:noindex
X-PUBLISHED-TTL:PT1H
BEGIN:VTIMEZONE
TZID:Asia/Tokyo
BEGIN:STANDARD
TZOFFSETFROM:+0900
TZOFFSETTO:+0900
TZNAME:JST
DTSTART:20250101T000000
END:STANDARD
END:VTIMEZONE
BEGIN:VEVENT
DTSTART;VALUE=DATE:20250712
DTEND;VALUE=DATE:20250714
DTSTAMP:20260424T152434
CREATED:20250701T073712Z
LAST-MODIFIED:20250701T073819Z
UID:1333-1752278400-1752451199@events.toyota-mobi-toyama.jp
SUMMARY:【Gスクエア五福】ウェルキャブステーション リニューアルフェスタ
DESCRIPTION:📣イベント開催のお知らせ📣\n＼見て・触れて・体験できる2日間！／ \n皆さま、「ウェルキャブ」という言葉はご存知ですか❓\n「ウェルキャブ」とはトヨタ自動車が展開する福祉車両のシリーズ名です。\n高齢者や身体の不自由な方が快適に移動できるよう、特別なシートやスロープが取り付けられています。\nウェルキャブを見て・触れて・体験できる販売店、「ウェルキャブステーション」が今回大リニューアル❗️ \n《ウェルキャブステーションリニューアルフェスタ》\n【日時】7月12(土)・13(日) 10：00～16：00\n【場所】トヨタモビリティ富山 Gスクエア五福（富山市五福末広町1238） \nリニューアルフェスタでは、福祉車両や用品が勢ぞろい✨\n☑️ 車いすスロープ車やリフトアップシート車など多種展示\n☑️ 後付けのウェルキャブ用品「いつでもウェルキャブ」の展示\n☑️ 移動に安心をプラス！サポトヨプラス商品や福祉用具の展示\n☑️ 電動歩行モビリティC+walk、WHILL試乗体験 \n🌟7/12(土)は富山県出身パラバドミントン選手、河合紫乃選手による特別講演＆パラバド体験！\nアスリートと一緒にパラスポーツの楽しさを知ろう！\n※パラバドスクールキャラバンは事前のご予約が必要です \n🌟7/13(日)はパラスポ体験コーナーも登場！\n・車いすバスケ体験🏀\n車いすからのフリースローを体験！\n・ボッチャで楽しもう！ \nさらに！\n🎁7/1から9/30まで、ウェルキャブ車の無料レンタル体験キャンペーン実施中！ \n皆さまのご来場お待ちしております☺ \n 
URL:https://events.toyota-mobi-toyama.jp/event/%e3%80%90g%e3%82%b9%e3%82%af%e3%82%a8%e3%82%a2%e4%ba%94%e7%a6%8f%e3%80%91%e3%82%a6%e3%82%a7%e3%83%ab%e3%82%ad%e3%83%a3%e3%83%96%e3%82%b9%e3%83%86%e3%83%bc%e3%82%b7%e3%83%a7%e3%83%b3-%e3%83%aa%e3%83%8b/
LOCATION:Gスクエア五福\, 五福末広町１２３８\, 富山市\, 富山県\, 930-0884\, 日本
ATTACH;FMTTYPE=image/jpeg:https://events.toyota-mobi-toyama.jp/wp/wp-content/uploads/2025/07/インスタ素材.jpg
END:VEVENT
BEGIN:VEVENT
DTSTART;TZID=Asia/Tokyo:20250713T103000
DTEND;TZID=Asia/Tokyo:20250713T120000
DTSTAMP:20260424T152434
CREATED:20250701T074551Z
LAST-MODIFIED:20250701T074604Z
UID:1343-1752402600-1752408000@events.toyota-mobi-toyama.jp
SUMMARY:【魚津】両親学級
DESCRIPTION:詳しくは下記URLをご確認ください。 \nなお、お申込みにつきましても下記URLよりお願いいたします。 \n北陸｜両親学級（無料） \n \n 
URL:https://events.toyota-mobi-toyama.jp/event/%e3%80%90%e9%ad%9a%e6%b4%a5%e3%80%91%e4%b8%a1%e8%a6%aa%e5%ad%a6%e7%b4%9a/
LOCATION:魚津\, 本江１０６３\, 魚津市\, 富山県\, 937-0805\, 日本
END:VEVENT
END:VCALENDAR