BEGIN:VCALENDAR
VERSION:2.0
PRODID:-//イベントカレンダー｜トヨタモビリティ富山｜店舗イベント情報 - ECPv6.8.1//NONSGML v1.0//EN
CALSCALE:GREGORIAN
METHOD:PUBLISH
X-ORIGINAL-URL:https://events.toyota-mobi-toyama.jp
X-WR-CALDESC:イベントカレンダー｜トヨタモビリティ富山｜店舗イベント情報 のイベント
REFRESH-INTERVAL;VALUE=DURATION:PT1H
X-Robots-Tag:noindex
X-PUBLISHED-TTL:PT1H
BEGIN:VTIMEZONE
TZID:Asia/Tokyo
BEGIN:STANDARD
TZOFFSETFROM:+0900
TZOFFSETTO:+0900
TZNAME:JST
DTSTART:20250101T000000
END:STANDARD
END:VTIMEZONE
BEGIN:VEVENT
DTSTART;TZID=Asia/Tokyo:20250620T103000
DTEND;TZID=Asia/Tokyo:20250620T120000
DTSTAMP:20260424T164841
CREATED:20250523T025407Z
LAST-MODIFIED:20250523T025407Z
UID:1275-1750415400-1750420800@events.toyota-mobi-toyama.jp
SUMMARY:👶第5回　みらい北×mannma　みらいKIDS　親子サークル♥
DESCRIPTION:こんにちは✿\n    トヨタモビリティ富山㈱ \n富山みらい北です♡ \n6/20(Fri)10:30~12:00 \n富山みらい北×mannmaみらい北KIDS \nの \n親子サークル \nを開催します✿ \n以前からたくさんのご要望が多かった\n    平日の開催です♪\n    季節の足型アート終了後は\n    ぽっくるさんのケーキで楽しくTea timeを過ごしましょう☕♡ \nみらいKIDSの親子サークルは\n    mannmaさん主催で平日に開催します♡\n    入会には入会金と年会費等は不要で\n    アンケートにご回答でどなたでも入会可能です😉\n    入会された方には メンバーカード をお渡しします💳！ \n今回の親子サークルの内容は\n    \季節の足型アート+ママ交流会/\n    紫陽花デザインの台紙に成長の記録として足型アートを作ります！\n    足型はかわいいカエルに変身します🐸🐸 \n・参加費 ￥1\,500(税込)\n    ・支払方法：現金、PayPay \nご予約は下記画像のQRコードからお願いします！ \n  \n   \n\n\n    ▶富山みらい北の店舗情報は\n    こちらをクリック↓\n   \n\n    ▶インスタグラムもチェック！\n    イベント案内やお得な情報を投稿しています(^o^)丿\n    フォロー&いいね💕お願いします♩\n   \n  \n    \n   \n【5月のカレンダー】\n   \n\n    ▶万が一の事故・故障等でお困りの際は\n    トヨタモビリティ富山事故・故障サポートデスク\n    をご利用下さい\n   \n   \n\n    ▶トヨタモビリティ富山\n    富山みらい北\n    〒931-8326\n    富山市上野新町7番58号\n    ☎076-438-4545\n   \n令和６年１月より営業時間変更になりました！ \n\n    【営業時間】\n    平日：9時30分～18時30分（サービス工場は17時30分まで、受付17時まで）\n    土日：9時00分～18時30分（サービス工場は17時まで、受付16時30分まで）
URL:https://events.toyota-mobi-toyama.jp/event/%f0%9f%91%b6%e7%ac%ac5%e5%9b%9e%e3%80%80%e3%81%bf%e3%82%89%e3%81%84%e5%8c%97xmannma%e3%80%80%e3%81%bf%e3%82%89%e3%81%84kids%e3%80%80%e8%a6%aa%e5%ad%90%e3%82%b5%e3%83%bc%e3%82%af%e3%83%ab%e2%99%a5/
LOCATION:富山みらい北\, 上野新町７－５８\, 富山市\, 富山県\, 931-8326\, 日本
END:VEVENT
END:VCALENDAR