BEGIN:VCALENDAR
VERSION:2.0
PRODID:-//イベントカレンダー｜トヨタモビリティ富山｜店舗イベント情報 - ECPv6.8.1//NONSGML v1.0//EN
CALSCALE:GREGORIAN
METHOD:PUBLISH
X-ORIGINAL-URL:https://events.toyota-mobi-toyama.jp
X-WR-CALDESC:イベントカレンダー｜トヨタモビリティ富山｜店舗イベント情報 のイベント
REFRESH-INTERVAL;VALUE=DURATION:PT1H
X-Robots-Tag:noindex
X-PUBLISHED-TTL:PT1H
BEGIN:VTIMEZONE
TZID:Asia/Tokyo
BEGIN:STANDARD
TZOFFSETFROM:+0900
TZOFFSETTO:+0900
TZNAME:JST
DTSTART:20250101T000000
END:STANDARD
END:VTIMEZONE
BEGIN:VEVENT
DTSTART;TZID=Asia/Tokyo:20250525T133000
DTEND;TZID=Asia/Tokyo:20250525T150000
DTSTAMP:20260424T181423
CREATED:20250424T061259Z
LAST-MODIFIED:20250424T061300Z
UID:1188-1748179800-1748185200@events.toyota-mobi-toyama.jp
SUMMARY:【黒部】キッズエンジニア体験🧢🔧
DESCRIPTION:トヨタモビリティ富山 黒部です🍅 \n  \n\nイベント告知📢 \n\nキッズエンジニア体験イベント \n開催します🧢🔧✨ \n  \n\n詳しくは画像をご覧ください👀 \n\n\n \n\nトヨタのエンジニアのお仕事体験🚘🔧 \n普段はできないたくさんの体験ができますよ👀✨ \nオリジナルエンジニアウェアを着て \nトヨタのエンジニアになりきろう✨✨ \n\n  \nがんばったお子様には \nキッズエンジニア認定証とご褒美が \nもらえますよ😍✨ \n\n  \nぜひこの機会にご参加ください🤗♪ \nご応募お待ちしております♥ \n\n  \n申込みフォームはこちら☝ \nお電話でもOKです🙌 \n℡0765-54-3111 \n※営業時間内にお電話ください \n  \n\n  \nトヨタモビリティ富山 黒部 \n📍黒部市荻生8727-1 \n営業時間 \n平日　9:30-18:30 \n土日　9:00-18:30 \n定休日　月曜他、GW休業4/28-5/6 \n 
URL:https://events.toyota-mobi-toyama.jp/event/%e3%80%90%e9%bb%92%e9%83%a8%e3%80%91%e3%82%ad%e3%83%83%e3%82%ba%e3%82%a8%e3%83%b3%e3%82%b8%e3%83%8b%e3%82%a2%e4%bd%93%e9%a8%93%f0%9f%a7%a2%f0%9f%94%a7/
LOCATION:黒部\, 荻生８７２７－１\, 黒部市\, 富山県\, 938-0801\, 日本
CATEGORIES:キッズ,呉東
ATTACH;FMTTYPE=image/png:https://events.toyota-mobi-toyama.jp/wp/wp-content/uploads/2025/04/キッズエンジニア黒部.png
END:VEVENT
END:VCALENDAR