BEGIN:VCALENDAR
VERSION:2.0
PRODID:-//イベントカレンダー｜トヨタモビリティ富山｜店舗イベント情報 - ECPv6.8.1//NONSGML v1.0//EN
CALSCALE:GREGORIAN
METHOD:PUBLISH
X-ORIGINAL-URL:https://events.toyota-mobi-toyama.jp
X-WR-CALDESC:イベントカレンダー｜トヨタモビリティ富山｜店舗イベント情報 のイベント
REFRESH-INTERVAL;VALUE=DURATION:PT1H
X-Robots-Tag:noindex
X-PUBLISHED-TTL:PT1H
BEGIN:VTIMEZONE
TZID:Asia/Tokyo
BEGIN:STANDARD
TZOFFSETFROM:+0900
TZOFFSETTO:+0900
TZNAME:JST
DTSTART:20250101T000000
END:STANDARD
END:VTIMEZONE
BEGIN:VEVENT
DTSTART;VALUE=DATE:20250521
DTEND;VALUE=DATE:20250522
DTSTAMP:20260424T181426
CREATED:20250425T235740Z
LAST-MODIFIED:20250508T104059Z
UID:1197-1747785600-1747871999@events.toyota-mobi-toyama.jp
SUMMARY:【Y-town山室】アトリエワイタウン✐オリジナルマグネット作り
DESCRIPTION:こんにちは\nY-town山室です☀昨年4月よりはじまりました🌱\n◤　アトリエワイタウン　◢ \n月に1度平日開催のワークショップ\n次回開催日のご案内です👐 \n第10回　5月21日(水)\nオリジナルマグネット作り\n \n時間🕜　　10時30分～(1時間～1時間30分を予定しています)\n定員　　　8名\n参加費用　　1\,300円(税･材料費込み)\n※ハート型も長方形も同一金額です\n※当日現金でのお支払いをお願い致します \nアルコールインクアートで色付けする\nオリジナルマグネット作りです！\n色の混じりあい、変化が楽しいアルコールインクアート🌈\nインテリアにもピッタリ❤❤❤ \nご予約は下記フォームよりお願い致します\n\n\n \n山室店にご来店されたことがないお客様も大歓迎!\nご参加お待ちしております♡ \n\n─── ⋆⋅🚗⋅⋆ ─── \n\n\n \n\n\n \n\n\n \n\n\n \n\n\n \n\n\n \n\n\n \n\n\n \n\n\n \n\n─── ⋆⋅🚗⋅⋆ ───
URL:https://events.toyota-mobi-toyama.jp/event/%e3%80%90y-town%e5%b1%b1%e5%ae%a4%e3%80%91%e3%82%a2%e3%83%88%e3%83%aa%e3%82%a8%e3%83%af%e3%82%a4%e3%82%bf%e3%82%a6%e3%83%b3%e2%9c%90%e3%82%aa%e3%83%aa%e3%82%b8%e3%83%8a%e3%83%ab%e3%83%9e%e3%82%b0/
LOCATION:Y-town山室\, 山室新町４１\, 富山市\, 富山県\, 939-8002\, 日本
CATEGORIES:ワークショップ
ATTACH;FMTTYPE=image/png:https://events.toyota-mobi-toyama.jp/wp/wp-content/uploads/2025/04/白と黄色　シンプル　写真　ワークショップ　お知らせ　Instagramの投稿.png-1.png
END:VEVENT
END:VCALENDAR