BEGIN:VCALENDAR
VERSION:2.0
PRODID:-//イベントカレンダー｜トヨタモビリティ富山｜店舗イベント情報 - ECPv6.8.1//NONSGML v1.0//EN
CALSCALE:GREGORIAN
METHOD:PUBLISH
X-ORIGINAL-URL:https://events.toyota-mobi-toyama.jp
X-WR-CALDESC:イベントカレンダー｜トヨタモビリティ富山｜店舗イベント情報 のイベント
REFRESH-INTERVAL;VALUE=DURATION:PT1H
X-Robots-Tag:noindex
X-PUBLISHED-TTL:PT1H
BEGIN:VTIMEZONE
TZID:Asia/Tokyo
BEGIN:STANDARD
TZOFFSETFROM:+0900
TZOFFSETTO:+0900
TZNAME:JST
DTSTART:20250101T000000
END:STANDARD
END:VTIMEZONE
BEGIN:VEVENT
DTSTART;TZID=Asia/Tokyo:20250516T080000
DTEND;TZID=Asia/Tokyo:20250516T170000
DTSTAMP:20260424T181423
CREATED:20250516T061110Z
LAST-MODIFIED:20250516T061110Z
UID:1233-1747382400-1747414800@events.toyota-mobi-toyama.jp
SUMMARY:📣パブリックビューイング🏳‍🌈【富山ドリームス VS 大崎オーソル埼玉】👀✨
DESCRIPTION:こんにちは🤗\nトヨタモビリティ富山 砺波です✨ \n\nイベントのご案内です🙂‍↕️♡ \n \n \n富山ドリームス パブリックビューイング🤾✨\n開催‼️‼️ \n \n日程▷▷▷5月24日(土)13:00〜throw off!! \n \n今シーズン最後の試合です‼️ \n\nグッズ販売やじゃんけん大会もあります✊🏻✌🏻🖐🏻 \n\nじゃんけん大会で優勝した方には選手のサイン入りハリセンをプレゼント🎁♡！ \n \n当日はゲストで選手から2名来ていただく予定です🤾🌟 \n \nそして、露木選手が6月30日をもって移籍期間が満了するため、 \n富山ドリームスとしては今回が最後の試合となります😭 \n \nぜひ皆さん一緒に大画面で応援しましょう📣🔥 \n \nどなたでも参加大歓迎🗣️✨\n皆様のご来店お待ちしております🥰 \n\n୨୧┈┈┈┈┈┈┈┈┈┈┈┈┈┈┈┈┈୨୧\n \n\nトヨタモビリティ富山 砺波 \n\n📍富山県砺波市太郎丸3丁目50 \n\n📞0763-33-4141 \n▶︎営業時間 \n\n(平日)9:30〜18:30  \n\n【サービス工場は17:00まで(受付16:30まで)】 \n\n(土日)9:00〜18:30  \n【サービス工場は17:30まで(受付17:00まで)】 \n \n୨୧┈┈┈┈┈┈┈┈┈┈┈┈┈┈┈┈┈୨୧ \n  \n  \n 
URL:https://events.toyota-mobi-toyama.jp/event/%f0%9f%93%a3%e3%83%91%e3%83%96%e3%83%aa%e3%83%83%e3%82%af%e3%83%93%e3%83%a5%e3%83%bc%e3%82%a4%e3%83%b3%e3%82%b0%f0%9f%8f%b3%f0%9f%8c%88%e3%80%90%e5%af%8c%e5%b1%b1%e3%83%89%e3%83%aa%e3%83%bc/
LOCATION:富山県
CATEGORIES:パブリックビューイング
ATTACH;FMTTYPE=image/png:https://events.toyota-mobi-toyama.jp/wp/wp-content/uploads/2025/05/Blue-Graffiti-Style-Baseball-Sports-Graphic-Instagram-Post-3.png
END:VEVENT
END:VCALENDAR