BEGIN:VCALENDAR
VERSION:2.0
PRODID:-//イベントカレンダー｜トヨタモビリティ富山｜店舗イベント情報 - ECPv6.8.1//NONSGML v1.0//EN
CALSCALE:GREGORIAN
METHOD:PUBLISH
X-WR-CALNAME:イベントカレンダー｜トヨタモビリティ富山｜店舗イベント情報
X-ORIGINAL-URL:https://events.toyota-mobi-toyama.jp
X-WR-CALDESC:イベントカレンダー｜トヨタモビリティ富山｜店舗イベント情報 のイベント
REFRESH-INTERVAL;VALUE=DURATION:PT1H
X-Robots-Tag:noindex
X-PUBLISHED-TTL:PT1H
BEGIN:VTIMEZONE
TZID:Asia/Tokyo
BEGIN:STANDARD
TZOFFSETFROM:+0900
TZOFFSETTO:+0900
TZNAME:JST
DTSTART:20250101T000000
END:STANDARD
END:VTIMEZONE
BEGIN:VEVENT
DTSTART;TZID=Asia/Tokyo:20250507T080000
DTEND;TZID=Asia/Tokyo:20250511T170000
DTSTAMP:20260424T181326
CREATED:20250428T043403Z
LAST-MODIFIED:20250428T043451Z
UID:1211-1746604800-1746982800@events.toyota-mobi-toyama.jp
SUMMARY:【　Y-town山室　】母の日制作🌷ポップアップカードをつくろう！！！
DESCRIPTION:こんにちは\n    Y-town山室です✾ \n    🚩イベント情報のご案内です🌈 \n    ５月１１日(日)は、母の日🌷 \n    ということで・・\n    母の日ギフトにピッタリな工作をご用意しました!! \n    【　ポップアップカードづくり　】\n   \n   \n  \n    画用紙でカンタンにつくれる！\n    とびだすメッセージカード🌷🌷 \n    🕜製作時間：約15分\n    💰費用：不要\n    🌷期間：4/26(土)～5/11(日)\n    ※4/28(月)～5/6(火)はゴールデンウイーク休業となります。 \n    素敵なメッセージカードを作って、\n    おかあさんにプレゼントしよう～🎁 \n    ぜひ、期間中のご来店お待ちしております♡\n   \n   \n  ─── ⋆・🚗・⋆ ─── \n  \n    \n   \n  \n    \n   \n  \n    \n   \n  \n    \n   \n  \n    \n   \n  \n    \n   \n  \n    \n   \n  \n    \n   \n  \n    \n   \n  ─── ⋆・🚗・⋆ ───
URL:https://events.toyota-mobi-toyama.jp/event/%e3%80%90%e3%80%80y-town%e5%b1%b1%e5%ae%a4%e3%80%80%e3%80%91%e6%af%8d%e3%81%ae%e6%97%a5%e5%88%b6%e4%bd%9c%f0%9f%8c%b7%e3%83%9d%e3%83%83%e3%83%97%e3%82%a2%e3%83%83%e3%83%97%e3%82%ab%e3%83%bc%e3%83%89/
LOCATION:Y-town山室\, 山室新町４１\, 富山市\, 富山県\, 939-8002\, 日本
CATEGORIES:キッズ,ワークショップ,富山市内
ATTACH;FMTTYPE=image/jpeg:https://events.toyota-mobi-toyama.jp/wp/wp-content/uploads/2025/04/image.jpg
END:VEVENT
BEGIN:VEVENT
DTSTART;VALUE=DATE:20250510
DTEND;VALUE=DATE:20250511
DTSTAMP:20260424T181326
CREATED:20250423T011858Z
LAST-MODIFIED:20250424T061411Z
UID:1164-1746835200-1746921599@events.toyota-mobi-toyama.jp
SUMMARY:【黒部】キャンドルホルダー作りworkshop🕯
DESCRIPTION:トヨタモビリティ富山 黒部です🍅 \n  \n5/10㈯　13:00～ \nキャンドルホルダー作りワークショップ \n開催します🕯✨ \n  \n↓詳細↓ \n   \n\n講師にN.N.N.candleさんをお迎えします🙎♥ \n母の日にもピッタリなおしゃれなキャンドルホルダーを作りましょう！ \nもちろん自分用でもOKです✨ \nお申し込みは申込みフォームまたはお電話にて受付します📝 \n  \n▪申込みフォームはこちら↓ \nhttps://docs.google.com/forms/d/1E1hlqEz60gzn2U81_92jahBBpWl0-jw6NZM2fe0cyPg/preview \n\n  \n▪お電話 \n℡ 0765-54-3111 \n※営業時間内にお電話ください \n営業時間　平日　9:30-18:30 \n　　　　　土日　9:00-18:30 \n定休日　　月曜他（4/28-5/6 GW休業) \n\n  \n  \n  \n●　●　●　●　●　●　●　●　●　●　●　● \n\n🍅トヨタモビリティ富山 黒部 \n\n📍黒部市荻生８７２７－１ \n営業時間【平日】9:30〜18:30 \n【土日】9:00〜18:30 \n定休日　月曜日 \n📞０７６５－５４－３１１１ \n\n●　●　●　●　●　●　●　●　●　●　●　● \n  \n  \n  \n  \n  \n  \n  \n  \n  \n  \n  \n  \n  \n  \n  \n  \n  \n  \n  \n  \n  \n  \n  \n  \n  \n  \n  \n  \n  \n  \n  \n  \n  \n  \n 
URL:https://events.toyota-mobi-toyama.jp/event/%e3%80%90%e9%bb%92%e9%83%a8%e3%80%91%e3%82%ad%e3%83%a3%e3%83%b3%e3%83%89%e3%83%ab%e3%83%9b%e3%83%ab%e3%83%80%e3%83%bc%e4%bd%9c%e3%82%8aworkshop%f0%9f%95%af/
LOCATION:黒部\, 荻生８７２７－１\, 黒部市\, 富山県\, 938-0801\, 日本
CATEGORIES:ワークショップ,呉東
ATTACH;FMTTYPE=image/png:https://events.toyota-mobi-toyama.jp/wp/wp-content/uploads/2025/04/1.png
END:VEVENT
END:VCALENDAR