BEGIN:VCALENDAR
VERSION:2.0
PRODID:-//イベントカレンダー｜トヨタモビリティ富山｜店舗イベント情報 - ECPv6.8.1//NONSGML v1.0//EN
CALSCALE:GREGORIAN
METHOD:PUBLISH
X-ORIGINAL-URL:https://events.toyota-mobi-toyama.jp
X-WR-CALDESC:イベントカレンダー｜トヨタモビリティ富山｜店舗イベント情報 のイベント
REFRESH-INTERVAL;VALUE=DURATION:PT1H
X-Robots-Tag:noindex
X-PUBLISHED-TTL:PT1H
BEGIN:VTIMEZONE
TZID:Asia/Tokyo
BEGIN:STANDARD
TZOFFSETFROM:+0900
TZOFFSETTO:+0900
TZNAME:JST
DTSTART:20250101T000000
END:STANDARD
END:VTIMEZONE
BEGIN:VEVENT
DTSTART;VALUE=DATE:20250423
DTEND;VALUE=DATE:20250424
DTSTAMP:20260424T193635
CREATED:20250403T091127Z
LAST-MODIFIED:20250403T091202Z
UID:1159-1745366400-1745452799@events.toyota-mobi-toyama.jp
SUMMARY:【Y-town山室】アトリエワイタウン✐珈琲教室のご案内
DESCRIPTION:こんにちは\nY-town山室です☀ \n4月よりはじまりました🌱\n◤　アトリエワイタウン　◢ \n月に1度平日開催のワークショップ\n次回開催日のご案内です👐 \n第9回　4月23日(水)\n大和屋さんによる\nコーヒーの淹れ方教室☕\n \n時間🕜　　10時30分～(1時間～1時間30分を予定しています)\n定員　　　8名\n参加費用　　500円(税･材料費込み)\n※当日現金でのお支払いをお願い致します \n前回大好評でした大和屋さんによる出張珈琲教室\n第２弾を開催いたします！🎉\nハンドドリップで美味しく珈琲を淹れるコツはもちろん！！\n豆による風味の違いなども教えて下さります！！☕ \nご予約は下記フォームよりお願い致します\n \n山室店にご来店されたことがないお客様も大歓迎!\nご参加お待ちしております♡ \n─── ⋆⋅🚗⋅⋆ ─── \n \n \n \n \n \n \n \n \n \n─── ⋆⋅🚗⋅⋆ ───
URL:https://events.toyota-mobi-toyama.jp/event/%e3%80%90y-town%e5%b1%b1%e5%ae%a4%e3%80%91%e3%82%a2%e3%83%88%e3%83%aa%e3%82%a8%e3%83%af%e3%82%a4%e3%82%bf%e3%82%a6%e3%83%b3%e2%9c%90%e7%8f%88%e7%90%b2%e6%95%99%e5%ae%a4%e3%81%ae%e3%81%94%e6%a1%88/
LOCATION:Y-town山室\, 山室新町４１\, 富山市\, 富山県\, 939-8002\, 日本
CATEGORIES:ワークショップ,富山市内
ATTACH;FMTTYPE=image/png:https://events.toyota-mobi-toyama.jp/wp/wp-content/uploads/2025/04/4.23アトリエ-1.png
END:VEVENT
END:VCALENDAR