BEGIN:VCALENDAR
VERSION:2.0
PRODID:-//イベントカレンダー｜トヨタモビリティ富山｜店舗イベント情報 - ECPv6.8.1//NONSGML v1.0//EN
CALSCALE:GREGORIAN
METHOD:PUBLISH
X-ORIGINAL-URL:https://events.toyota-mobi-toyama.jp
X-WR-CALDESC:イベントカレンダー｜トヨタモビリティ富山｜店舗イベント情報 のイベント
REFRESH-INTERVAL;VALUE=DURATION:PT1H
X-Robots-Tag:noindex
X-PUBLISHED-TTL:PT1H
BEGIN:VTIMEZONE
TZID:Asia/Tokyo
BEGIN:STANDARD
TZOFFSETFROM:+0900
TZOFFSETTO:+0900
TZNAME:JST
DTSTART:20250101T000000
END:STANDARD
END:VTIMEZONE
BEGIN:VEVENT
DTSTART;VALUE=DATE:20250412
DTEND;VALUE=DATE:20250421
DTSTAMP:20260424T193634
CREATED:20250402T060216Z
LAST-MODIFIED:20250402T060417Z
UID:1145-1744416000-1745193599@events.toyota-mobi-toyama.jp
SUMMARY:【黒部】ダンボールめいろでエッグハントイベント🐇🌷
DESCRIPTION:トヨタモビリティ富山 黒部です🍅 \n\n  \n４／１２㈯～４／２０㈰ \nダンボールめいろでエッグハントイベント開催します🐇🥚🌷 \n  \n \n  \n黒部のショールームに巨大なダンボール迷路が登場！！！ \nダンボール迷路の中にはたくさんのイースターエッグが隠されています👀 \nたまご見つけて集めながら、制限時間内にゴールをめざそう🚩 \n\n  \n集めたたまごを割ると中からクジが😲✨✨ \nあたりの数だけおもちゃやお菓子をGet！！！ \n参加無料、予約不要なので \nどなたでもお気軽に遊びにきてください🥰🥰 \n  \nおまちしております💓 \n\n  \n 
URL:https://events.toyota-mobi-toyama.jp/event/%e3%80%90%e9%bb%92%e9%83%a8%e3%80%91%e3%83%80%e3%83%b3%e3%83%9c%e3%83%bc%e3%83%ab%e3%82%81%e3%81%84%e3%82%8d%e3%81%a7%e3%82%a8%e3%83%83%e3%82%b0%e3%83%8f%e3%83%b3%e3%83%88%e3%82%a4%e3%83%99%e3%83%b3/
LOCATION:黒部\, 荻生８７２７－１\, 黒部市\, 富山県\, 938-0801\, 日本
ATTACH;FMTTYPE=image/png:https://events.toyota-mobi-toyama.jp/wp/wp-content/uploads/2025/04/イースター黒部.png
END:VEVENT
END:VCALENDAR