BEGIN:VCALENDAR
VERSION:2.0
PRODID:-//イベントカレンダー｜トヨタモビリティ富山｜店舗イベント情報 - ECPv6.8.1//NONSGML v1.0//EN
CALSCALE:GREGORIAN
METHOD:PUBLISH
X-ORIGINAL-URL:https://events.toyota-mobi-toyama.jp
X-WR-CALDESC:イベントカレンダー｜トヨタモビリティ富山｜店舗イベント情報 のイベント
REFRESH-INTERVAL;VALUE=DURATION:PT1H
X-Robots-Tag:noindex
X-PUBLISHED-TTL:PT1H
BEGIN:VTIMEZONE
TZID:Asia/Tokyo
BEGIN:STANDARD
TZOFFSETFROM:+0900
TZOFFSETTO:+0900
TZNAME:JST
DTSTART:20250101T000000
END:STANDARD
END:VTIMEZONE
BEGIN:VEVENT
DTSTART;VALUE=DATE:20250323
DTEND;VALUE=DATE:20250324
DTSTAMP:20260424T210117
CREATED:20250302T084122Z
LAST-MODIFIED:20250305T081558Z
UID:1066-1742688000-1742774399@events.toyota-mobi-toyama.jp
SUMMARY:トヨタモビリティ富山Presents 富山グラウジーズホーム戦
DESCRIPTION:■イベント概要 \nhttps://grouses.jp/\n\n \n詳しい情報はリンク先よりご覧ください。
URL:https://events.toyota-mobi-toyama.jp/event/%e3%83%88%e3%83%a8%e3%82%bf%e3%83%a2%e3%83%93%e3%83%aa%e3%83%86%e3%82%a3%e5%af%8c%e5%b1%b1presents-%e5%af%8c%e5%b1%b1%e3%82%b0%e3%83%a9%e3%82%a6%e3%82%b8%e3%83%bc%e3%82%ba%e3%83%9b%e3%83%bc%e3%83%a0/
LOCATION:富山県
CATEGORIES:スポーツ,富山市内
END:VEVENT
END:VCALENDAR