BEGIN:VCALENDAR
VERSION:2.0
PRODID:-//イベントカレンダー｜トヨタモビリティ富山｜店舗イベント情報 - ECPv6.8.1//NONSGML v1.0//EN
CALSCALE:GREGORIAN
METHOD:PUBLISH
X-ORIGINAL-URL:https://events.toyota-mobi-toyama.jp
X-WR-CALDESC:イベントカレンダー｜トヨタモビリティ富山｜店舗イベント情報 のイベント
REFRESH-INTERVAL;VALUE=DURATION:PT1H
X-Robots-Tag:noindex
X-PUBLISHED-TTL:PT1H
BEGIN:VTIMEZONE
TZID:Asia/Tokyo
BEGIN:STANDARD
TZOFFSETFROM:+0900
TZOFFSETTO:+0900
TZNAME:JST
DTSTART:20250101T000000
END:STANDARD
END:VTIMEZONE
BEGIN:VEVENT
DTSTART;VALUE=DATE:20250215
DTEND;VALUE=DATE:20250303
DTSTAMP:20260424T210047
CREATED:20250202T022313Z
LAST-MODIFIED:20250202T022429Z
UID:888-1739577600-1740959999@events.toyota-mobi-toyama.jp
SUMMARY:SOTY✖️GARAGE  BIGFESTA を開催いたします~🐻🍫
DESCRIPTION:こんにちは😌🤍 \n\nランドマークSOTYです🎈🫶 \n\nいつもご覧いただきありがとうございます！ \n \n\💗イベントのお知らせです💗/ \n\n2月15日（土）〜3月2日（日） \nSOTY✖️GARAGE \nBIGFESTA \nを開催いたします~🐻🍫 \n \n୨ෆ୧┈┈┈┈┈┈┈┈┈┈┈┈┈┈୨ෆ୧ \n①ランドマークSOTYと \n\n中古車Garage富山にて、 \n\n成約•来店ガチャ抽選会を \n\n開催いたします💗😌 \n\n嬉しい景品が当たるかも？！ \n\n \n②お得なサービスメニューも！🔧 \n\n期間中特別価格でご案内いたします！ \n\nさらに！！！✨👀 \n\nチャットヨ会員又は \n\n当店のインスタフォロワーの方 \n\n限定価格もございます🛠️ \n \n③3月1日(土)&2日(日) \n\nタイヤ無料チェックも開催❕🚗 \n\n詳しくは画像をチェック✔️ \n \n\nご予約・お問い合わせは各店舗へ \n\nご気軽にお電話ください😉 \n新車・中古車の購入を \n\n検討中のお客様、ぜひ \n\nランドマークSOTY双代 \n\n中古車Garage富山へ \n\nお越しくださいませ🗣️✨ \n\n皆様のご来店をスタッフ一同 \n\n心よりお待ちしております🙂💗 \n  \n  \n 
URL:https://events.toyota-mobi-toyama.jp/event/888/
LOCATION:ランドマークSOTY双代\, 双代町１－６\, 富山市\, 富山県\, 930-0971\, 日本
CATEGORIES:その他,キッズ,ファミリー
ATTACH;FMTTYPE=image/png:https://events.toyota-mobi-toyama.jp/wp/wp-content/uploads/2025/02/ブログ.png
END:VEVENT
BEGIN:VEVENT
DTSTART;TZID=Asia/Tokyo:20250301T090000
DTEND;TZID=Asia/Tokyo:20250316T183000
DTSTAMP:20260424T210047
CREATED:20250301T010654Z
LAST-MODIFIED:20250307T010855Z
UID:1122-1740819600-1742149800@events.toyota-mobi-toyama.jp
SUMMARY:【魚津】春お迎え中古車フェア！🌸［3/1SAT-3/16SUN］
DESCRIPTION:こんにちは❣ \n\nご覧いただき \n\nありがとうございます \n\n(/・ω・)/⌒🌸 \n\n\n🌸┈┈┈┈┈┈┈┈┈┈┈🌸 \n春お迎え中古車フェア♡ \n2025.3.1 SAT-16 SUN \n🌸┈┈┈┈┈┈┈┈┈┈┈🌸 \n\n \n \n\n\n\n春に向けて中古車をお探し中の方必見！👀✨️ \n \nシエンタやルーミーなどのスライドカーに、 \n\nヤリスやアクアなどコンパクトカー🚘 \n\nさらにヤリスクロスやハリアーなどのSUVも❣️ \n\nキニナル中古車が勢揃いです🤩 \n\n \n期間中、新車•中古車•KINTOの \n\nいずれかをご成約いただくと、 \n全国のおいしいものがあたる \n\nご成約プルボードにチャレンジできます！✨️ \n\n \nお店に展示してある車両以外の中古車も \n\nWEBで検索ができます🎶 \n\nスタッフが一緒に中古車選びを \n\nお手伝いします！💪 \n\n\n※売約済み、商談中の場合はご容赦ください \n\n\n\n\n\n  \n\n\n\n\n\n\n\n\n\n\n\n\n\n\n\n\n\n\n\n\n\n\n\n\n【魚津 試乗車・展示車はこちら】 \n\n↓ \n\n🐈CLICK！  \n\n \n【魚津 店舗ブログはこちら】 \n↓ \n\n🐶CLICK！ \n\n \nトヨタモビリティ富山 魚津 \n\n\n富山県魚津市本江１０６３番地 \n\n\n\n\n\n\n  \n  \n  \n  \n  \n  \n  \n  \n  \n 
URL:https://events.toyota-mobi-toyama.jp/event/%e3%80%90%e9%ad%9a%e6%b4%a5%e3%80%91%e6%98%a5%e3%81%8a%e8%bf%8e%e3%81%88%e4%b8%ad%e5%8f%a4%e8%bb%8a%e3%83%95%e3%82%a7%e3%82%a2%ef%bc%81%f0%9f%8c%b8%ef%bc%bb3-1sat-3-16sun%ef%bc%bd/
LOCATION:富山県
CATEGORIES:キッズ,スポーツ,パブリックビューイング,ファミリー,ワークショップ,中古車,呉東
ATTACH;FMTTYPE=image/png:https://events.toyota-mobi-toyama.jp/wp/wp-content/uploads/2025/03/3月中古車フェア魚津-364-x-257-mm.png
END:VEVENT
END:VCALENDAR