BEGIN:VCALENDAR
VERSION:2.0
PRODID:-//イベントカレンダー｜トヨタモビリティ富山｜店舗イベント情報 - ECPv6.8.1//NONSGML v1.0//EN
CALSCALE:GREGORIAN
METHOD:PUBLISH
X-ORIGINAL-URL:https://events.toyota-mobi-toyama.jp
X-WR-CALDESC:イベントカレンダー｜トヨタモビリティ富山｜店舗イベント情報 のイベント
REFRESH-INTERVAL;VALUE=DURATION:PT1H
X-Robots-Tag:noindex
X-PUBLISHED-TTL:PT1H
BEGIN:VTIMEZONE
TZID:Asia/Tokyo
BEGIN:STANDARD
TZOFFSETFROM:+0900
TZOFFSETTO:+0900
TZNAME:JST
DTSTART:20250101T000000
END:STANDARD
END:VTIMEZONE
BEGIN:VEVENT
DTSTART;VALUE=DATE:20250212
DTEND;VALUE=DATE:20250213
DTSTAMP:20260424T222355
CREATED:20250117T072557Z
LAST-MODIFIED:20250204T030915Z
UID:863-1739318400-1739404799@events.toyota-mobi-toyama.jp
SUMMARY:第7回アトリエワイタウン✐【アイシングクッキー作り】
DESCRIPTION:こんにちは\nY-town山室です☀ \n  \n4月よりはじまりました🌱\n◤　アトリエワイタウン　◢ \n  \n月に1度平日開催のワークショップ次回開催日のご案内です👐 \n  \n第７回　２月１２日(水)\nバレンタインデー目前！！\nアイシングクッキー作り❤❤❤ \n  \n\n \n  \n\n講師　　sweet ribbon　松島樹里さん\n時間🕜　　10時30分～11時30分(予定)\n定員　　　8名\n参加費用　　1500円(税･材料費込み)\n※当日現金でのお支払いをお願い致します \nバレンタインデーにピッタリなアイシングクッキー作り！！\n \n下記フォームよりお申し込みをお願い致します！↓ \n\n\n\n \nY-town山室にご来店されたことのない方も大歓迎！！✋\nお友達連れでぜひご参加お待ちしております❤❤ \n─── ⋆⋅🚗⋅⋆ ───
URL:https://events.toyota-mobi-toyama.jp/event/%e7%ac%ac7%e5%9b%9e%e3%82%a2%e3%83%88%e3%83%aa%e3%82%a8%e3%83%af%e3%82%a4%e3%82%bf%e3%82%a6%e3%83%b3%e2%9c%90%e3%80%90%e3%82%a2%e3%82%a4%e3%82%b7%e3%83%b3%e3%82%b0%e3%82%af%e3%83%83%e3%82%ad%e3%83%bc/
LOCATION:Y-town山室\, 山室新町４１\, 富山市\, 富山県\, 939-8002\, 日本
CATEGORIES:ワークショップ,富山市内
ATTACH;FMTTYPE=image/png:https://events.toyota-mobi-toyama.jp/wp/wp-content/uploads/2025/01/2.12後リア.png
END:VEVENT
END:VCALENDAR