BEGIN:VCALENDAR
VERSION:2.0
PRODID:-//イベントカレンダー｜トヨタモビリティ富山｜店舗イベント情報 - ECPv6.8.1//NONSGML v1.0//EN
CALSCALE:GREGORIAN
METHOD:PUBLISH
X-WR-CALNAME:イベントカレンダー｜トヨタモビリティ富山｜店舗イベント情報
X-ORIGINAL-URL:https://events.toyota-mobi-toyama.jp
X-WR-CALDESC:イベントカレンダー｜トヨタモビリティ富山｜店舗イベント情報 のイベント
REFRESH-INTERVAL;VALUE=DURATION:PT1H
X-Robots-Tag:noindex
X-PUBLISHED-TTL:PT1H
BEGIN:VTIMEZONE
TZID:Asia/Tokyo
BEGIN:STANDARD
TZOFFSETFROM:+0900
TZOFFSETTO:+0900
TZNAME:JST
DTSTART:20250101T000000
END:STANDARD
END:VTIMEZONE
BEGIN:VEVENT
DTSTART;VALUE=DATE:20250107
DTEND;VALUE=DATE:20250113
DTSTAMP:20260425T000243
CREATED:20250108T014903Z
LAST-MODIFIED:20250108T015021Z
UID:837-1736208000-1736726399@events.toyota-mobi-toyama.jp
SUMMARY:🔴2025🔴  SOTY🎍GARAGE  🐍新春フェア🐍開催！！
DESCRIPTION:本年もどうぞよろしく \n\nお願い致します🚘🎍 \n1/7(火)から \n1/12(日)の間、 \n🔴2025🔴 \nSOTY🎍GARAGE \n🐍新春フェアを🐍 \n開催しております！🌅 \n  \n\nご来店されたお客様に \n\nサイコロ🎲の出た目の数だけ \n\nトイレットペーパー🧻を \n\nプレゼント！！！👏🏻☺️ \n\n※数に限りがあります。 \n\n※無くなり次第終了です。 \n  \n新車・中古車の購入を \n検討中のお客様、ぜひ \nランドマークSOTY双代 \n中古車Garage富山へ \nお越しくださいませ🗣️✨ \n 
URL:https://events.toyota-mobi-toyama.jp/event/837/
LOCATION:富山県
CATEGORIES:その他,ファミリー,富山市内
ATTACH;FMTTYPE=image/png:https://events.toyota-mobi-toyama.jp/wp/wp-content/uploads/2025/01/新春フェアブログ.png
END:VEVENT
BEGIN:VEVENT
DTSTART;TZID=Asia/Tokyo:20250112T140000
DTEND;TZID=Asia/Tokyo:20250112T150000
DTSTAMP:20260425T000243
CREATED:20241225T040533Z
LAST-MODIFIED:20241225T040648Z
UID:810-1736690400-1736694000@events.toyota-mobi-toyama.jp
SUMMARY:カターレ富山OB 堤健吾トークショー!!⚽️ ～カターレ富山の2024シーズンを振り返る～
DESCRIPTION:こんにちは❣ \n\nいつも魚津ブログをご覧いただき \n\nありがとうございます(/・ω・)/⌒ \n  \n\n✧*｡✧*｡ \nトヨタモビリティ富山魚津から、 \n\nみなさんにクリスマスプレゼント‎ \n \n来年1月の、 \nビッグイベントのお知らせです！❤️‍ \n  \n\n– – – – – – – – – – – \n\nカターレ富山OB \n\n堤健吾トークショー!!⚽️ \n\n～カターレ富山の2024シーズンを振り返る～ \n\n– – – – – – – – – – –  \n  \n\n \n\nカターレ富山のJ2昇格を記念して!! \n \nゲストは同じくカターレOBの、木本敬介さん＆窪田良さん!! \n  \n \n《イベント詳細》 \n\n◾︎2025/1/12(日)14:00START※13:00受付開始 \n\n◾︎参加費無料 \n \n◾︎定員50名※達し次第申込受付終了 \n \n◾︎予約制です⚠️ \n  \n \n《申込方法》 \n堤健吾トークショー申込 \n↑こちらのリンクからお申込みください。 \n \nお電話でも承ります。 \n0765-24-1616 \n  \n\n  \n  \n  \n  \n  \n  \n  \n  \n  \n\n\n\n\n\n\n\n  \n【魚津 試乗車・展示車はこちら】 \n\n↓ \n\nCLICK！  \n  \n \n【魚津 店舗ブログはこちら】 \n\n↓ \n\nCLICK！\n \n \nトヨタモビリティ富山 魚津 \n \n富山県魚津市本江１０６３番地 \n  \n  \n  \n  \n  \n  \n 
URL:https://events.toyota-mobi-toyama.jp/event/%e3%82%ab%e3%82%bf%e3%83%bc%e3%83%ac%e5%af%8c%e5%b1%b1ob-%e5%a0%a4%e5%81%a5%e5%90%be%e3%83%88%e3%83%bc%e3%82%af%e3%82%b7%e3%83%a7%e3%83%bc%e2%9a%bd%ef%b8%8f-%ef%bd%9e%e3%82%ab%e3%82%bf%e3%83%bc/
LOCATION:富山県
CATEGORIES:スポーツ,呉東
ATTACH;FMTTYPE=image/png:https://events.toyota-mobi-toyama.jp/wp/wp-content/uploads/2024/12/堤健吾トークショー（J2昇格ver.）.png
END:VEVENT
END:VCALENDAR