BEGIN:VCALENDAR
VERSION:2.0
PRODID:-//イベントカレンダー｜トヨタモビリティ富山｜店舗イベント情報 - ECPv6.8.1//NONSGML v1.0//EN
CALSCALE:GREGORIAN
METHOD:PUBLISH
X-ORIGINAL-URL:https://events.toyota-mobi-toyama.jp
X-WR-CALDESC:イベントカレンダー｜トヨタモビリティ富山｜店舗イベント情報 のイベント
REFRESH-INTERVAL;VALUE=DURATION:PT1H
X-Robots-Tag:noindex
X-PUBLISHED-TTL:PT1H
BEGIN:VTIMEZONE
TZID:Asia/Tokyo
BEGIN:STANDARD
TZOFFSETFROM:+0900
TZOFFSETTO:+0900
TZNAME:JST
DTSTART:20250101T000000
END:STANDARD
END:VTIMEZONE
BEGIN:VEVENT
DTSTART;VALUE=DATE:20250107
DTEND;VALUE=DATE:20250113
DTSTAMP:20260425T000440
CREATED:20250108T014903Z
LAST-MODIFIED:20250108T015021Z
UID:837-1736208000-1736726399@events.toyota-mobi-toyama.jp
SUMMARY:🔴2025🔴  SOTY🎍GARAGE  🐍新春フェア🐍開催！！
DESCRIPTION:本年もどうぞよろしく \n\nお願い致します🚘🎍 \n1/7(火)から \n1/12(日)の間、 \n🔴2025🔴 \nSOTY🎍GARAGE \n🐍新春フェアを🐍 \n開催しております！🌅 \n  \n\nご来店されたお客様に \n\nサイコロ🎲の出た目の数だけ \n\nトイレットペーパー🧻を \n\nプレゼント！！！👏🏻☺️ \n\n※数に限りがあります。 \n\n※無くなり次第終了です。 \n  \n新車・中古車の購入を \n検討中のお客様、ぜひ \nランドマークSOTY双代 \n中古車Garage富山へ \nお越しくださいませ🗣️✨ \n 
URL:https://events.toyota-mobi-toyama.jp/event/837/
LOCATION:富山県
CATEGORIES:その他,ファミリー,富山市内
ATTACH;FMTTYPE=image/png:https://events.toyota-mobi-toyama.jp/wp/wp-content/uploads/2025/01/新春フェアブログ.png
END:VEVENT
BEGIN:VEVENT
DTSTART;TZID=Asia/Tokyo:20250111T103000
DTEND;TZID=Asia/Tokyo:20250111T120000
DTSTAMP:20260425T000440
CREATED:20241227T031505Z
LAST-MODIFIED:20241227T031505Z
UID:819-1736591400-1736596800@events.toyota-mobi-toyama.jp
SUMMARY:魚津新春ししまい＆お餅つき🎍
DESCRIPTION:  \n\n\n❤️2025年イベント始め‎🤍\n1/11(土)魚津新春ししまい＆お餅つき🎍 \n \n  \n◾︎【10:30～ 沓掛ししまい演舞】 \n毎年恒例となっている、 \n\n黒部市沓掛の“沓掛獅子若連中”の \n\nみなさんによるししまい演舞！ \n\n獅子に頭を噛まれると、 \n\n厄除け効果で今年一年 \n\nより良く過ごせると言われています🤩  \n  \n\n◾︎【11:00～ 新春お餅つき】 \n魚津市のおもちやさん、 \n“源七”さんのおもちでお餅つき！🍡 \nどなたでもご参加いただけます🤩 \n\n一緒につきたてのお餅をいただきましょう🙏🏻✨️ \n  \n\n参加無料、予約不要のイベントです！ \n\nみなさまのご来店、 \n\n心よりお待ちしております🙈💛 \n  \n  \n  \n \n┈┈┈┈┈┈┈┈┈┈ \n\n\n\n🎍年末年始休業期間🎍 \n\n12/28(土)～1/6(月)は休業となります。 \n  \n  \n\n1/7(火)12時より営業開始します。 \n  \n  \n  \n  \n\n  \n  \n  \n  \n  \n\n\n\n\n\n\n【魚津 試乗車・展示車はこちら】 \n\n↓ \n\n🐈CLICK！  \n  \n  \n \n【魚津 店舗ブログはこちら】 \n\n↓ \n🐶CLICK！ \n \nトヨタモビリティ富山 魚津 \n\n \n富山県魚津市本江１０６３番地 \n  \n  \n  \n  \n  \n 
URL:https://events.toyota-mobi-toyama.jp/event/%e9%ad%9a%e6%b4%a5%e6%96%b0%e6%98%a5%e3%81%97%e3%81%97%e3%81%be%e3%81%84%ef%bc%86%e3%81%8a%e9%a4%85%e3%81%a4%e3%81%8d%f0%9f%8e%8d/
LOCATION:富山県
CATEGORIES:キッズ,ファミリー,呉東
ATTACH;FMTTYPE=image/png:https://events.toyota-mobi-toyama.jp/wp/wp-content/uploads/2024/12/ししまいもちつき.png
END:VEVENT
BEGIN:VEVENT
DTSTART;TZID=Asia/Tokyo:20250111T130000
DTEND;TZID=Asia/Tokyo:20250111T150000
DTSTAMP:20260425T000440
CREATED:20250108T012022Z
LAST-MODIFIED:20250108T012022Z
UID:825-1736600400-1736607600@events.toyota-mobi-toyama.jp
SUMMARY:アランマーレ富山🍊パブリックビューイング開催❗️
DESCRIPTION:アランマーレ富山🍊パブリックビューイング開催❗️ \n \n\nトヨタモビリティ富山 小杉の\nショールームにて放映いたします🎥 \nまた、ご来場プレゼントとして\nボックスティッシュをお配りします💫\n※数に限りがございます \n小杉のスタッフと一緒に\nアランマーレ富山を応援しましょう📣♥
URL:https://events.toyota-mobi-toyama.jp/event/%e3%82%a2%e3%83%a9%e3%83%b3%e3%83%9e%e3%83%bc%e3%83%ac%e5%af%8c%e5%b1%b1%f0%9f%8d%8a%e3%83%91%e3%83%96%e3%83%aa%e3%83%83%e3%82%af%e3%83%93%e3%83%a5%e3%83%bc%e3%82%a4%e3%83%b3%e3%82%b0%e9%96%8b/
LOCATION:小杉\, 戸破１７２３－１\, 射水市\, 富山県\, 939-0351\, 日本
CATEGORIES:スポーツ,パブリックビューイング,呉西
ATTACH;FMTTYPE=image/png:https://events.toyota-mobi-toyama.jp/wp/wp-content/uploads/2025/01/無題.png
END:VEVENT
END:VCALENDAR