BEGIN:VCALENDAR
VERSION:2.0
PRODID:-//イベントカレンダー｜トヨタモビリティ富山｜店舗イベント情報 - ECPv6.8.1//NONSGML v1.0//EN
CALSCALE:GREGORIAN
METHOD:PUBLISH
X-ORIGINAL-URL:https://events.toyota-mobi-toyama.jp
X-WR-CALDESC:イベントカレンダー｜トヨタモビリティ富山｜店舗イベント情報 のイベント
REFRESH-INTERVAL;VALUE=DURATION:PT1H
X-Robots-Tag:noindex
X-PUBLISHED-TTL:PT1H
BEGIN:VTIMEZONE
TZID:Asia/Tokyo
BEGIN:STANDARD
TZOFFSETFROM:+0900
TZOFFSETTO:+0900
TZNAME:JST
DTSTART:20240101T000000
END:STANDARD
END:VTIMEZONE
BEGIN:VEVENT
DTSTART;VALUE=DATE:20241101
DTEND;VALUE=DATE:20241201
DTSTAMP:20260425T025643
CREATED:20241107T014202Z
LAST-MODIFIED:20241107T014317Z
UID:685-1730419200-1733011199@events.toyota-mobi-toyama.jp
SUMMARY:AUTUMN FAIR FINAL!!おトクなサービスメニューです！
DESCRIPTION:こんにちは🚗≡\n\nランドマークSOTY双代です🌈♡\n\nランドマークSOTY双代&稲荷、\n\n中古車Garage富山では\n\n🍁––––––––––––––––––––\n\n 11月1日(金)～11月30日(土)\n\n AUTUMN FAIR FINAL‼️\n\n–––––––––––––––––––🍁\n\nを開催いたします！🙋🏻‍♂️🔧\n\n🛞タイヤ早期交換割🛞\n\nも引き続きございます‼️🙋🏻‍♂️\n\n今月はコーティング洗車🚘の\n\n📱チャットヨ会員📱\n\n限定メニューがございます🎵\n\n\nタイヤ交換のご予約・お問い合わせは\n\n各店舗へお気軽にお電話ください☎️🌞🧡\n\n皆様のご来店を心より \n\n\nお待ちしております🌼💁‍♀️
URL:https://events.toyota-mobi-toyama.jp/event/autumn-fair-final%e3%81%8a%e3%83%88%e3%82%af%e3%81%aa%e3%82%b5%e3%83%bc%e3%83%93%e3%82%b9%e3%83%a1%e3%83%8b%e3%83%a5%e3%83%bc%e3%81%a7%e3%81%99%ef%bc%81/
LOCATION:ランドマークSOTY双代\, 双代町１－６\, 富山市\, 富山県\, 930-0971\, 日本
CATEGORIES:その他,ファミリー,富山市内
ATTACH;FMTTYPE=image/png:https://events.toyota-mobi-toyama.jp/wp/wp-content/uploads/2024/09/ブログ.png
END:VEVENT
BEGIN:VEVENT
DTSTART;VALUE=DATE:20241107
DTEND;VALUE=DATE:20241201
DTSTAMP:20260425T025643
CREATED:20241107T011947Z
LAST-MODIFIED:20241107T012543Z
UID:678-1730937600-1733011199@events.toyota-mobi-toyama.jp
SUMMARY:AUTUMN FAIR　FINAL‼開催いたします！
DESCRIPTION:こんにちは！⭐🚗 \n\nランドマークＳＯＴＹ双代です👤💛 \n  \n🍁 AUTUM F A I R🍁 \n\nF I N A L✨を \n\n開催します🚙🌈 \n　 \n…2024.11.9(土)-11.30(土)… \n\n開催いたします🚗✨ \n  \n \n \nチラシ掲載車以外にも \n\n中古車ガレージ富山では、たくさんの \n\nクルマを展示しております！👀🚗 \n人気のおクルマはすでに商談予約が \n入っている場合がございます🙇‍♀️💦 \nお気軽にお問い合わせください😉 \n  \n最新の在庫車情報は \nトヨタモビリティ富山ホームページから \nご確認ください💁🏻‍♀️ \nhttps://toyota-mobi-toyama.jp/ \n皆様のご来店を心より \nお待ちしております🌼💁‍♀️ \n 
URL:https://events.toyota-mobi-toyama.jp/event/autumn-fair%e3%80%80final%e2%80%bc%e9%96%8b%e5%82%ac%e3%81%84%e3%81%9f%e3%81%97%e3%81%be%e3%81%99%ef%bc%81/
LOCATION:中古車Garage富山\, 田中町４－１８－３５\, 富山市\, 富山県\, 930-0985\, 日本
CATEGORIES:その他,ファミリー,中古車,富山市内
ATTACH;FMTTYPE=image/png:https://events.toyota-mobi-toyama.jp/wp/wp-content/uploads/2024/11/おもて.png
END:VEVENT
BEGIN:VEVENT
DTSTART;TZID=Asia/Tokyo:20241116T133000
DTEND;TZID=Asia/Tokyo:20241116T153000
DTSTAMP:20260425T025643
CREATED:20241101T020233Z
LAST-MODIFIED:20241101T020814Z
UID:663-1731763800-1731771000@events.toyota-mobi-toyama.jp
SUMMARY:ミニ四駆🚘KUROBE★CUP🏁（黒部）
DESCRIPTION:📢イベント告知📢 \nミニ四駆 \n\nKUROBE★CUP \n\n開催します🚘🏁 \n\nなんと今年３回目の開催です♥ \n \n\n\n▼イベント概要▼ \n\n日時：2024年11月16日（土） \n\n13:30～（受付13:00～）2時間程度 \n\n会場：トヨタモビリティ富山 黒部ショールーム \n\n対象：5歳以上のおこさまと保護者様 \n\n定員：6組（定員に達し次第締め切り） \n\n参加費：無料 \n\n\n\n\n\n今回も2つのコースをご用意しました😉 \n\n①持参＋カスタムコース \nカスタムパーツをご用意しますので、 \n\n過去のイベントで作成した \n\nミニ四駆をお持ちの方は \n\nぜひこちらにご参加ください👐 \n \n※持参の場合お店から \n\nミニ四駆の贈呈はございません \n\nご自身のミニ四駆をご持参ください🙏 \n\n\n\n②作成コ－ス \n親子でミニ四駆を作ります✨ \n\n作成に不安がある方はスタッフが \n\nお手伝いします！ \n\n作成したミニ四駆はプレゼントいたします🚘 \n\n初めての方も、また一から作りたい方も \n\n大歓迎です👐 \n\n \n\nミニ四駆が完成したら、 \n\n実際にコースを走らせてタイムを計ったり、 \n\nみんなで競争したりして楽しみましょう🎶 \n\n\n\n▼参加申し込み方法▼ \n\nこちらをクリック \n\n👇 \n申込みフォーム \n\n\nまたはこちらの \n\n二次元コードを読み取り \n\n👇 \n \n\n応募フォームに必要事項を入力の上 \n\nお申し込みください \n\n \n☎お電話 \n\n📞0765-54-3111 \n\n＊営業時間 \n\n平日　9:30-18:30 \n\n土日　9:00-18:30 \n\n定休日 \n\n月曜、11/5㈫ \n\n\n\nぜひぜひご参加くださーい🥰 \n\nご応募お待ちしております♥ \n\n\n\n  \n  \n  \n  \n  \n  \n  \n  \n  \n  \n  \n  \n  \n  \n  \n  \n  \n  \n  \n  \n  \n  \n  \n 
URL:https://events.toyota-mobi-toyama.jp/event/%e3%83%9f%e3%83%8b%e5%9b%9b%e9%a7%86%f0%9f%9a%98kurobe%e2%98%85cup%f0%9f%8f%81%ef%bc%88%e9%bb%92%e9%83%a8%ef%bc%89/
LOCATION:黒部\, 荻生８７２７－１\, 黒部市\, 富山県\, 938-0801\, 日本
CATEGORIES:キッズ,ワークショップ,呉東
ATTACH;FMTTYPE=image/png:https://events.toyota-mobi-toyama.jp/wp/wp-content/uploads/2024/11/1.png
END:VEVENT
END:VCALENDAR