BEGIN:VCALENDAR
VERSION:2.0
PRODID:-//イベントカレンダー｜トヨタモビリティ富山｜店舗イベント情報 - ECPv6.8.1//NONSGML v1.0//EN
CALSCALE:GREGORIAN
METHOD:PUBLISH
X-ORIGINAL-URL:https://events.toyota-mobi-toyama.jp
X-WR-CALDESC:イベントカレンダー｜トヨタモビリティ富山｜店舗イベント情報 のイベント
REFRESH-INTERVAL;VALUE=DURATION:PT1H
X-Robots-Tag:noindex
X-PUBLISHED-TTL:PT1H
BEGIN:VTIMEZONE
TZID:Asia/Tokyo
BEGIN:STANDARD
TZOFFSETFROM:+0900
TZOFFSETTO:+0900
TZNAME:JST
DTSTART:20240101T000000
END:STANDARD
END:VTIMEZONE
BEGIN:VEVENT
DTSTART;TZID=Asia/Tokyo:20240929T080000
DTEND;TZID=Asia/Tokyo:20241031T170000
DTSTAMP:20260425T054757
CREATED:20240929T030343Z
LAST-MODIFIED:20241001T014355Z
UID:529-1727596800-1730394000@events.toyota-mobi-toyama.jp
SUMMARY:👻AUTUMN　FAIR👻Part2開催！（ランドマークSOTY）
DESCRIPTION:こんにちは！⭐🚗 \n\nランドマークＳＯＴＹ双代です👤💛 \n\n👻 AUTUM F A I R👻 \n\nPart2 \nを開催します🚙🌈 \n　 \n…2024.10.05(土)-10.31(水)… \n\n開催いたします🚗✨ \n \n🔊富山県民の皆さま！！🎤 \n \n毎年タイヤ交換を先延ばしにして \n\n雪が降り出してから慌てて駆け込み🏃‍♂️💨！ \n\nなんて方も多いのでは…😭😭😭 \n\nこれからの時期は当店も \n\nタイヤ交換シーズンのピークを迎えるため \n\n駆け込みのお客様をお断りしなければ \n\nならないケースもございます…🥶🕳️ \n \nな・の・でっ！！！ \n\n早めにタイヤ交換してしまいましょうっ✊🏻🥹💯 \n \nランドマークSOTY双代&稲荷、 \n\n中古車Garage富山では \n\n✨🛞タイヤ早期交換割をスタートいたします🛞✨ \n\n詳細は画像をチェック☑️📱 \n \n👑お得意様限定MENU👑 \nさらに期間中、あんしん10検／12か月点検／車検と \n同時にタイヤ交換も一緒にされると… \nコーティング洗車を無料サービス！！🚗✨🧽 \nさらに！！ \n\n✨🛞タイヤ早期交換割🛞✨も適応いたします！ \n📱チャットヨ会員様限定MENU📱 \nチャットヨ会員画面提示📱 \n\nもしくは \nその場で会員登録されると \nバッテリーを20%OFF！！🚗✨🧽 \n\n(例)バッテリー型番LN1(プリウス50系など) \n\n通常価格36\,520円⇒29\,216円に！！ \n\n※別途工賃がかかります🔧 \n\nタイヤ交換のご予約・お問い合わせは \n\n各店舗へお気軽にお電話ください☎️🌞🧡\n \n \nそして！！ \n\n10月５日‐６日には \n\nauイベントも開催いたします📱 \n \n📱ケータイ･スマホ料金診断会 \n\n【受付】 \n\n⭐️9:00〜15:30 \n　　(16:00終了) \n\nau専任スタッフがあなたに合った料金プランを \n\n無料診断いたします‼︎📱✨💰 \n📱ガラポン抽選会🪀 \n\nアンケート回答のうえ、 \n\nガラポンをまわして景品をGETしよう🌝⭐️ \n \n※お１人様１回限り。数に限りがございます。 \n\nなくなり次第終了となります。 \n皆様のご来店を心より \n\nお待ちしております🌼💁‍♀️ \n \n  \n  \n  \n  \n  \n  \n  \n  \n  \n  \n  \n  \n  \n  \n  \n 
URL:https://events.toyota-mobi-toyama.jp/event/529/
LOCATION:ランドマークSOTY双代\, 双代町１－６\, 富山市\, 富山県\, 930-0971\, 日本
CATEGORIES:その他,ファミリー,富山市内
ATTACH;FMTTYPE=image/png:https://events.toyota-mobi-toyama.jp/wp/wp-content/uploads/2024/09/auブログ.png
END:VEVENT
BEGIN:VEVENT
DTSTART;VALUE=DATE:20241019
DTEND;VALUE=DATE:20241101
DTSTAMP:20260425T054757
CREATED:20241024T065641Z
LAST-MODIFIED:20241024T065751Z
UID:618-1729296000-1730419199@events.toyota-mobi-toyama.jp
SUMMARY:ハロウィンフェア（Y-town山室）
DESCRIPTION:こんにちは\nY-town山室です🌈 \n先日からご案内しております\nハロウィンフェア\nいよいよ明日から開催です！\n \n期間中はたのしいイベントもご用意！🚘♡ \n大人も子ども楽しめるミニゲーム❕\nプルバックミニカーチャレンジ🚘💨\n \nご参加には、Instagramのフォロー\nもしくはチャットヨ会員登録をお願い致します❣ \nハロウィン工作\nスパイダーキャンディー作り\n \nこちらは参加費無料です\nぜひ、作ってみてね～♡♡♡ \n期間中は中古車フェアも開催しております \n・・・・イベント期間・・・・\n10月19日㈯～31日㈭\n※21日㈪・28日㈪は定休日 \nみなさまのご来場お待ちしております!! \n─── ⋆⋅🚗⋅⋆ ───
URL:https://events.toyota-mobi-toyama.jp/event/%e3%83%8f%e3%83%ad%e3%82%a6%e3%82%a3%e3%83%b3%e3%83%95%e3%82%a7%e3%82%a2%ef%bc%88y-town%e5%b1%b1%e5%ae%a4%ef%bc%89/
LOCATION:Y-town山室\, 山室新町４１\, 富山市\, 富山県\, 939-8002\, 日本
CATEGORIES:キッズ,ファミリー,富山市内
ATTACH;FMTTYPE=image/jpeg:https://events.toyota-mobi-toyama.jp/wp/wp-content/uploads/2024/10/image-4.jpg
END:VEVENT
BEGIN:VEVENT
DTSTART;TZID=Asia/Tokyo:20241022T130000
DTEND;TZID=Asia/Tokyo:20241027T153000
DTSTAMP:20260425T054757
CREATED:20241005T024530Z
LAST-MODIFIED:20241024T065838Z
UID:576-1729602000-1730043000@events.toyota-mobi-toyama.jp
SUMMARY:ＳＰＯＲＴＳ　ＳＰＯＴ　スポスポ開催！（Gスクエア五福）
DESCRIPTION:こんにちは！Ｇスクエア五福です💛 \n３月に開催させていただいた「ＳＰＯＲＴＳ ＳＰＯＴ スポスポ」\nとても好評いただきまして、再びＧスクエア五福にて開催を決定致しました！ \n \n💡スポスポって何？ \n🧭ご予約はコチラからも出来ます！ \nＧスクエア五福でお子様の「運動能力の特徴や自分向きのスポーツ」がわかる！\n最新の測定機材を使った「スポーツ能力測定会」をこの機会に是非体験してみませんか？🏋🏻‍♀️🏋🏻‍♂️ \n参加費は無料です！皆様のご予約お待ちしてます🤍
URL:https://events.toyota-mobi-toyama.jp/event/%ef%bd%93%ef%bd%90%ef%bd%8f%ef%bd%92%ef%bd%94%ef%bd%93%e3%80%80%ef%bd%93%ef%bd%90%ef%bd%8f%ef%bd%94%e3%80%80%e3%82%b9%e3%83%9d%e3%82%b9%e3%83%9d%e9%96%8b%e5%82%ac%ef%bc%81/
LOCATION:Gスクエア五福\, 五福末広町１２３８\, 富山市\, 富山県\, 930-0884\, 日本
CATEGORIES:キッズ,スポーツ,ファミリー,呉東,富山市内
ATTACH;FMTTYPE=image/png:https://events.toyota-mobi-toyama.jp/wp/wp-content/uploads/2024/10/スライド1-1.png
END:VEVENT
END:VCALENDAR