BEGIN:VCALENDAR
VERSION:2.0
PRODID:-//イベントカレンダー｜トヨタモビリティ富山｜店舗イベント情報 - ECPv6.8.1//NONSGML v1.0//EN
CALSCALE:GREGORIAN
METHOD:PUBLISH
X-WR-CALNAME:イベントカレンダー｜トヨタモビリティ富山｜店舗イベント情報
X-ORIGINAL-URL:https://events.toyota-mobi-toyama.jp
X-WR-CALDESC:イベントカレンダー｜トヨタモビリティ富山｜店舗イベント情報 のイベント
REFRESH-INTERVAL;VALUE=DURATION:PT1H
X-Robots-Tag:noindex
X-PUBLISHED-TTL:PT1H
BEGIN:VTIMEZONE
TZID:Asia/Tokyo
BEGIN:STANDARD
TZOFFSETFROM:+0900
TZOFFSETTO:+0900
TZNAME:JST
DTSTART:20240101T000000
END:STANDARD
END:VTIMEZONE
BEGIN:VEVENT
DTSTART;VALUE=DATE:20240822
DTEND;VALUE=DATE:20240823
DTSTAMP:20260425T070053
CREATED:20240731T052817Z
LAST-MODIFIED:20240731T052817Z
UID:320-1724284800-1724371199@events.toyota-mobi-toyama.jp
SUMMARY:第4回アトリエワイタウン✐【ビーズアクセサリー】
DESCRIPTION:こんにちは\nY-town山室です☀ \n4月よりはじまりました🌱\n◤　アトリエワイタウン　◢ \n月に1度平日開催のワークショップ\n次回開催日のご案内です👐 \n第4回　8月22日(木)\nビーズアクセサリー作り\n \n講師　　manma2021 さん\n時間🕜　　10時30分～11時30分(予定)\n定員　　　8名\n参加費用　　ブレスレッド・・1500円(税･材料費込み)\nピアス・・1500円(税･材料費込み)\nネックレス・・２000円(税･材料費込み)\n※当日現金 or PayPayでのお支払いをお願いいたします。\n※ブレスレッドorピアスorネックレスはお申込み時にご選択ください。 \nファッションのワンポイントにも!!♦\n自分で作るオリジナルアクセサリー🌈\n講師は夏フェスでもご協力くださいました⤵\n@manma2021　さんです \nご予約はコチラから!!↓↓\n \nGoogleフォームよりお申込みください。 \n山室店にご来店されたことがないお客様も大歓迎!\nご参加お待ちしております♡
URL:https://events.toyota-mobi-toyama.jp/event/%e7%ac%ac4%e5%9b%9e%e3%82%a2%e3%83%88%e3%83%aa%e3%82%a8%e3%83%af%e3%82%a4%e3%82%bf%e3%82%a6%e3%83%b3%e2%9c%90%e3%80%90%e3%83%93%e3%83%bc%e3%82%ba%e3%82%a2%e3%82%af%e3%82%bb%e3%82%b5%e3%83%aa%e3%83%bc/
LOCATION:Y-town山室\, 山室新町４１\, 富山市\, 富山県\, 939-8002\, 日本
CATEGORIES:ワークショップ,富山市内
ATTACH;FMTTYPE=image/png:https://events.toyota-mobi-toyama.jp/wp/wp-content/uploads/2024/07/image-6.png
END:VEVENT
END:VCALENDAR