BEGIN:VCALENDAR
VERSION:2.0
PRODID:-//イベントカレンダー｜トヨタモビリティ富山｜店舗イベント情報 - ECPv6.8.1//NONSGML v1.0//EN
CALSCALE:GREGORIAN
METHOD:PUBLISH
X-ORIGINAL-URL:https://events.toyota-mobi-toyama.jp
X-WR-CALDESC:イベントカレンダー｜トヨタモビリティ富山｜店舗イベント情報 のイベント
REFRESH-INTERVAL;VALUE=DURATION:PT1H
X-Robots-Tag:noindex
X-PUBLISHED-TTL:PT1H
BEGIN:VTIMEZONE
TZID:Asia/Tokyo
BEGIN:STANDARD
TZOFFSETFROM:+0900
TZOFFSETTO:+0900
TZNAME:JST
DTSTART:20240101T000000
END:STANDARD
END:VTIMEZONE
BEGIN:VEVENT
DTSTART;VALUE=DATE:20240804
DTEND;VALUE=DATE:20240805
DTSTAMP:20260425T070140
CREATED:20240730T040325Z
LAST-MODIFIED:20240730T040417Z
UID:317-1722729600-1722815999@events.toyota-mobi-toyama.jp
SUMMARY:イロドリトナミ🌈  🎹🎵 《 MUSIC CONCERT 》🎵🎹
DESCRIPTION:こんにちは🤗💕\nトヨタモビリティ富山 砺波です🌷 \n☁️ August ・Event Information ！☁️ \n○ 8/4(Sun)\n▶︎▶︎▶︎ イロドリトナミ🌈\n🎹🎵 《 MUSIC CONCERT 》🎵🎹 \n\n \n「ミューゼ音楽教室」の生徒さん達による、\n音楽コンサートをトヨタモビリティ富山 砺波にて開催🎼✨ \n生徒さん達のピアノ演奏🎹はもちろん、\n歌やカスタネット演奏まで披露してくださります👦🏻👩🏻🎶 \n皆様お馴染みの流行りのあの曲も披露してくださりますよ🤭🧡\n入場料無料で、どなたでも大歓迎🙆🏼‍♀️🙌🏻\nぜひ見にいらしてください🫶🏻🎵 \n▪️8月4日(日)▪️\n第1部　10:30〜12:00\n第2部　13:30〜15:00 \n○ 8/3(Sat)-8/11(Sun)\n中古車祭🚗‼️\nおすすめ中古車をドーンと展示💥\n実際に現車を見てみてくださいね👀✨ \n8月も、皆様のご来店お待ちしております🍉♡ \nトヨタモビリティ富山 砺波\n📍富山県砺波市太郎丸3丁目50\n📞0763-33-4141 \n▶︎営業時間\n(平日)9:30〜18:30\n【サービス工場は17:00まで(受付16:30まで)】\n(土日)9:00〜18:30\n【サービス工場は17:30まで(受付17:00まで)】 \n୨୧┈┈┈┈┈┈┈┈┈┈┈┈┈┈┈┈┈୨୧
URL:https://events.toyota-mobi-toyama.jp/event/%e3%82%a4%e3%83%ad%e3%83%89%e3%83%aa%e3%83%88%e3%83%8a%e3%83%9f%f0%9f%8c%88-%f0%9f%8e%b9%f0%9f%8e%b5-%e3%80%8a-music-concert-%e3%80%8b%f0%9f%8e%b5%f0%9f%8e%b9/
LOCATION:砺波\, 太郎丸３－５０\, 砺波市\, 富山県\, 939-1363\, 日本
CATEGORIES:キッズ,ファミリー,呉西
ATTACH;FMTTYPE=image/png:https://events.toyota-mobi-toyama.jp/wp/wp-content/uploads/2024/07/image-5.png
END:VEVENT
BEGIN:VEVENT
DTSTART;TZID=Asia/Tokyo:20240804T100000
DTEND;TZID=Asia/Tokyo:20240804T160000
DTSTAMP:20260425T070140
CREATED:20240630T065013Z
LAST-MODIFIED:20240730T053751Z
UID:181-1722765600-1722787200@events.toyota-mobi-toyama.jp
SUMMARY:携帯電話料金診断会（魚津）
DESCRIPTION:8/4(日)\nトヨタモビリティ富山　魚津にて\n携帯電話料金診断会を開催します📱👩🏻‍💼👨🏻‍💼 \n \n皆さん定期的に家計の見直しはされていますか？\n携帯電話の相談に行きたいけど時間がないな、\n予約が取れないな、なんてことはありませんか？\nトヨタモビリティ富山なら、点検の待ち時間にいつでも携帯電話の相談ができます！ \nクルマ🚗もスマホ📱もトヨタのお店で✨ \n皆様のご来店心よりお待ちしております🌼 \n▶︎営業時間\n(平日)9:30〜18:30\n【サービス工場は17:30まで(受付17:00まで)】\n(土日)9:00〜18:30\n【サービス工場は17:00まで(受付16:30まで)】
URL:https://events.toyota-mobi-toyama.jp/event/%e6%90%ba%e5%b8%af%e9%9b%bb%e8%a9%b1%e6%96%99%e9%87%91%e8%a8%ba%e6%96%ad%e4%bc%9a%ef%bc%88%e9%ad%9a%e6%b4%a5%ef%bc%89/
LOCATION:魚津\, 本江１０６３\, 魚津市\, 富山県\, 937-0805\, 日本
CATEGORIES:その他,呉東
ATTACH;FMTTYPE=image/png:https://events.toyota-mobi-toyama.jp/wp/wp-content/uploads/2024/06/無題.png
END:VEVENT
BEGIN:VEVENT
DTSTART;TZID=Asia/Tokyo:20240804T100000
DTEND;TZID=Asia/Tokyo:20240804T163000
DTSTAMP:20260425T070140
CREATED:20240714T035835Z
LAST-MODIFIED:20240714T035943Z
UID:265-1722765600-1722789000@events.toyota-mobi-toyama.jp
SUMMARY:プログラミング体験教室（魚津）
DESCRIPTION:イベント参加募集🌟\n︶︶︶︶︶︶︶︶︶︶ \n\親子で楽しむ/\nプログラミング体験教室\n自動ブレーキカーを走らせよう！🏎 \n \n \n【イベント概要】\n日時：\n2024/8/4(日)\n①10:00～11:15\n②13:15～14:30\n③15:00～16:15\n※30分前から受付を開始します。 \n定員：\n各回5組 \n参加費：\n無料 \n対象：\n6歳～12歳のお子さま\n※必ず保護者の方付き添いでの\nご参加をお願いします。 \n開催場所：\nトヨタモビリティ富山 魚津\n魚津市本江1063番地 \n【申し込み方法】事前予約制\nこちらのリンクから、\n↘↘応募フォームにアクセスしてください💡↙↙\nプログラミング体験教室応募フォーム \n◾︎お電話でも承ります🎶\n📞0765-24-1616 \n想像力と独創力で、\n遊びながら学べる内容になっています🤗\n大人の方も充分楽しめる体験ですので、\nぜひお気軽にご参加ください🥰
URL:https://events.toyota-mobi-toyama.jp/event/%e3%83%97%e3%83%ad%e3%82%b0%e3%83%a9%e3%83%9f%e3%83%b3%e3%82%b0%e4%bd%93%e9%a8%93%e6%95%99%e5%ae%a4%ef%bc%88%e9%ad%9a%e6%b4%a5%ef%bc%89/
LOCATION:魚津\, 本江１０６３\, 魚津市\, 富山県\, 937-0805\, 日本
CATEGORIES:キッズ,ファミリー,呉東
ATTACH;FMTTYPE=image/png:https://events.toyota-mobi-toyama.jp/wp/wp-content/uploads/2024/07/image-1.png
END:VEVENT
END:VCALENDAR