BEGIN:VCALENDAR
VERSION:2.0
PRODID:-//イベントカレンダー｜トヨタモビリティ富山｜店舗イベント情報 - ECPv6.8.1//NONSGML v1.0//EN
CALSCALE:GREGORIAN
METHOD:PUBLISH
X-ORIGINAL-URL:https://events.toyota-mobi-toyama.jp
X-WR-CALDESC:イベントカレンダー｜トヨタモビリティ富山｜店舗イベント情報 のイベント
REFRESH-INTERVAL;VALUE=DURATION:PT1H
X-Robots-Tag:noindex
X-PUBLISHED-TTL:PT1H
BEGIN:VTIMEZONE
TZID:Asia/Tokyo
BEGIN:STANDARD
TZOFFSETFROM:+0900
TZOFFSETTO:+0900
TZNAME:JST
DTSTART:20240101T000000
END:STANDARD
END:VTIMEZONE
BEGIN:VEVENT
DTSTART;VALUE=DATE:20240803
DTEND;VALUE=DATE:20240804
DTSTAMP:20260425T070139
CREATED:20240721T030432Z
LAST-MODIFIED:20240721T030432Z
UID:299-1722643200-1722729599@events.toyota-mobi-toyama.jp
SUMMARY:💻ロボットプログラミング体験会のお知らせ🤖
DESCRIPTION:トヨタモビリティ富山黒部です🚩 \nイベントのお知らせです📢\n\親子で楽しむ！/\nプログラミング体験会\n自動ブレーキカーを走らせよう🚗 \n \n【イベント概要】\n日時：2024/8/3(土)\n①10:00～11:15\n②13:15～14:30\n③15:00～16:15\n※30分前から受付を開始します。 \n定員：各回5名さま\n参加費：無料\n対象：年長～小学生のお子さま\n※保護者の方付き添いでのご参加をお願いします。 \n開催場所：トヨタモビリティ富山 黒部\n📍黒部市荻生8727-1 \n【申し込み方法】 \n👉こちらをクリック \nまたは二次元コード読み取り🔍 \n \n※インスタグラムのプロフィールのハイライトにもリンク載せてあります🙆‍♀️ \n◾︎お電話でも承ります🎶\n📞０７６５－５４－３１１１ \nプログラミングの基礎を学び、タブレットを使用して遊びながら学べる内容になっています💻\n必要な機器は準備いたしますので、プログラミング未経験のお子さまも大歓迎🙌\n参加無料となっていますのでお気軽にご応募ください😊💓 \n—————-\nまた、当日はケータイ・スマホ相談会も開催しています！\n8/3(土) 10:00～16:00(最終受付15:00)\nご家庭の通信費を無料で見直してみませんか？\nご予約不要です！\n気軽に相談してください🥳
URL:https://events.toyota-mobi-toyama.jp/event/%f0%9f%92%bb%e3%83%ad%e3%83%9c%e3%83%83%e3%83%88%e3%83%97%e3%83%ad%e3%82%b0%e3%83%a9%e3%83%9f%e3%83%b3%e3%82%b0%e4%bd%93%e9%a8%93%e4%bc%9a%e3%81%ae%e3%81%8a%e7%9f%a5%e3%82%89%e3%81%9b%f0%9f%a4%96/
LOCATION:黒部\, 荻生８７２７－１\, 黒部市\, 富山県\, 938-0801\, 日本
CATEGORIES:キッズ,ファミリー,呉東
ATTACH;FMTTYPE=image/jpeg:https://events.toyota-mobi-toyama.jp/wp/wp-content/uploads/2024/07/image-3.jpg
END:VEVENT
BEGIN:VEVENT
DTSTART;TZID=Asia/Tokyo:20240803T100000
DTEND;TZID=Asia/Tokyo:20240803T160000
DTSTAMP:20260425T070139
CREATED:20240630T062816Z
LAST-MODIFIED:20240730T054214Z
UID:177-1722679200-1722700800@events.toyota-mobi-toyama.jp
SUMMARY:携帯電話料金診断会（黒部）
DESCRIPTION:8/3(土)\nトヨタモビリティ富山　黒部にて\n携帯電話料金診断会を開催します📱👩🏻‍💼👨🏻‍💼 \n \n皆さん定期的に家計の見直しはされていますか？\n携帯電話の相談に行きたいけど時間がないな、\n予約が取れないな、なんてことはありませんか？\nトヨタモビリティ富山なら、点検の待ち時間にいつでも携帯電話の相談ができます！ \nクルマ🚗もスマホ📱もトヨタのお店で✨ \n皆様のご来店心よりお待ちしております🌼 \n▶︎営業時間\n(平日)9:30〜18:30\n【サービス工場は17:30まで(受付17:00まで)】\n(土日)9:00〜18:30\n【サービス工場は17:00まで(受付16:30まで)】
URL:https://events.toyota-mobi-toyama.jp/event/%e6%90%ba%e5%b8%af%e9%9b%bb%e8%a9%b1%e6%96%99%e9%87%91%e8%a8%ba%e6%96%ad%e4%bc%9a%ef%bc%88%e9%bb%92%e9%83%a8%ef%bc%89/
LOCATION:黒部\, 荻生８７２７－１\, 黒部市\, 富山県\, 938-0801\, 日本
CATEGORIES:その他,呉東
ATTACH;FMTTYPE=image/png:https://events.toyota-mobi-toyama.jp/wp/wp-content/uploads/2024/06/4-1.png
END:VEVENT
END:VCALENDAR