BEGIN:VCALENDAR
VERSION:2.0
PRODID:-//イベントカレンダー｜トヨタモビリティ富山｜店舗イベント情報 - ECPv6.8.1//NONSGML v1.0//EN
CALSCALE:GREGORIAN
METHOD:PUBLISH
X-WR-CALNAME:イベントカレンダー｜トヨタモビリティ富山｜店舗イベント情報
X-ORIGINAL-URL:https://events.toyota-mobi-toyama.jp
X-WR-CALDESC:イベントカレンダー｜トヨタモビリティ富山｜店舗イベント情報 のイベント
REFRESH-INTERVAL;VALUE=DURATION:PT1H
X-Robots-Tag:noindex
X-PUBLISHED-TTL:PT1H
BEGIN:VTIMEZONE
TZID:Asia/Tokyo
BEGIN:STANDARD
TZOFFSETFROM:+0900
TZOFFSETTO:+0900
TZNAME:JST
DTSTART:20250101T000000
END:STANDARD
END:VTIMEZONE
BEGIN:VEVENT
DTSTART;VALUE=DATE:20251213
DTEND;VALUE=DATE:20251215
DTSTAMP:20260424T064222
CREATED:20251111T065631Z
LAST-MODIFIED:20251207T002015Z
UID:1663-1765584000-1765756799@events.toyota-mobi-toyama.jp
SUMMARY:🎄トヨタモビリティ富山 クリスマスフェス2025（全店舗）🎄
DESCRIPTION:🎄🎅🎄🎅🎄🎅🎄🎅🎄🎅🎄🎅🎄🎅🎄🎅🎄🎅🎄🎅🎄🎅🎄🎅🎄🎅 \nトヨタモビリティ富山では12月13日（土）14日（日）にクリスマスフェスを開催します🎉 \n \n各店舗の楽しいイベントは順次公開中です！ \n店舗名をクリックすると各店舗のイベントを確認することができます。 \nランドマークSOTY双代 \nGスクエア五福 \nY-town山室 \n富山南 \n富山みらい北 \n高岡 \n高岡駅南 \nSeul高岡南 \n小杉 \n砺波 \n魚津 \n黒部 \n  \nまた、全店舗実施のイベントをご紹介します✨ \n・ \n・ \nお店へご来店いただき、アンケートに回答いただくと \nトヨタモビリティ富山 マスコットキャラクターのティモティオリジナルエコバックをプレゼントします🎁 \n一足先にクリスマス気分はいかがでしょうか？ \n各店舗のイベント内容は随時更新していきますのでお見逃しなく！👀 \n🎄🎅🎄🎅🎄🎅🎄🎅🎄🎅🎄🎅🎄🎅🎄🎅🎄🎅🎄🎅🎄🎅🎄🎅🎄🎅
URL:https://events.toyota-mobi-toyama.jp/event/%f0%9f%8e%84%e3%83%88%e3%83%a8%e3%82%bf%e3%83%a2%e3%83%93%e3%83%aa%e3%83%86%e3%82%a3%e5%af%8c%e5%b1%b1-%e3%82%af%e3%83%aa%e3%82%b9%e3%83%9e%e3%82%b9%e3%83%95%e3%82%a7%e3%82%b92025%ef%bc%88%e5%85%a8/
LOCATION:富山県
CATEGORIES:キッズ,クリスマスフェス,ファミリー
ATTACH;FMTTYPE=image/jpeg:https://events.toyota-mobi-toyama.jp/wp/wp-content/uploads/2025/11/25_A_576_384_01.jpg
END:VEVENT
BEGIN:VEVENT
DTSTART;VALUE=DATE:20251213
DTEND;VALUE=DATE:20251215
DTSTAMP:20260424T064222
CREATED:20251203T064321Z
LAST-MODIFIED:20251203T064407Z
UID:1758-1765584000-1765756799@events.toyota-mobi-toyama.jp
SUMMARY:🎅【Y-town山室】X' MAS FES開催のご案内🎄
DESCRIPTION:日頃よりY-town山室をご利用下さり\n誠にありがとうございます♡ \n今年最後のイベントのご案内です \nX’ MAS FES 2025\n12月13日ｰ14日に開催致します！！ \n \n◇クリスマスガチャ🎄\nティモティクラブ・ティモティペイ・ティモティチャット\nJAF・JAFアプリ・Instagramフォロー\nいづれか達成でガチャガチャに参加！！ \n冬に役立つ便利グッズがあたる⛄ \n◇お菓子つかみ取り \n※お子さま限定\n※なくなり次第終了 \n◇オリジナルクリスマスブーツ作り\nつかみ取りでGETしたお菓子をつめて\n自分だけのオリジナル長靴ブーツを作ろう！！♡ \n💰参加費無料\n⌚制作時間10分～\n※なくなり次第終了 \n詳しくはInstagramにて随時お知らせいたします！🎅\nぜひ、Instagramをフォローしてお待ち下さい♡ \nみなさまのご来店\nお待ちしております！！ \n─── ⋆⋅🚗⋅⋆ ─── \n \n \n \n \n \n \n \n \n \n─── ⋆⋅🚗⋅⋆ ───  
URL:https://events.toyota-mobi-toyama.jp/event/%f0%9f%8e%85%e3%80%90y-town%e5%b1%b1%e5%ae%a4%e3%80%91x-mas-fes%e9%96%8b%e5%82%ac%e3%81%ae%e3%81%94%e6%a1%88%e5%86%85%f0%9f%8e%84/
LOCATION:Y-town山室\, 山室新町４１\, 富山市\, 富山県\, 939-8002\, 日本
CATEGORIES:クリスマスフェス
ATTACH;FMTTYPE=image/png:https://events.toyota-mobi-toyama.jp/wp/wp-content/uploads/2025/12/Red-Green-White-Geometric-Winter-Holiday-Ornament-Christmas-Market-Instagram-Post.png
END:VEVENT
BEGIN:VEVENT
DTSTART;VALUE=DATE:20251213
DTEND;VALUE=DATE:20251215
DTSTAMP:20260424T064222
CREATED:20251111T053641Z
LAST-MODIFIED:20251111T065741Z
UID:1657-1765584000-1765756799@events.toyota-mobi-toyama.jp
SUMMARY:🎅2025冬の感謝祭🎅 CHRISTMASFES🎄✨（ランドマークSOTY双代）
DESCRIPTION:こんにちは💗🐰 \nいつもご覧いただきありがとうございます❕ \n\\❤️‍🔥イベントのお知らせです❤️‍🔥// \n12月13日(土)14(日)\n🎅2025冬の感謝祭🎅\nCHRISTMASFES\n開催いたします🎄✨\n\n✔️workshop🪞❄️\nクリスマスツリー&リース作り\n※両日開催※参加費100円\n（交通遺児を励ます募金に寄付します）\n※無くなり次第終了です \n✔️ヘッドスパ体験💆💗\nNIGHT TREEさん\n14日10:00〜15:00\n※無料※女性限定とさせていただきます\n※ご予約はスタッフまでご連絡ください \n✔️パットゴルフチャレンジ⛳️\n参加された方に素敵な\nプレゼントをご用意しております🎁✨\n※両日開催参加費無料 \n✔️キッチンカー🚚🍛\nACHA YATRAさん\n両日開催11:00〜15:30\nスパイシーな本格インドカレー\nキッチンカーがやってくる🥄💗\n※無くなり次第終了となります \n\\🧸大型キッズコーナー新設🧸//\nキッズコーナーがrenewalopen✨🚩\n大型遊具が新設🆕💖\nお子さまにお菓子のプレゼント🎁\n※無くなり次第終了となります\n\nその他ご家族で\n楽しんでいただける\nイベントが盛りだくさん🔥🏁 \nまた2日間限定でお得な\nサービスメニューも\nございますので詳細は\n画像をチェックしてください👀✨ \n皆様のご来店を\nスタッフ一同心より\nお待ちしております🫶🫧
URL:https://events.toyota-mobi-toyama.jp/event/%f0%9f%8e%852025%e5%86%ac%e3%81%ae%e6%84%9f%e8%ac%9d%e7%a5%ad%f0%9f%8e%85-christmasfes%f0%9f%8e%84%e2%9c%a8/
LOCATION:ランドマークSOTY双代\, 双代町１－６\, 富山市\, 富山県\, 930-0971\, 日本
CATEGORIES:キッズ,ファミリー,富山市内
ATTACH;FMTTYPE=image/png:https://events.toyota-mobi-toyama.jp/wp/wp-content/uploads/2025/11/ちらし表.png
END:VEVENT
BEGIN:VEVENT
DTSTART;VALUE=DATE:20251213
DTEND;VALUE=DATE:20251215
DTSTAMP:20260424T064222
CREATED:20251121T053258Z
LAST-MODIFIED:20251121T054108Z
UID:1683-1765584000-1765756799@events.toyota-mobi-toyama.jp
SUMMARY:🎅ChristmasFes🎄開催します　高岡駅南
DESCRIPTION:いつもありがとうございます✨\n\n高岡駅南です☀ \n╭━━━━━━━━━━━╮\nイベントのご案内です❣\n╰━━ｖ━━━━━━━━╯ \n１２月１３日Sat１４日Sun\n高岡駅南にて\n🎄🎅ChristmasFes🎅🎄\nを開催します \nイベントの詳細は以下の画像をcheck👀✅ \nなんといっても今回は\nsweet smileさんのキッチンカーが\n高岡駅南に来てくれます！！！！！！\n軽食とスイーツのケータリング販売です🥞 \nsweet smileさんのキッチンカーは、\n両日１０：００～１６：００が出店時間です。 \n＞＞＞＞＞MENU　通常価格＜＜＜＜＜ \n★ホットドッグ　500yen\n★フランクフルト     300yen\n★台湾カステラ      500yen\n★ベルギーワッフル\nプレーン　　250yen\nチョコ   300yen\n★クレープ   600yen \n\n\n\nしかもなんと、\n当日高岡駅南にご来店のお客様には❣\n通常価格より\n全商品100円引き\nでご案内させていただきます(*_*)💓 \n※お支払いは現金またはPayPay\n※無くなり次第終了です \n \n\n \n \n１２月１３日Sat１４日Sunは\nぜひご家族で高岡駅南にご来店ください💓🎅 \n\n\n  \n  \n 
URL:https://events.toyota-mobi-toyama.jp/event/christmasfes%e9%96%8b%e5%82%ac%e3%81%97%e3%81%be%e3%81%99%e3%80%80%e9%ab%98%e5%b2%a1%e9%a7%85%e5%8d%97/
LOCATION:高岡駅南\, 下伏間江３６３\, 高岡市\, 富山県\, 933-0813\, 日本
CATEGORIES:カフェ,クリスマスフェス,ファミリー,呉西
ATTACH;FMTTYPE=image/png:https://events.toyota-mobi-toyama.jp/wp/wp-content/uploads/2025/11/1.png
END:VEVENT
BEGIN:VEVENT
DTSTART;VALUE=DATE:20251213
DTEND;VALUE=DATE:20251215
DTSTAMP:20260424T064222
CREATED:20251202T013331Z
LAST-MODIFIED:20251202T013331Z
UID:1741-1765584000-1765756799@events.toyota-mobi-toyama.jp
SUMMARY:🎄クリスマスフェス2025🦌（魚津）
DESCRIPTION:こんにちは❣ \n🎄クリスマスフェス２０２５🦌\n１２月１３日(土)・１４日(日)\n開催します！ \n⇩イベント内容はこちら⇩ \n \n \n【12月13日(土)】 \n🎄クリスマスリースワークショップ\n🕑10:30～　約90分\n参加費：1500円(税込) ※現金のみ\n定員：10名\n対象：どなたでもOK！\n講師：花処蔵さん\n💡お申込みはこちらから💡\n🔗クリスマスリースワークショップ申込 \n🎄富山グラウジーズパブリックビューイング\n🕑15:05 TIPOFF！\n（受付開始14:00）\n予約不要\n参加費：無料\n※人数によっては立ち見となる場合がございます。\nグッズの抽選会も開催します✨ \n🎄フルーツスイーツChouChou(シュシュ)さんの\nフルーツサンド販売\n🕑9:30～16:00\nフルーツ本来の美味しさが魅力のシュシュさん！\n商品が売り切れ次第終了となります🙌 \nｰｰｰｰｰｰｰｰｰｰｰｰｰｰｰｰｰｰｰｰｰｰｰｰｰｰｰｰｰｰｰｰｰｰｰｰｰｰｰ \n【12/14(日)】 \n🦌クルマのひみつと未来のモビリティ\n～木製ゼンマイカーをつくろう！～\n🕑10:30～/14:00～　約90分\n参加費：無料\n定員：15名\n対象：小学校低学年\n💡お申込みはこちらから💡\n🔗木製ゼンマイカーワークショップ申込 \n🦌遊友さんのたい焼き販売\n🕑9:00～16:00\nあんこやカスタードたっぷりの、\n遊友さんのたい焼きです♪ \nｰｰｰｰｰｰｰｰｰｰｰｰｰｰｰｰｰｰｰｰｰｰｰｰｰｰｰｰｰｰｰｰｰｰｰｰｰｰｰ \n両日とも、\nご来店の上アンケートにご回答いただくと、\nティモティのかわいいエコバッグ&\nキッチンカーで使える割引券を\nプレゼントいたします😻\n※なくなり次第配布終了 \nそして、\nＬＩＮＥ会員登録いただいている方、\n新規会員登録していただいた方は\nお菓子のつかみ取りにご参加いただけます！\nぜひLINEの友だちになって、\nチャレンジしてください♡ \n以上、イベント盛沢山の\nクリスマスフェス🎅 \nみなさまのご来店を\nスタッフ一同楽しみしております！✨
URL:https://events.toyota-mobi-toyama.jp/event/%f0%9f%8e%84%e3%82%af%e3%83%aa%e3%82%b9%e3%83%9e%e3%82%b9%e3%83%95%e3%82%a7%e3%82%b92025%f0%9f%a6%8c%ef%bc%88%e9%ad%9a%e6%b4%a5%ef%bc%89/
LOCATION:魚津\, 本江１０６３\, 魚津市\, 富山県\, 937-0805\, 日本
ATTACH;FMTTYPE=image/png:https://events.toyota-mobi-toyama.jp/wp/wp-content/uploads/2025/12/image.png
END:VEVENT
BEGIN:VEVENT
DTSTART;VALUE=DATE:20251213
DTEND;VALUE=DATE:20251215
DTSTAMP:20260424T064222
CREATED:20251204T044910Z
LAST-MODIFIED:20251204T045119Z
UID:1764-1765584000-1765756799@events.toyota-mobi-toyama.jp
SUMMARY:【高岡】クリスマスフェス開催🎅🔔
DESCRIPTION:2025.12.13(土)-14(日)\nクリスマスフェス開催🧸🎄 \nイベントのラインナップは\n投稿画像をご覧ください👀 \n \n  \n美味しいスイーツやドリンク、\nお子様から大人の方まで楽しめるワークショップ\nお得なサービスメニューをご用意しております✨ \n  \nしめ縄教室とキッズエンジニア体験は\n要予約となっております。 \n☆しめ縄教室の詳細･お申込みはコチラ\n☆キッズエンジニア体験の詳細･お申込みはコチラ \n  \n  \n沢山のご来店\n心よりお待ちしております🤍
URL:https://events.toyota-mobi-toyama.jp/event/%e3%80%90%e9%ab%98%e5%b2%a1%e3%80%91%e3%82%af%e3%83%aa%e3%82%b9%e3%83%9e%e3%82%b9%e3%83%95%e3%82%a7%e3%82%b9%e9%96%8b%e5%82%ac%f0%9f%8e%85%f0%9f%94%94/
LOCATION:高岡\, 美幸町１－１－７２\, 高岡市\, 富山県\, 933-0954\, 日本
CATEGORIES:カフェ,クリスマスフェス,ファミリー,ワークショップ,呉西
ATTACH;FMTTYPE=image/png:https://events.toyota-mobi-toyama.jp/wp/wp-content/uploads/2025/12/ブログサムネ高岡.png
END:VEVENT
BEGIN:VEVENT
DTSTART;TZID=Asia/Tokyo:20251213T090000
DTEND;TZID=Asia/Tokyo:20251214T160000
DTSTAMP:20260424T064222
CREATED:20251123T075258Z
LAST-MODIFIED:20251126T005515Z
UID:1699-1765616400-1765728000@events.toyota-mobi-toyama.jp
SUMMARY:🎄🦌KUROBE CHRISTMAS FES 2025🎅🎄（黒部）
DESCRIPTION:\\  イベント告知📢  // \n１２/１３sat・１２/１４sun\n両日  9:00-16:00 \nKUROBE \nCHRISTMAS \nFES 2025 \n開催します！！🎅🎁\n \n\n \n  \n  \n🌟ご来場特典🌟\nガラポン抽選会に挑戦\nハズレなし！！\nクリスマスケーキやチキンが当たるかも？！ \n  \n🌟桜井高校吹奏楽部クリスマスコンサート🌟\n️12/13㈯11:00～\n予約不要でどなたでも観覧いただけます \n  \n【WORKSHOP】 \n🌟little star candleをつくろう🌟\n️12/13㈯13:00～15:00\n講師：N.N.N.candleさん\n参加費：500円(税込)/1個\n限定先着20個(予約不要)\n所要時間約10分 \n  \n🌟しめ縄をつくろう🌟\n️12/14㈰11:00～\n講師：水野絵里先生\n参加費：1\,000円/1個\n定員12名\n所要時間約60分\n※要予約※\n※定員に達し次第受付終了 \nご予約は\n申込みフォーム\nまたは\nお電話（℡0765-54-3111）にて \n申込みフォーム\n↑↑↑\nクリック \n  \n【キッチンカー】 \n🌟TAKOZAKIさん🌟\n️12/13㈯9:30～15:00\nたこ焼きの販売🐙\n※なくなり次第終了 \n  \n🌟カラアゲアゲローさん🌟\n️12/14㈰9:30～16:00\nからあげの販売🍗\n※なくなり次第終了 \n  \n【サービスメニュー】 \n🌟C.A.Wウォッシュメンテ🌟\n通常価格1\,500円(税込)\n→1\,000円(税込)\n※車種によって施工できない場合がございます \n  \n🌟キー電池交換🌟\n通常価格880円\n→500円(税込)\n※一部割引対象外あり \n  \n🌟ティモティグッズプレゼント🌟\n店頭にてアンケートに答えて\nかわいいエコバッグをGET✨ \n  \n  \n今年１年の感謝を込めて\nイベント盛りだくさんで皆さまの\nご来店をお待ちしております💓 \n  \n 
URL:https://events.toyota-mobi-toyama.jp/event/kurobe-christmas-fes-2025/
LOCATION:黒部\, 荻生８７２７－１\, 黒部市\, 富山県\, 938-0801\, 日本
ATTACH;FMTTYPE=image/png:https://events.toyota-mobi-toyama.jp/wp/wp-content/uploads/2025/11/DMS表紙黒部-3.png
END:VEVENT
BEGIN:VEVENT
DTSTART;TZID=Asia/Tokyo:20251213T090000
DTEND;TZID=Asia/Tokyo:20251214T160000
DTSTAMP:20260424T064222
CREATED:20251130T074523Z
LAST-MODIFIED:20251130T074523Z
UID:1735-1765616400-1765728000@events.toyota-mobi-toyama.jp
SUMMARY:【砺波】🎄🎅イロドリTONAMI Xmas Fes🧣⛄
DESCRIPTION:こんにちは🤗\nトヨタモビリティ富山 砺波です✨\n \n\n\n《 イベントのご案内 》 \n \nイロドリトナミ🌈\n🎄🎄Xmas Fes🎄🎄\n開催いたします🌟 \n日時 ▷▷ 12/13(sat)-12/14(sun)\n場所 ▷▷ トヨタモビリティ富山 砺波 \n☑️人気のお店が出店♡ \n🔔13日(土)&14日(日) \n▶︎「パティスリーヴェール」さん\n@vert_sweets\nすぐ完売してしまうと噂の人気のテリーヌを販売🍫♡ \n※なくなり次第終了です。\n  \n\n▶︎「Kohaku」さん\n@kohaku_bakedsweet\n見た目も可愛い焼き菓子を販売🍪♡\n手土産にいかがですか？🙂‍↕️\n \n※なくなり次第終了です。\n  \n\n☑️チビッ子体験👦🏻👧🏻Workshop♡\n \n※ワークショップはすべて予約不要です\n  \n\n🔔13日(土)&14日(日)\n▶︎オリジナルブレスレット作り\n \n\n\nつなげるだけで簡単🤹🏻‍♀️\n \n参加費無料‼️\n\nどなたでもお気軽にお作りいただけます♡\n \n  \n\n🔔13日(土)\n▶︎「手形・足形アート」\n@_____acorite さん\n \n\n\n手形・足形をペッタン！🖐🏻🦶🏻\n素敵なアートにしていただけます🎨✨\n【1枚700円〜】\n \n  \n\n🔔14日(日)\n▶︎「デコパーツワークショップ」\n@decoshopchouchou さん\n \n\n\n可愛いパーツがたくさん！🍰\n自分流にデコってみよう💝\n・キーホルダー\n・ホイップデコ\n・スノードーム\n・お名前チャーム\n・しゃかしゃかピン\n【各300円〜1500円】\n \n  \n\n▶︎スタッドレスタイヤの販売も受付中です🛞\n冬支度がお済みでない方！\nぜひお気軽にご相談ください🧑🏻‍🔧💡 \n \n内容盛りだくさんのクリスマスフェス🎅🏻✨\n日頃の感謝の思いを込めて💭🧡\n皆様のご来店スタッフ一同お待ちしております🙌🏻♡ \n  \n\n୨୧┈┈┈┈┈┈┈┈┈┈┈┈┈┈┈┈┈୨୧ \n \n\nトヨタモビリティ富山 砺波\n📍富山県砺波市太郎丸3丁目50\n📞0763-33-4141\n \n▶︎営業時間 \n(平日)9:30〜18:30 \n【サービス工場は17:00まで(受付16:30まで)】\n(土日)9:00〜18:30 \n【サービス工場は17:30まで(受付17:00まで)】 \n୨୧┈┈┈┈┈┈┈┈┈┈┈┈┈┈┈┈┈୨୧ \n 
URL:https://events.toyota-mobi-toyama.jp/event/%e3%80%90%e7%a0%ba%e6%b3%a2%e3%80%91%f0%9f%8e%84%f0%9f%8e%85%e3%82%a4%e3%83%ad%e3%83%89%e3%83%aatonami-xmas-fes%f0%9f%a7%a3%e2%9b%84/
LOCATION:砺波\, 太郎丸３－５０\, 砺波市\, 富山県\, 939-1363\, 日本
CATEGORIES:キッズ,クリスマスフェス,スタッドレスタイヤ,ファミリー,ワークショップ,呉西
ATTACH;FMTTYPE=image/png:https://events.toyota-mobi-toyama.jp/wp/wp-content/uploads/2025/11/アイキャッチ-18-e1764488420833.png
END:VEVENT
BEGIN:VEVENT
DTSTART;TZID=Asia/Tokyo:20251213T090000
DTEND;TZID=Asia/Tokyo:20251214T160000
DTSTAMP:20260424T064222
CREATED:20251202T084354Z
LAST-MODIFIED:20251202T084354Z
UID:1748-1765616400-1765728000@events.toyota-mobi-toyama.jp
SUMMARY:【Gスクエア五福】🎄XmasFES🎄開催のお知らせ💛
DESCRIPTION:こんにちは⛄\n        Gスクエア五福です😊💕\n     \n\n     \n    \n        🎄Xmas FES🎄\n        2025/12/13(Sat.)►►12/14(Sun.) \n        毎年恒例のXmas FESを開催いたします💕 \n        今年はXmasFESの前に抽選の応募があるのでぜひご確認ください😊\n     \n    \n    \n     \n\n    \n        ーーーーーーーーーーーーーーーーーーーー\n        \n            トヨタモビリティ富山　Ｇスクエア五福\n            富山市五福末広町１２３８\n         \n        ショールーム　☎０７６－４３１－８１１７\n        サービス　　　☎０７６－４３１－８１１８\n        ーーーーーーーーーーーーーーーーーーーー
URL:https://events.toyota-mobi-toyama.jp/event/%e3%80%90g%e3%82%b9%e3%82%af%e3%82%a8%e3%82%a2%e4%ba%94%e7%a6%8f%e3%80%91%f0%9f%8e%84xmasfes%f0%9f%8e%84%e9%96%8b%e5%82%ac%e3%81%ae%e3%81%8a%e7%9f%a5%e3%82%89%e3%81%9b%f0%9f%92%9b/
LOCATION:Gスクエア五福\, 五福末広町１２３８\, 富山市\, 富山県\, 930-0884\, 日本
CATEGORIES:その他,キッズ,クリスマスフェス,ファミリー,呉東,富山市内
ATTACH;FMTTYPE=image/png:https://events.toyota-mobi-toyama.jp/wp/wp-content/uploads/2025/12/53　ブログサムネ.png
END:VEVENT
BEGIN:VEVENT
DTSTART;TZID=Asia/Tokyo:20251213T090000
DTEND;TZID=Asia/Tokyo:20251214T160000
DTSTAMP:20260424T064222
CREATED:20251203T061916Z
LAST-MODIFIED:20251203T061943Z
UID:1752-1765616400-1765728000@events.toyota-mobi-toyama.jp
SUMMARY:ＪＩＮＧＬＥ　ＦＥＳ🎄🔔（富山みらい北）
DESCRIPTION:★ \n12.13(Sat.)-14(Sun.)\n\JINGLE FESのお知らせ/ \n \n \n🎄イベント内容のご紹介🎄 \n12.13(Sat.) \n●みらい北キッズラボ\nおもてなしから点検まで\nトヨタの仕事にチャレンジ🚗✨\n・14:00～16:00\n・4組\n・参加費無料\nお申込みは申込みフォームより\nご予約お願いします✨\n※小学生以上のお子さまに限ります \n●2026年カレンダー作り\nクリスマスフォトブースで\nセルフ撮影した写真(その他可)で\nA4サイズ、1年カレンダー(フレーム付)\nを作成します🌟\nイラストレーターyoneneさん\nによる文字入れも可能です♪ \n作成後、お写真入りの\n2026年のカレンダーを\nお渡しします🎁\n・10:00〜12:00\n・作成時間5〜10分\n・参加費1\,000円\n・予約不要 \n12.14(Sun.) \n●みらい北キッズラボ\nおもてなしから点検まで\nトヨタの仕事にチャレンジ🚗✨\n・14:00～16:00\n・3組\n・参加費無料\nお申込みは申込みフォームより\nご予約お願いします✨\n※小学生以上のお子さまに限ります \n●2026年カレンダー作り\nクリスマスフォトブースで\nセルフ撮影した写真(その他可)で\nA4サイズ、1年カレンダー(フレーム付)\nを作成します🌟\nイラストレーターyoneneさん\nによる文字入れも可能です♪ \n作成後、お写真入りの\n2026年のカレンダーを\nお渡しします🎁 \n・10:00〜16:00\n・作成時間5〜10分\n・参加費1\,000円\n・予約不要 \n12.13(Sat.)-14(Sun.) \n●ご来店プレゼント\nポインセチアをプレゼント🎁\n無くなり次第終了致します！ \n●ティモティチャット登録＋インスタグラムフォロー\nでプルバックミニカープレゼント🚙✨\n※既に両方登録済みの方にもプレゼントいたします🌈\n※数に限りがあります \n●アンケート回答\nスマカタアンケートにご回答\nいただいた方には\n赤色エコバッグプレゼント🌟\n※数に限りがあります \n●サンタの袋の重さ当て🎅\nサンタの袋の重さを当てた方に\n後日抽選で豪華景品\nプレゼント🎁✨\n結果は後日、みらい北の\nインスタグラムで\n発表しますのでお楽しみに！ \n●クリスマスツリー飾り付け\n毎年恒例🎄！\nクリスマスツリーに飾りをつけて\nお菓子と交換しよう🍭♪ \n皆さまのご来店をお待ちしております🎄❄
URL:https://events.toyota-mobi-toyama.jp/event/%ef%bd%8a%ef%bd%89%ef%bd%8e%ef%bd%87%ef%bd%8c%ef%bd%85%e3%80%80%ef%bd%86%ef%bd%85%ef%bd%93%f0%9f%8e%84%f0%9f%94%94%ef%bc%88%e5%af%8c%e5%b1%b1%e3%81%bf%e3%82%89%e3%81%84%e5%8c%97%ef%bc%89/
LOCATION:富山みらい北\, 上野新町７－５８\, 富山市\, 富山県\, 931-8326\, 日本
CATEGORIES:富山市内
ATTACH;FMTTYPE=image/png:https://events.toyota-mobi-toyama.jp/wp/wp-content/uploads/2025/12/image-1.png
END:VEVENT
BEGIN:VEVENT
DTSTART;TZID=Asia/Tokyo:20251213T090000
DTEND;TZID=Asia/Tokyo:20251214T160000
DTSTAMP:20260424T064222
CREATED:20251207T001932Z
LAST-MODIFIED:20251207T001932Z
UID:1774-1765616400-1765728000@events.toyota-mobi-toyama.jp
SUMMARY:【高岡】クリスマスフェス開催🎅🔔
DESCRIPTION:【イベントのお知らせ🌟】 \n2025.12.13(土)-14(日)\nクリスマスフェス開催🧸🎄 \nイベントのラインナップは\n投稿画像をご覧ください👀 \n \n美味しいスイーツやドリンク、\nお子様から大人の方まで楽しめるワークショップ\nお得なサービスメニューをご用意しております✨ \nしめ縄教室とキッズエンジニア体験は\n要予約となっております。 \n☆しめ縄教室の詳細･お申込みはコチラ\n☆キッズエンジニア体験の詳細･お申込みはコチラ \n沢山のご来店\n心よりお待ちしております🤍
URL:https://events.toyota-mobi-toyama.jp/event/%e3%80%90%e9%ab%98%e5%b2%a1%e3%80%91%e3%82%af%e3%83%aa%e3%82%b9%e3%83%9e%e3%82%b9%e3%83%95%e3%82%a7%e3%82%b9%e9%96%8b%e5%82%ac%f0%9f%8e%85%f0%9f%94%94-2/
LOCATION:高岡\, 美幸町１－１－７２\, 高岡市\, 富山県\, 933-0954\, 日本
CATEGORIES:呉西
ATTACH;FMTTYPE=image/png:https://events.toyota-mobi-toyama.jp/wp/wp-content/uploads/2025/12/ブログサムネ高岡.png
END:VEVENT
BEGIN:VEVENT
DTSTART;TZID=Asia/Tokyo:20251213T100000
DTEND;TZID=Asia/Tokyo:20251214T160000
DTSTAMP:20260424T064222
CREATED:20251122T042439Z
LAST-MODIFIED:20251122T042526Z
UID:1690-1765620000-1765728000@events.toyota-mobi-toyama.jp
SUMMARY:【富山南】クリスマスフェス
DESCRIPTION:こんにちは\nトヨタモビリティ富山 富山南です✨ \n🎄🌟🎄🌟🎄🌟🎄🌟🎄\n🎅クリスマスフェス🎅\n🌟🎄🌟🎄🌟🎄🌟🎄🌟 \n1年の感謝を込めて！\n今年もクリスマスフェスを開催します！ \n  \n \n \n  \n＼人気のワークショップ／\n🌟クリスマスリース作り🌟\n日にち◆13日(土)、14日(日)\n時間◆10:30～12:00\n定員◆両日5組様\n(ご予約は店頭もしくはお電話📞076-421-8110にて)\n参加費◆1\,000円(税込)\n講師◆Honey Bee様(＠honeybeetoyama)  \n  \n＼メイクの上から簡単チェック／\n🍑お肌チェック＆ハンドケア＆キッズメイク💄\n日にち◆13(土)、14日(日)\n時間◆10:00～16:00\n参加費◆無料\n講師◆C’BON様(＠cbon_jp)\n※女性限定\n※キッズメイクはお子様の肌質や体調によっては\nご参加をお控えいただく場合があります。 \n  \n＼腰痛・頭痛・体のだるさでお悩みの方に…／\n👤骨格診断・骨盤調整🙏\n日にち◆13日(土)のみ\n時間◆10:00～16:00\n参加費◆無料\n講師◆CoCoLoカイロプラクティック様\n(＠chiro_916_hagi)\n \n  \nその他、おかしすくい🍬(小学生以下のお子様限定)や\n2日間だけの特別なご成約プレゼント🍲があります💖\nアンケートご回答で、\nトヨタモビリティ富山オリジナルの\nエコバッグをプレゼント🎁 \n皆さまのご来店をお待ちしております😊
URL:https://events.toyota-mobi-toyama.jp/event/%e3%80%90%e5%af%8c%e5%b1%b1%e5%8d%97%e3%80%91%e3%82%af%e3%83%aa%e3%82%b9%e3%83%9e%e3%82%b9%e3%83%95%e3%82%a7%e3%82%b9/
LOCATION:富山南\, 黒崎１２８－１\, 富山市\, 富山県\, 939-8214\, 日本
CATEGORIES:キッズ,クリスマスフェス,ファミリー,ワークショップ,富山市内
ATTACH;FMTTYPE=image/png:https://events.toyota-mobi-toyama.jp/wp/wp-content/uploads/2025/11/1-1.png
END:VEVENT
BEGIN:VEVENT
DTSTART;TZID=Asia/Tokyo:20251213T100000
DTEND;TZID=Asia/Tokyo:20251214T160000
DTSTAMP:20260424T064222
CREATED:20251126T045423Z
LAST-MODIFIED:20251207T001741Z
UID:1715-1765620000-1765728000@events.toyota-mobi-toyama.jp
SUMMARY:日頃の感謝を込めて🫶ヒバリマルシェ🕊️🌈（小杉）
DESCRIPTION:日頃の感謝を込めて🫶ヒバリマルシェ🕊️🌈\n⁡\n\n\n\n今年最後の大イベント🌟\n今回も皆様に楽しんでいただけるような\n楽しい企画が盛りだくさん🎄♥️\n\n\n⁡ \n\n⁡\n⁡\n詳しくは投稿画像をご覧ください✔️👀💫\n⁡\n皆様のご来店をトヨタモビリティ富山 小杉一同 心よりお待ちしております🌹\n⁡
URL:https://events.toyota-mobi-toyama.jp/event/%e6%97%a5%e9%a0%83%e3%81%ae%e6%84%9f%e8%ac%9d%e3%82%92%e8%be%bc%e3%82%81%e3%81%a6%f0%9f%ab%b6%e3%83%92%e3%83%90%e3%83%aa%e3%83%9e%e3%83%ab%e3%82%b7%e3%82%a7%f0%9f%95%8a%ef%b8%8f%f0%9f%8c%88/
LOCATION:小杉\, 戸破１７２３－１\, 射水市\, 富山県\, 939-0351\, 日本
CATEGORIES:キッズ,クリスマスフェス,スタッドレスタイヤ,ファミリー,ワークショップ,呉西
ATTACH;FMTTYPE=image/png:https://events.toyota-mobi-toyama.jp/wp/wp-content/uploads/2025/11/イベント告知-1.png
END:VEVENT
END:VCALENDAR