BEGIN:VCALENDAR
VERSION:2.0
PRODID:-//イベントカレンダー｜トヨタモビリティ富山｜店舗イベント情報 - ECPv6.8.1//NONSGML v1.0//EN
CALSCALE:GREGORIAN
METHOD:PUBLISH
X-WR-CALNAME:イベントカレンダー｜トヨタモビリティ富山｜店舗イベント情報
X-ORIGINAL-URL:https://events.toyota-mobi-toyama.jp
X-WR-CALDESC:イベントカレンダー｜トヨタモビリティ富山｜店舗イベント情報 のイベント
REFRESH-INTERVAL;VALUE=DURATION:PT1H
X-Robots-Tag:noindex
X-PUBLISHED-TTL:PT1H
BEGIN:VTIMEZONE
TZID:Asia/Tokyo
BEGIN:STANDARD
TZOFFSETFROM:+0900
TZOFFSETTO:+0900
TZNAME:JST
DTSTART:20250101T000000
END:STANDARD
END:VTIMEZONE
BEGIN:VEVENT
DTSTART;VALUE=DATE:20250920
DTEND;VALUE=DATE:20251007
DTSTAMP:20260424T093745
CREATED:20250919T053422Z
LAST-MODIFIED:20250919T053422Z
UID:1610-1758326400-1759795199@events.toyota-mobi-toyama.jp
SUMMARY:【Y-town山室】リニューアルフェア開催🎪🎈
DESCRIPTION:日頃よりY-town山室をご利用くださり\n誠にありがとうございます♡ \n5月頃よりショールーム一部の改装工事によりお客様にはご迷惑をおかけ致しました🙇‍♂️\nご理解の程誠にありがとうございました🙏✨ \n新たに納車ブースも完成し、\nショールームも雰囲気が一新‼️ \nリニューアルフェアの開催が決定致しました🏁💕 \n \n期間　9月20日（土）～10月5日（日） \n期間中は、ご来店プレゼントのご用意🎁🎁\nさらに…新車･中古車ご契約のお客様にはプルボードチャレンジで当たる👏\nご成約プレゼントもご用意しております‼️\n※数には限りがございます。 \nさらに・・・\n \n愛車の査定金額を予想し\n予想金額と査定金額が誤差10万円以内で\nオリジナルエコバッグのプレゼント🍅🍅🍅 \n※査定は無料で実施しております \n新車･中古車の購入ご相談も\nぜひY-town山室にお任せ下さい🙈💕︎ \n期間中のご来店もスタッフ一同\nお待ちしております！！！！！ \n─── ⋆⋅🚗⋅⋆ ─── \n \n \n \n \n \n \n \n \n \n─── ⋆⋅🚗⋅⋆ ───  
URL:https://events.toyota-mobi-toyama.jp/event/%e3%80%90y-town%e5%b1%b1%e5%ae%a4%e3%80%91%e3%83%aa%e3%83%8b%e3%83%a5%e3%83%bc%e3%82%a2%e3%83%ab%e3%83%95%e3%82%a7%e3%82%a2%e9%96%8b%e5%82%ac%f0%9f%8e%aa%f0%9f%8e%88/
LOCATION:Y-town山室\, 山室新町４１\, 富山市\, 富山県\, 939-8002\, 日本
CATEGORIES:ファミリー,中古車,呉東,富山市内
ATTACH;FMTTYPE=image/png:https://events.toyota-mobi-toyama.jp/wp/wp-content/uploads/2025/09/Cream-Blue-Modern-Grand-Opening-Flyer-1.png
END:VEVENT
BEGIN:VEVENT
DTSTART;VALUE=DATE:20251004
DTEND;VALUE=DATE:20251006
DTSTAMP:20260424T093745
CREATED:20250920T045845Z
LAST-MODIFIED:20250920T045845Z
UID:1614-1759536000-1759708799@events.toyota-mobi-toyama.jp
SUMMARY:品川グループ感謝祭2025 くるまみらいフェス
DESCRIPTION:🚙✨自動車と未来を“五感”で楽しむ2日間✨🚙「品川グループ感謝祭 2025 くるまみらいフェス」は、富山テクノホールで開催される家族みんなで楽しめる体験型イベントです🎉👨‍👩‍👧‍👦 \n主な見どころ👇🔧 キッズエンジニア体験・実物大レゴスープラ展示🚜 SUVオフロード体験・働くクルマ🚒乗車体験⚡ 水素バギーや次世代EVの展示🍔 グルメブースやキッズ遊び場も充実 \n※一部事前予約・当日整理券が必要なコンテンツがございます \n大人も子どももワクワクする🚗未来のモビリティ体験がいっぱい！📅 10/4(土)・5(日)は富山テクノホールへGO！ \n\n詳しくは画像をクリック！
URL:https://events.toyota-mobi-toyama.jp/event/%e5%93%81%e5%b7%9d%e3%82%b0%e3%83%ab%e3%83%bc%e3%83%97%e6%84%9f%e8%ac%9d%e7%a5%ad2025-%e3%81%8f%e3%82%8b%e3%81%be%e3%81%bf%e3%82%89%e3%81%84%e3%83%95%e3%82%a7%e3%82%b9/
LOCATION:富山県
CATEGORIES:キッズ,ファミリー,富山市内
ATTACH;FMTTYPE=image/jpeg:https://events.toyota-mobi-toyama.jp/wp/wp-content/uploads/2025/09/25_縺上ｋ縺ｾ縺ｿ繧峨＞_576_384_02.jpg
END:VEVENT
BEGIN:VEVENT
DTSTART;TZID=Asia/Tokyo:20251007T100000
DTEND;TZID=Asia/Tokyo:20251012T160000
DTSTAMP:20260424T093745
CREATED:20251001T075543Z
LAST-MODIFIED:20251001T075543Z
UID:1628-1759831200-1760284800@events.toyota-mobi-toyama.jp
SUMMARY:🏀SPORTS SPOTスポスポ🏀【Gスクエア五福】
DESCRIPTION:こんにちは💛\nGスクエア五福です😊💕\n\n\n \n \n\🐻イベントのお知らせです🐻/ \n10月7日(火)～10月12日(日)まで\nSPORTS SPOT スポスポ\nを開催いたします💛 \n💡スポスポって何？ \nGスクエア五福でお子様の「運動能力の特徴や自分向きのスポーツ」が分かる！ \n最新の測定機材を使った「スポーツ能力測定会」をこの機会にぜひ体験してみませんか？ \n⭐対象年齢　小学生以上\n⭐所要時間　30分程度\n⭐持ち物　タオル・飲み物等 \n走ったり飛んだりするため、動きやすい服装でご来店ください💕 \n⭐ご予約はコチラから⭐ \n\n\nーーーーーーーーーーーーーーーーーーーー\nトヨタモビリティ富山　Ｇスクエア五福\n富山市五福末広町１２３８ \nショールーム　☎０７６－４３１－８１１７\nサービス　　　☎０７６－４３１－８１１８\nーーーーーーーーーーーーーーーーーーーー
URL:https://events.toyota-mobi-toyama.jp/event/%f0%9f%8f%80sports-spot%e3%82%b9%e3%83%9d%e3%82%b9%e3%83%9d%f0%9f%8f%80%e3%80%90g%e3%82%b9%e3%82%af%e3%82%a8%e3%82%a2%e4%ba%94%e7%a6%8f%e3%80%91/
LOCATION:Gスクエア五福\, 五福末広町１２３８\, 富山市\, 富山県\, 930-0884\, 日本
CATEGORIES:その他,キッズ,スポーツ,ファミリー,呉東,富山市内
ATTACH;FMTTYPE=image/png:https://events.toyota-mobi-toyama.jp/wp/wp-content/uploads/2025/10/53　スポスポ-5.png
END:VEVENT
BEGIN:VEVENT
DTSTART;TZID=Asia/Tokyo:20251012T090000
DTEND;TZID=Asia/Tokyo:20251012T160000
DTSTAMP:20260424T093745
CREATED:20251001T072027Z
LAST-MODIFIED:20251001T072027Z
UID:1630-1760259600-1760284800@events.toyota-mobi-toyama.jp
SUMMARY:TOYOTA GAZOO Racing PARK inラリーチャレンジ 高岡 万葉 開催🚗✨
DESCRIPTION:＼乗って、見て、応援して、たっぷり遊ぼう！／ \n【日時】10月12日(日) 9:00～16:00\n【会場】日本総合リサイクル㈱ 敷地内 \n「子どもから大人までクルマを楽しめる」\nをコンセプトにモータースポーツの魅力を取り入れた\nコンテンツが盛りだくさん🎵 \nTGRラリーチャレンジ 高岡 万葉も同時開催🏁\n最大90台のラリーカーが\nスペシャルステージでタイムを競います🔥 \n⚠️今年の変更点\n日本総合リサイクル駐車場は有料、\n1台1000円です🚙 \n城光寺球場駐車場は無料、\nシャトルバスをご利用ください🚌 \n詳しいイベント内容はこちら👇\nhttps://toyotagazooracing.com/jp/tgrp/2025/tgr-rally-challenge-takaoka/ \nたくさんのご来場お待ちしております✨
URL:https://events.toyota-mobi-toyama.jp/event/toyota-gazoo-racing-park-in%e3%83%a9%e3%83%aa%e3%83%bc%e3%83%81%e3%83%a3%e3%83%ac%e3%83%b3%e3%82%b8-%e9%ab%98%e5%b2%a1-%e4%b8%87%e8%91%89-%e9%96%8b%e5%82%ac%f0%9f%9a%97%e2%9c%a8/
LOCATION:富山県
CATEGORIES:スポーツ,ファミリー,モータースポーツ,呉西
ATTACH;FMTTYPE=image/jpeg:https://events.toyota-mobi-toyama.jp/wp/wp-content/uploads/2025/10/25_TGRP_1080_1350_01.jpg
END:VEVENT
BEGIN:VEVENT
DTSTART;TZID=Asia/Tokyo:20251018T090000
DTEND;TZID=Asia/Tokyo:20251031T170000
DTSTAMP:20260424T093745
CREATED:20251010T042740Z
LAST-MODIFIED:20251010T042808Z
UID:1642-1760778000-1761930000@events.toyota-mobi-toyama.jp
SUMMARY:【黒部】ハロウィンイベント🎃
DESCRIPTION:トヨタモビリティ富山 黒部です🎃ෆ ̖́-‬ \n10/18㈯～10/31㈮\nハロウィンイベント開催します👻🍬 \n詳細こちら\n↓ \n \n┄ ┄ ┄ ┄ ┄ ┄ ┄ ┄ ┄┄ ┄ ┄ ┄ ┄ ┄ ┄ ┄ ┄ \n期間中、商談のお客様に\n商談スイーツをご用意😋💓 \n昌栄堂さんの\n『加積りんごパイ』をお出しします🍎\n※数に限りがございます \n黒部の有名菓子店昌栄堂を代表するお菓子で、\n過去にANAの機内食に採用されたり、\n両国国技館で大相撲の公式アイテムとしても\n販売されています🤗 \n┄ ┄ ┄ ┄ ┄ ┄ ┄ ┄ ┄┄ ┄ ┄ ┄ ┄ ┄ ┄ ┄ ┄ \nまた、ご来店の小学生以下お子様限定で\nお菓子のつかみどりに挑戦👐 \n通常お1人さま1回／Instagramフォロー提示で＋1回 \n既にフォロー済みの方もOK✨ \nたくさんお菓子をGETしてくださいね🥰 \n┄ ┄ ┄ ┄ ┄ ┄ ┄ ┄ ┄┄ ┄ ┄ ┄ ┄ ┄ ┄ ┄ ┄ \n期間限定でショールームも\nハロウィン装飾に🎃🕸◞˚ \nおクルマをお考えの方も\nそうでない方もぜひこの機会に\nお気軽にご来店ください👻🍭 \n\nお待ちしております💓\n 
URL:https://events.toyota-mobi-toyama.jp/event/%e3%80%90%e9%bb%92%e9%83%a8%e3%80%91%e3%83%8f%e3%83%ad%e3%82%a6%e3%82%a3%e3%83%b3%e3%82%a4%e3%83%99%e3%83%b3%e3%83%88%f0%9f%8e%83/
LOCATION:黒部\, 荻生８７２７－１\, 黒部市\, 富山県\, 938-0801\, 日本
CATEGORIES:オータムイベント
ATTACH;FMTTYPE=image/png:https://events.toyota-mobi-toyama.jp/wp/wp-content/uploads/2025/10/1.png
END:VEVENT
BEGIN:VEVENT
DTSTART;TZID=Asia/Tokyo:20251018T093000
DTEND;TZID=Asia/Tokyo:20251019T163000
DTSTAMP:20260424T093745
CREATED:20250930T023812Z
LAST-MODIFIED:20250930T023812Z
UID:1620-1760779800-1760891400@events.toyota-mobi-toyama.jp
SUMMARY:✨＼イロドリTONAMI Autumn／✨
DESCRIPTION:こんにちは🤗\n    トヨタモビリティ富山 砺波です✨\n   \nイロドリトナミ🌈 \n\n    ＼🍁 Autumn🧣／\n   \n   \n\n    日時 ▷▷ 10/18(sat) – 10/19(sun)\n    場所 ▷▷ トヨタモビリティ富山 砺波\n   \n▽▽内容のご紹介▽▽ \n\n\n      ★デコレーションワークショップ\n      （＠popcolorcrayon）さん【両日】\n      ▶ 9：30～16：30\n      ポイップデコやキャンディバックをつくってみよう♪\n      カスタムクレヨンの販売もあります！\n     \n    \n    \n  \n\n\n      ★苔テラリウム教室\n      （＠santaculus_moss）さん【両日】\n      ▶ 午前の部：10：00～11：00\n      ▶ 午後の部：14：00～15：00\n      作って育てる観葉植物！自分だけの“苔テラリウム”\n      オリジナルのインテリアを作ろう♪\n     \n    \n  \n\n    ご予約は予約フォームまたはお電話にてお願いいたします🙂↕️\n    予約する\n    📞0763-33-4141\n   \n\n\n      ★AI姿勢診断\n      （@team.oasis.nakama）さん【19日のみ】\n      ▶ 9：30～14：00\n      2枚の写真を撮影するだけでAIによる姿勢分析＆未来姿勢\n      と改善方法が動画でわかる！\n      プロトレーナーの解説付き！\n     \n\n\n\n      ★スマホ教室【両日】\n      ▶ 午前の部：11：00～12：00\n      ▶ 午後の部：15：00～16：00\n      気軽に質問OK！基本操作から便利の使い方まで\n      丁寧にサポートします！\n     \n\n皆様のご来店お待ちしております🙌🏻🤍 \n\n୨୧ ┈┈┈┈┈┈┈┈┈┈┈┈┈┈┈┈┈୨୧ \n\n      トヨタモビリティ富山 砺波\n      📍富山県砺波市太郎丸3丁目50\n      📞0763-33-4141\n     \n\n      ▶︎営業時間\n      (平日)9:30〜18:30\n      【サービス工場は17:00まで(受付16:30まで)】\n      (土日)9:00〜18:30\n      【サービス工場は17:30まで(受付17:00まで)】\n     \n୨୧ ┈┈┈┈┈┈┈┈┈┈┈┈┈┈┈┈┈୨୧
URL:https://events.toyota-mobi-toyama.jp/event/%e2%9c%a8%ef%bc%bc%e3%82%a4%e3%83%ad%e3%83%89%e3%83%aatonami-autumn%ef%bc%8f%e2%9c%a8/
LOCATION:砺波\, 太郎丸３－５０\, 砺波市\, 富山県\, 939-1363\, 日本
CATEGORIES:オータムイベント,ファミリー,ワークショップ
ATTACH;FMTTYPE=image/png:https://events.toyota-mobi-toyama.jp/wp/wp-content/uploads/2025/09/ブルー-カラフル-ストライプ-マルシェ-イベント-ポスター-2.png
END:VEVENT
BEGIN:VEVENT
DTSTART;TZID=Asia/Tokyo:20251019T093000
DTEND;TZID=Asia/Tokyo:20251019T163000
DTSTAMP:20260424T093745
CREATED:20251015T012851Z
LAST-MODIFIED:20251015T012851Z
UID:1651-1760866200-1760891400@events.toyota-mobi-toyama.jp
SUMMARY:【富山南】肌チェック＆ハンドケア
DESCRIPTION:こんにちは\nトヨタモビリティ富山 富山南です✨ \n乾燥が気になる秋🍁におすすめ\n女性限定イベントのお知らせです😍 \n【お肌チェック＆ハンドケア】 \nC’BON様(＠cbon_jp)をお呼びして開催します！ \n \n  \nなかなか見ることのできない\n自分の肌の状態を\nメイクの上から簡単にチェックできちゃいます🤓🔎\nまた、リラックスのできる\nハンドケア✋もおすすめです！\nどちらも無料で、ご予約不要ですので、\nお気軽にお試しください💖 \n◆日にち→10月19日(日)\n◆時間→9:30～16:30\n◆場所→トヨタモビリティ富山\n富山南ショールーム\n◆内容→肌チェック、ハンドケア\n◆施術時間→各5分程度\n◆料金→無料\n◆ご予約→不要 \n  \n🎁無料肌チェックを受けていただいた方へ🎁\nC’BON様より化粧品サンプルを差し上げます💖 \n皆さまのご来店をお待ちしております😊
URL:https://events.toyota-mobi-toyama.jp/event/%e3%80%90%e5%af%8c%e5%b1%b1%e5%8d%97%e3%80%91%e8%82%8c%e3%83%81%e3%82%a7%e3%83%83%e3%82%af%ef%bc%86%e3%83%8f%e3%83%b3%e3%83%89%e3%82%b1%e3%82%a2/
LOCATION:富山南\, 黒崎１２８－１\, 富山市\, 富山県\, 939-8214\, 日本
CATEGORIES:その他,富山市内
ATTACH;FMTTYPE=image/png:https://events.toyota-mobi-toyama.jp/wp/wp-content/uploads/2025/10/シーボン様イベント告知-2.png
END:VEVENT
END:VCALENDAR