BEGIN:VCALENDAR
VERSION:2.0
PRODID:-//イベントカレンダー｜トヨタモビリティ富山｜店舗イベント情報 - ECPv6.8.1//NONSGML v1.0//EN
CALSCALE:GREGORIAN
METHOD:PUBLISH
X-ORIGINAL-URL:https://events.toyota-mobi-toyama.jp
X-WR-CALDESC:イベントカレンダー｜トヨタモビリティ富山｜店舗イベント情報 のイベント
REFRESH-INTERVAL;VALUE=DURATION:PT1H
X-Robots-Tag:noindex
X-PUBLISHED-TTL:PT1H
BEGIN:VTIMEZONE
TZID:Asia/Tokyo
BEGIN:STANDARD
TZOFFSETFROM:+0900
TZOFFSETTO:+0900
TZNAME:JST
DTSTART:20250101T000000
END:STANDARD
END:VTIMEZONE
BEGIN:VEVENT
DTSTART;TZID=Asia/Tokyo:20250906T090000
DTEND;TZID=Asia/Tokyo:20250906T130000
DTSTAMP:20260424T110309
CREATED:20250805T063529Z
LAST-MODIFIED:20250805T063529Z
UID:1554-1757149200-1757163600@events.toyota-mobi-toyama.jp
SUMMARY:🌲《トヨタソーシャルフェス2025》開催🌲
DESCRIPTION:🌲《トヨタソーシャルフェス2025》開催🌲\n豊かな田んぼを未来に残そうプロジェクト✨ \n参加者募集中‼️ \n📅2025年9月6日(土) 9:30〜12:45(受付9:00〜) \n📍大久保ふれあいセンターおよび周辺の田んぼ\n(富山市下大久保1776-1) \n今回は水田などに関するレクチャー、稲刈り体験を行います☺️ \n※稲刈り体験は中学生以上となります🙇‍♀️ \n美味しいお米のために、私たちができる環境保護の方法を勉強しませんか🥸？ \n▶ お申し込みや詳細はこちら\n🔗 https://toyotafes.jp/projects/617/
URL:https://events.toyota-mobi-toyama.jp/event/%f0%9f%8c%b2%e3%80%8a%e3%83%88%e3%83%a8%e3%82%bf%e3%82%bd%e3%83%bc%e3%82%b7%e3%83%a3%e3%83%ab%e3%83%95%e3%82%a7%e3%82%b92025%e3%80%8b%e9%96%8b%e5%82%ac%f0%9f%8c%b2/
LOCATION:富山県
CATEGORIES:トヨタソーシャルフェス,呉東,環境保護,田んぼ,稲刈り
ATTACH;FMTTYPE=image/jpeg:https://events.toyota-mobi-toyama.jp/wp/wp-content/uploads/2025/08/TSF2025_toyama_チラシデータ.jpg
END:VEVENT
BEGIN:VEVENT
DTSTART;TZID=Asia/Tokyo:20250906T140000
DTEND;TZID=Asia/Tokyo:20250906T160000
DTSTAMP:20260424T110309
CREATED:20250826T013614Z
LAST-MODIFIED:20250826T013614Z
UID:1571-1757167200-1757174400@events.toyota-mobi-toyama.jp
SUMMARY:アランマーレ富山🍊パブリックビューイング開催📣🌟
DESCRIPTION:アランマーレ富山🍊 \nパブリックビューイング開催📣🌟 \n\n⁡\n⁡\n2025-26 リーグH開幕戦 🙌🎉\n⁡\n【日時】2025/9/6(土) 14:00〜\nアランマーレ富山🆚イズミメイプルレッズ広島(広島県)\n⁡\nトヨタモビリティ富山 小杉の\nショールームにて放映いたします🎥\n⁡\n小杉のスタッフと一緒に\nアランマーレ富山を応援しましょう📣💓\n⁡\n予約制ではございませんので\n是非、お気軽にトヨタモビリティ富山 小杉 へ🐣♡\n⁡ \n 
URL:https://events.toyota-mobi-toyama.jp/event/%e3%82%a2%e3%83%a9%e3%83%b3%e3%83%9e%e3%83%bc%e3%83%ac%e5%af%8c%e5%b1%b1%f0%9f%8d%8a%e3%83%91%e3%83%96%e3%83%aa%e3%83%83%e3%82%af%e3%83%93%e3%83%a5%e3%83%bc%e3%82%a4%e3%83%b3%e3%82%b0%e9%96%8b-2/
LOCATION:小杉\, 戸破１７２３－１\, 射水市\, 富山県\, 939-0351\, 日本
CATEGORIES:スポーツ,パブリックビューイング,呉西
ATTACH;FMTTYPE=image/png:https://events.toyota-mobi-toyama.jp/wp/wp-content/uploads/2025/08/アランマーレ富山.png
END:VEVENT
BEGIN:VEVENT
DTSTART;TZID=Asia/Tokyo:20250914T100000
DTEND;TZID=Asia/Tokyo:20250914T120000
DTSTAMP:20260424T110309
CREATED:20250801T023039Z
LAST-MODIFIED:20250801T011944Z
UID:1525-1757844000-1757851200@events.toyota-mobi-toyama.jp
SUMMARY:🏃‍♀️🏃‍♂️🏃‍♀️スマイルラン教室😊
DESCRIPTION:スマイルラン教室😊\n三井住友海上女子陸上部が、ランニングフォームやストレッチなど、\n実践的な練習方法を直接伝授✨\n小学生から大人まで参加OKです🙆‍♀️🙆‍♂️ \n \n📅 日時\n9月14日（日）10:00〜12:00（受付 9:10〜） \n📍 場所\n富山県総合運動公園 補助競技場\n※雨天時は富山県総合運動公園 屋内グラウンドで開催します☂️ \n👥 募集人数：約80名程度 \n📲 申込みはQRコードまたはURLから👇\nhttps://form.run/@toyotamobi-xOPWWzEctiHGrpmFnbvL \n※定員に達し次第、または8月31日（日）に受付を終了します。
URL:https://events.toyota-mobi-toyama.jp/event/%f0%9f%8f%83%e2%99%80%ef%b8%8f%f0%9f%8f%83%e2%99%82%ef%b8%8f%f0%9f%8f%83%e2%99%80%ef%b8%8f%e3%82%b9%e3%83%9e%e3%82%a4%e3%83%ab%e3%83%a9%e3%83%b3%e6%95%99%e5%ae%a4/
LOCATION:富山県
CATEGORIES:その他,キッズ,スポーツ,呉東,富山市内
ATTACH;FMTTYPE=image/jpeg:https://events.toyota-mobi-toyama.jp/wp/wp-content/uploads/2025/08/20250914_スマイルラン教室_page-0001-scaled.jpg
END:VEVENT
BEGIN:VEVENT
DTSTART;VALUE=DATE:20250920
DTEND;VALUE=DATE:20251007
DTSTAMP:20260424T110309
CREATED:20250919T053422Z
LAST-MODIFIED:20250919T053422Z
UID:1610-1758326400-1759795199@events.toyota-mobi-toyama.jp
SUMMARY:【Y-town山室】リニューアルフェア開催🎪🎈
DESCRIPTION:日頃よりY-town山室をご利用くださり\n誠にありがとうございます♡ \n5月頃よりショールーム一部の改装工事によりお客様にはご迷惑をおかけ致しました🙇‍♂️\nご理解の程誠にありがとうございました🙏✨ \n新たに納車ブースも完成し、\nショールームも雰囲気が一新‼️ \nリニューアルフェアの開催が決定致しました🏁💕 \n \n期間　9月20日（土）～10月5日（日） \n期間中は、ご来店プレゼントのご用意🎁🎁\nさらに…新車･中古車ご契約のお客様にはプルボードチャレンジで当たる👏\nご成約プレゼントもご用意しております‼️\n※数には限りがございます。 \nさらに・・・\n \n愛車の査定金額を予想し\n予想金額と査定金額が誤差10万円以内で\nオリジナルエコバッグのプレゼント🍅🍅🍅 \n※査定は無料で実施しております \n新車･中古車の購入ご相談も\nぜひY-town山室にお任せ下さい🙈💕︎ \n期間中のご来店もスタッフ一同\nお待ちしております！！！！！ \n─── ⋆⋅🚗⋅⋆ ─── \n \n \n \n \n \n \n \n \n \n─── ⋆⋅🚗⋅⋆ ───  
URL:https://events.toyota-mobi-toyama.jp/event/%e3%80%90y-town%e5%b1%b1%e5%ae%a4%e3%80%91%e3%83%aa%e3%83%8b%e3%83%a5%e3%83%bc%e3%82%a2%e3%83%ab%e3%83%95%e3%82%a7%e3%82%a2%e9%96%8b%e5%82%ac%f0%9f%8e%aa%f0%9f%8e%88/
LOCATION:Y-town山室\, 山室新町４１\, 富山市\, 富山県\, 939-8002\, 日本
CATEGORIES:ファミリー,中古車,呉東,富山市内
ATTACH;FMTTYPE=image/png:https://events.toyota-mobi-toyama.jp/wp/wp-content/uploads/2025/09/Cream-Blue-Modern-Grand-Opening-Flyer-1.png
END:VEVENT
BEGIN:VEVENT
DTSTART;TZID=Asia/Tokyo:20250920T103000
DTEND;TZID=Asia/Tokyo:20250920T120000
DTSTAMP:20260424T110309
CREATED:20250907T061359Z
LAST-MODIFIED:20250907T061450Z
UID:1576-1758364200-1758369600@events.toyota-mobi-toyama.jp
SUMMARY:🎀レジンキーホルダー＆ボールペンのワークショップ💠
DESCRIPTION:こんにちは❣\n \n9月のイベントのご案内です♡  ̖́- \n🎀レジンキーホルダー＆ボールペンのワークショップ💠\n▶︎9月20日(土) \n \nオリジナルのかわいいキーホルダーや\nボールペンを作ってみませんか？🥰\n講師は作家のMie’s roomさんです⭐️ \n【イベント概要】\n日時：9/20(土)\n①10:30～11:00\n②11:00～11:30\n③11:30～12:00 \n定員：各回定員5名 \n参加費：作品ひとつにつき500円(税込)\n※現金でのお支払いをお願いします。 \n対象：どなたでもOK！\n※小学生以下のお子さまは保護者の方同伴必須 \n【申込方法】\nレジンキーホルダー＆ボールペンのワークショップ申込💠\n↑こちらから申込フォームに\nアクセスしてください！ \nお電話でも承ります☎\n📞0765-24-1616 \nみなさまのご参加お待ちしてます😆🎀 \n  \n\n\n\n\n\n【魚津 試乗車・展示車はこちら】\n↓\n🐈CLICK！  \n【魚津 店舗ブログはこちら】\n↓\n🐶CLICK！ \nトヨタモビリティ富山 魚津 \n富山県魚津市本江１０６３番地 \n 
URL:https://events.toyota-mobi-toyama.jp/event/1576/
LOCATION:魚津\, 本江１０６３\, 魚津市\, 富山県\, 937-0805\, 日本
CATEGORIES:キッズ,ファミリー,ワークショップ
ATTACH;FMTTYPE=image/png:https://events.toyota-mobi-toyama.jp/wp/wp-content/uploads/2025/09/ハンドメイドワークショップ魚津.png
END:VEVENT
BEGIN:VEVENT
DTSTART;VALUE=DATE:20250928
DTEND;VALUE=DATE:20250929
DTSTAMP:20260424T110309
CREATED:20250912T052517Z
LAST-MODIFIED:20250912T052938Z
UID:1595-1759017600-1759103999@events.toyota-mobi-toyama.jp
SUMMARY:【カターレ富山】ONE TOYAMA SPORTS DAY トヨタモビリティ富山 スペシャルマッチ開催！
DESCRIPTION:カターレ富山 スポンサーマッチを開催！⚽️✨ \n「ONE TOYAMA SPORTS DAY トヨタモビリティ富山 スペシャルマッチ」🎉 \n📅日時：9月28日（日）15:00 KICK OFF\n📍場所：富山県総合運動公園陸上競技場 \n🚗トヨタモビリティ富山のブースでは、ライズ・ルーミーを展示！\n📲また、Instagramのフォローでガラポン抽選会も行います🎁 \nさらに！♻️ONE TOYAMA SPORTS DAY アップサイクルプロジェクトも実施します。 \nONE TOYAMA SPORTS DAY アップサイクルプロジェクトとは？🤔\n様々なモノづくりの製造工程で発生する、リユース・リサイクルの難しい廃棄物（端材・廃材）を新しい価値を持つ商品へと生まれ変わらせることで、循環をあきらめない文化の創造を目指すプロジェクトのことです🌱 \nトヨタモビリティ富山がスポンサーを務める\n⚽️カターレ富山、🏀富山グラウジーズ、⚾️富山GRNサンダーバーズ、🏐KUROBEアクアフェアリーズ、🤾‍♀️アランマーレ富山、🤾‍♀️富山ドリームスの試合会場にてペットボトルを回収。 \n回収したペットボトルを洗浄・粉砕して原料化し、各スポーツチームのオリジナルサングラス🕶️を制作・販売します。 \n売上の一部でスポーツ用品を購入し、県内の学校やクラブチームに寄付をする予定です🎓✨ \n👓眼鏡で有名な鯖江ブランドの製品です。ぜひ会場で実際に手にとってご覧ください🙌 \n \n当日の試合情報はカターレ富山HPをご確認ください。
URL:https://events.toyota-mobi-toyama.jp/event/%e3%80%90%e3%82%ab%e3%82%bf%e3%83%bc%e3%83%ac%e5%af%8c%e5%b1%b1%e3%80%91one-toyama-sports-day-%e3%83%88%e3%83%a8%e3%82%bf%e3%83%a2%e3%83%93%e3%83%aa%e3%83%86%e3%82%a3%e5%af%8c%e5%b1%b1-%e3%82%b9-2/
LOCATION:富山県
CATEGORIES:スポーツ,富山市内
ATTACH;FMTTYPE=image/png:https://events.toyota-mobi-toyama.jp/wp/wp-content/uploads/2025/09/ロゴ-画像-scaled.png
END:VEVENT
BEGIN:VEVENT
DTSTART;TZID=Asia/Tokyo:20250928T110000
DTEND;TZID=Asia/Tokyo:20250928T123000
DTSTAMP:20260424T110309
CREATED:20250912T053510Z
LAST-MODIFIED:20250912T053705Z
UID:1601-1759057200-1759062600@events.toyota-mobi-toyama.jp
SUMMARY:【カターレ富山】サッカーキッズ2025開催！
DESCRIPTION:トヨタモビリティ富山とカターレ富山が ⚽ 富山県の子どもたちに楽しくサッカーの試合ができるイベントを企画しました！！ 🎉 \n🏆 順位や勝敗はありません！保育園・幼稚園・クラブで活動している子どもたちは、日ごろの練習の成果を披露しましょう✨ \n🙌 普段チームで活動していないお子様も、個人でのお申込み大歓迎です！ \n \n📩 下記のURLアドレスからお申込みいただけます。申込締め切りは 9月19日（金） までです！👉 https://forms.gle/EBvELJJY2P82zio57
URL:https://events.toyota-mobi-toyama.jp/event/%e3%80%90%e3%82%ab%e3%82%bf%e3%83%bc%e3%83%ac%e5%af%8c%e5%b1%b1%e3%80%91%e3%82%b5%e3%83%83%e3%82%ab%e3%83%bc%e3%82%ad%e3%83%83%e3%82%ba2025%e9%96%8b%e5%82%ac%ef%bc%81/
LOCATION:富山県
CATEGORIES:スポーツ,富山市内
ATTACH;FMTTYPE=image/png:https://events.toyota-mobi-toyama.jp/wp/wp-content/uploads/2025/09/0f727d1fab77d67ddbaac13d53a00e9c-768x510-1.png
END:VEVENT
END:VCALENDAR