BEGIN:VCALENDAR
VERSION:2.0
PRODID:-//イベントカレンダー｜トヨタモビリティ富山｜店舗イベント情報 - ECPv6.8.1//NONSGML v1.0//EN
CALSCALE:GREGORIAN
METHOD:PUBLISH
X-ORIGINAL-URL:https://events.toyota-mobi-toyama.jp
X-WR-CALDESC:イベントカレンダー｜トヨタモビリティ富山｜店舗イベント情報 のイベント
REFRESH-INTERVAL;VALUE=DURATION:PT1H
X-Robots-Tag:noindex
X-PUBLISHED-TTL:PT1H
BEGIN:VTIMEZONE
TZID:Asia/Tokyo
BEGIN:STANDARD
TZOFFSETFROM:+0900
TZOFFSETTO:+0900
TZNAME:JST
DTSTART:20250101T000000
END:STANDARD
END:VTIMEZONE
BEGIN:VEVENT
DTSTART;VALUE=DATE:20250614
DTEND;VALUE=DATE:20250616
DTSTAMP:20260424T152433
CREATED:20250611T042350Z
LAST-MODIFIED:20250611T042433Z
UID:1308-1749859200-1750031999@events.toyota-mobi-toyama.jp
SUMMARY:【黒部】おとうさんいつもありがとうフェア
DESCRIPTION:黒部です🙋 \n  \n6/14＆6/15の２日間 \nおとうさんいつも \nありがとうフェア \n開催します💙 \n\n  \n  \n \n  \nいつも頑張っているお父さんや家族に \n感謝の気持ちを伝えるお手伝いをします✨ \n\n  \n💙来店プレゼント💙\n6/14＆6/15の２日間に\nご来店のお客様に\n『栄養ドリンク』\nプレゼント！！ \nいつも頑張っているお父さんや家族の\nパワーをチャージ⚡\n無料のメッセージカードも\nご用意しておりますので、\n感謝の気持ちを込めたカードを添えて\nプレゼントもできます✨ \n  \n  \n💙C.A.Wウォッシュメンテ特価💙\n通常価格1\,500円(税込)が\n２日間限定で1\,000円(税込)に✨ \nクルマをピカピカにして\nお父さんや家族に喜んでもらいませんか？\n※洗車機を使用します\n※事前予約がオススメです \n  \n  \n💙オリジナル缶バッチ作り💙\n写真やイラストで缶バッチを作って\nお父さんや大切な人にプレゼントしよう♪\nもちろん自分用でもOKです✨\nスタッフが無料で作成いたします🙋 \n  \n  \nこの機会にお父さんや家族に感謝を伝えませんか？😄✨\nご来店心よりお待ちしております💓 \n  \n 
URL:https://events.toyota-mobi-toyama.jp/event/%e3%80%90%e9%bb%92%e9%83%a8%e3%80%91%e3%81%8a%e3%81%a8%e3%81%86%e3%81%95%e3%82%93%e3%81%84%e3%81%a4%e3%82%82%e3%81%82%e3%82%8a%e3%81%8c%e3%81%a8%e3%81%86%e3%83%95%e3%82%a7%e3%82%a2/
LOCATION:黒部\, 荻生８７２７－１\, 黒部市\, 富山県\, 938-0801\, 日本
ATTACH;FMTTYPE=image/png:https://events.toyota-mobi-toyama.jp/wp/wp-content/uploads/2025/06/1.png
END:VEVENT
BEGIN:VEVENT
DTSTART;TZID=Asia/Tokyo:20250620T103000
DTEND;TZID=Asia/Tokyo:20250620T120000
DTSTAMP:20260424T152433
CREATED:20250523T025407Z
LAST-MODIFIED:20250523T025407Z
UID:1275-1750415400-1750420800@events.toyota-mobi-toyama.jp
SUMMARY:👶第5回　みらい北×mannma　みらいKIDS　親子サークル♥
DESCRIPTION:こんにちは✿\n    トヨタモビリティ富山㈱ \n富山みらい北です♡ \n6/20(Fri)10:30~12:00 \n富山みらい北×mannmaみらい北KIDS \nの \n親子サークル \nを開催します✿ \n以前からたくさんのご要望が多かった\n    平日の開催です♪\n    季節の足型アート終了後は\n    ぽっくるさんのケーキで楽しくTea timeを過ごしましょう☕♡ \nみらいKIDSの親子サークルは\n    mannmaさん主催で平日に開催します♡\n    入会には入会金と年会費等は不要で\n    アンケートにご回答でどなたでも入会可能です😉\n    入会された方には メンバーカード をお渡しします💳！ \n今回の親子サークルの内容は\n    \季節の足型アート+ママ交流会/\n    紫陽花デザインの台紙に成長の記録として足型アートを作ります！\n    足型はかわいいカエルに変身します🐸🐸 \n・参加費 ￥1\,500(税込)\n    ・支払方法：現金、PayPay \nご予約は下記画像のQRコードからお願いします！ \n  \n   \n\n\n    ▶富山みらい北の店舗情報は\n    こちらをクリック↓\n   \n\n    ▶インスタグラムもチェック！\n    イベント案内やお得な情報を投稿しています(^o^)丿\n    フォロー&いいね💕お願いします♩\n   \n  \n    \n   \n【5月のカレンダー】\n   \n\n    ▶万が一の事故・故障等でお困りの際は\n    トヨタモビリティ富山事故・故障サポートデスク\n    をご利用下さい\n   \n   \n\n    ▶トヨタモビリティ富山\n    富山みらい北\n    〒931-8326\n    富山市上野新町7番58号\n    ☎076-438-4545\n   \n令和６年１月より営業時間変更になりました！ \n\n    【営業時間】\n    平日：9時30分～18時30分（サービス工場は17時30分まで、受付17時まで）\n    土日：9時00分～18時30分（サービス工場は17時まで、受付16時30分まで）
URL:https://events.toyota-mobi-toyama.jp/event/%f0%9f%91%b6%e7%ac%ac5%e5%9b%9e%e3%80%80%e3%81%bf%e3%82%89%e3%81%84%e5%8c%97xmannma%e3%80%80%e3%81%bf%e3%82%89%e3%81%84kids%e3%80%80%e8%a6%aa%e5%ad%90%e3%82%b5%e3%83%bc%e3%82%af%e3%83%ab%e2%99%a5/
LOCATION:富山みらい北\, 上野新町７－５８\, 富山市\, 富山県\, 931-8326\, 日本
END:VEVENT
BEGIN:VEVENT
DTSTART;VALUE=DATE:20250622
DTEND;VALUE=DATE:20250623
DTSTAMP:20260424T152433
CREATED:20250605T014929Z
LAST-MODIFIED:20250606T012921Z
UID:1284-1750550400-1750636799@events.toyota-mobi-toyama.jp
SUMMARY:モビリティフェスinおわらサーキット🏎
DESCRIPTION:トヨタモビリティ富山 モビリティフェス inおわらサーキット\nオフロード×モータースポーツ×電動車\n \n⁡ \n日時▼\n6月22日(日) 10:00〜16:30 (開場 9:30)\n※雨天時は一部コンテンツが変更となる場合があります \n⁡ \n場所▼\nおわらサーキット\n(富山県富山市八尾町平林72-1) \n↓画像をクリックしてご覧ください
URL:https://events.toyota-mobi-toyama.jp/event/%e3%83%a2%e3%83%93%e3%83%aa%e3%83%86%e3%82%a3%e3%83%95%e3%82%a7%e3%82%b9in%e3%81%8a%e3%82%8f%e3%82%89%e3%82%b5%e3%83%bc%e3%82%ad%e3%83%83%e3%83%88%f0%9f%8f%8e/
LOCATION:富山県
CATEGORIES:その他,ファミリー,富山市内
ATTACH;FMTTYPE=image/jpeg:https://events.toyota-mobi-toyama.jp/wp/wp-content/uploads/2025/06/owara_1200_1200_02.jpg
END:VEVENT
BEGIN:VEVENT
DTSTART;VALUE=DATE:20250625
DTEND;VALUE=DATE:20250626
DTSTAMP:20260424T152433
CREATED:20250603T035629Z
LAST-MODIFIED:20250605T024718Z
UID:1279-1750809600-1750895999@events.toyota-mobi-toyama.jp
SUMMARY:第11回✐アトリエワイタウン🌈耳つぼジュエリー　お家で簡単セルフケア講習付き
DESCRIPTION:こんにちは\nY-town山室です☀ \n昨年4月よりはじまりました🌱\n◤　アトリエワイタウン　◢ \n月に1度平日開催のワークショップ\n次回開催日のご案内です👐 \n第11回　6月25日(水)\n耳つぼジュエリー\nーお家で簡単セルフケア講習付きー \n \n時間🕜　　10時30分～(1時間～1時間30分を予定しています)\n定員　　　8名\n参加費用　　1\,500円(税･材料費込み) \n※当日現金またはPayPayでのお支払いをお願い致します。\n※ジュエリーなしの耳つぼシールも選べます。 \n身体の不調やお悩みをヒアリングし、ご自身にあった耳つぼの箇所や\nセルフケア方法を伝授してくださいます！！\n実際に耳つぼの箇所に、ジュエリーを付けてカラダとココロを\n整えるひと時を過ごしませんか？？ \nご予約は下記フォームよりお願い致します\n \n山室店にご来店されたことがないお客様も大歓迎!\nご参加お待ちしております♡ \n─── ⋆⋅🚗⋅⋆ ─── \n \n \n \n \n \n \n \n \n \n─── ⋆⋅🚗⋅⋆ ───
URL:https://events.toyota-mobi-toyama.jp/event/%e7%ac%ac11%e5%9b%9e%e2%9c%90%e3%82%a2%e3%83%88%e3%83%aa%e3%82%a8%e3%83%af%e3%82%a4%e3%82%bf%e3%82%a6%e3%83%b3%f0%9f%8c%88%e8%80%b3%e3%81%a4%e3%81%bc%e3%82%b8%e3%83%a5%e3%82%a8%e3%83%aa%e3%83%bc/
LOCATION:Y-town山室\, 山室新町４１\, 富山市\, 富山県\, 939-8002\, 日本
CATEGORIES:ワークショップ
ATTACH;FMTTYPE=image/png:https://events.toyota-mobi-toyama.jp/wp/wp-content/uploads/2025/06/6.25アトリエ.png
END:VEVENT
BEGIN:VEVENT
DTSTART;TZID=Asia/Tokyo:20250628T093000
DTEND;TZID=Asia/Tokyo:20250629T163000
DTSTAMP:20260424T152433
CREATED:20250615T041837Z
LAST-MODIFIED:20250615T041837Z
UID:1318-1751103000-1751214600@events.toyota-mobi-toyama.jp
SUMMARY:🍑無料肌チェック＆ハンドケア✋
DESCRIPTION:こんにちは\nトヨタモビリティ富山 富山南です✨ \n📢夏前🍹🌺にうれしい、\n女性限定イベントのお知らせです🍑 \n【無料肌チェック＆ハンドケア】\nC’BON様(＠cbon_jp)をお呼びして開催します！ \nなかなか見ることのできない\n自分の肌の状態を\nメイクの上から簡単に\nチェックできちゃいます🤩🔍 \nまた、リラックスできる\nハンドケア✋もおすすめです！ \nどちらも無料で、ご予約不要ですので、\nお気軽にお試しください💖\n\n■日にち→6/28(土)29(日)\n■時間→9:30～16:30\n■場所→トヨタモビリティ富山\n富山南ショールーム\n■内容→肌チェック、ハンドケア\n■施術時間→各5分程度\n■料金→無料\n■ご予約→不要\n\n🎁無料肌チェックを受けていただいた方へ\nC’BON様より化粧品サンプルを差し上げます💖 \n皆さまのご来店をお待ちしております😊
URL:https://events.toyota-mobi-toyama.jp/event/%f0%9f%8d%91%e7%84%a1%e6%96%99%e8%82%8c%e3%83%81%e3%82%a7%e3%83%83%e3%82%af%ef%bc%86%e3%83%8f%e3%83%b3%e3%83%89%e3%82%b1%e3%82%a2%e2%9c%8b/
LOCATION:富山南\, 黒崎１２８－１\, 富山市\, 富山県\, 939-8214\, 日本
CATEGORIES:その他,呉東,富山市内
ATTACH;FMTTYPE=image/png:https://events.toyota-mobi-toyama.jp/wp/wp-content/uploads/2025/06/シーボン様イベント告知.png
END:VEVENT
END:VCALENDAR