BEGIN:VCALENDAR
VERSION:2.0
PRODID:-//イベントカレンダー｜トヨタモビリティ富山｜店舗イベント情報 - ECPv6.8.1//NONSGML v1.0//EN
CALSCALE:GREGORIAN
METHOD:PUBLISH
X-WR-CALNAME:イベントカレンダー｜トヨタモビリティ富山｜店舗イベント情報
X-ORIGINAL-URL:https://events.toyota-mobi-toyama.jp
X-WR-CALDESC:イベントカレンダー｜トヨタモビリティ富山｜店舗イベント情報 のイベント
REFRESH-INTERVAL;VALUE=DURATION:PT1H
X-Robots-Tag:noindex
X-PUBLISHED-TTL:PT1H
BEGIN:VTIMEZONE
TZID:Asia/Tokyo
BEGIN:STANDARD
TZOFFSETFROM:+0900
TZOFFSETTO:+0900
TZNAME:JST
DTSTART:20240101T000000
END:STANDARD
END:VTIMEZONE
BEGIN:VEVENT
DTSTART;VALUE=DATE:20241214
DTEND;VALUE=DATE:20241216
DTSTAMP:20260425T000428
CREATED:20241112T042050Z
LAST-MODIFIED:20241204T073339Z
UID:691-1734134400-1734307199@events.toyota-mobi-toyama.jp
SUMMARY:🎄トヨタモビリティ富山 クリスマスフェス（全店舗）🎄
DESCRIPTION:🎄🎅🎄🎅🎄🎅🎄🎅🎄🎅🎄🎅🎄🎅🎄🎅🎄🎅🎄🎅🎄🎅🎄🎅🎄🎅🎄🎅🎄🎅🎄🎅🎄🎅🎄🎅 \nトヨタモビリティ富山では12月14日（土）15日（日）にクリスマスフェスを開催します🎉 \n \n各店舗の楽しいイベントは随時公開中です！ \n店舗名をクリックすると各店舗のイベントを確認することができます。 \nランドマークSOTY双代 \n五福 \n高岡 \n小杉 \n黒部 \n  \nまた、全店舗実施のイベントをご紹介します✨ \n・ \n・ \n \nお店へご来店いただき、アンケートに回答いただくと \nトヨタモビリティ富山 マスコットキャラクターのティモティオリジナルメモ帳をプレゼントします🎁 \n一足先にクリスマス気分はいかがでしょうか？ \n各店舗のイベント内容は随時更新していきますのでお見逃しなく！👀 \n🎄🎅🎄🎅🎄🎅🎄🎅🎄🎅🎄🎅🎄🎅🎄🎅🎄🎅🎄🎅🎄🎅🎄🎅🎄🎅🎄🎅🎄🎅🎄🎅🎄🎅🎄🎅
URL:https://events.toyota-mobi-toyama.jp/event/%f0%9f%8e%84%e3%83%88%e3%83%a8%e3%82%bf%e3%83%a2%e3%83%93%e3%83%aa%e3%83%86%e3%82%a3%e5%af%8c%e5%b1%b1-%e3%82%af%e3%83%aa%e3%82%b9%e3%83%9e%e3%82%b9%e3%83%95%e3%82%a7%e3%82%b9%ef%bc%88%e5%85%a8/
LOCATION:富山県
CATEGORIES:キッズ,ファミリー,ワークショップ,呉東,呉西,富山市内
ATTACH;FMTTYPE=image/jpeg:https://events.toyota-mobi-toyama.jp/wp/wp-content/uploads/2024/11/繧ｯ繝ｪ繧ｹ繝槭せ_2400_1256_1-e1731384765553.jpg
END:VEVENT
BEGIN:VEVENT
DTSTART;VALUE=DATE:20241214
DTEND;VALUE=DATE:20241216
DTSTAMP:20260425T000428
CREATED:20241126T070332Z
LAST-MODIFIED:20241127T015043Z
UID:709-1734134400-1734307199@events.toyota-mobi-toyama.jp
SUMMARY:🎅2024冬の感謝祭🎅ChristmasFES🎄開催いたします💓✨（ランドマークSOTY双代）
DESCRIPTION:こんにちは‼HOHOHO🥰💖 \n\nランドマークＳＯＴYです😉❤ \n2024年も \nあと１ヶ月となりました💦😯 \n今年最後のイベントを \nご紹介します🎄✨🎈 \n  \n12/14Sat \n\n12/15Sun \n  \n　 💓２０２４ 💓　  \n　🎅冬の感謝祭🎅 \n\n🎄ChristmasFES🎄　 \n  \n開催します👌✨👪 \nイベントの詳細は \n画像をcheck～👀💖 \n  \n \n  \nランドマークSOTY双代 \n\nでは・・・！！ \n\n豪華景品が当たる？！ \n　ティモティガチャ抽選会　を開催！ \n\n＼アンケートに答えてね～🎅💓👌／ \nたくさんの方のご参加お待ちしております💓 \n  \n \n  \nランドマークSOTY双代では \n\nショールームにある落とし物を \n\nすべて見つけてくれた子に \n\nお菓子のプレゼントをご用意しております🍩 \n\n＼誰でも参加OKじゃよ🎅💓👌／ \n  \n \nランドマークSOTY双代では \nミニ四駆づくりを開催します🚙 \n\n＼店内の特設コースで走らせよう🚙🎅💓👌／ \n＼ランドマークSOT双代までご予約お願いします☎👌／ \n  \n12/14Sat \n\n12/15Sunは \n\nぜひご家族で \n\nランドマークSOTYへ \n\nご来店ください👨‍👩‍👧‍👦💕 \n 
URL:https://events.toyota-mobi-toyama.jp/event/%f0%9f%8e%852024%e5%86%ac%e3%81%ae%e6%84%9f%e8%ac%9d%e7%a5%ad%f0%9f%8e%85christmasfes%f0%9f%8e%84%e9%96%8b%e5%82%ac%e3%81%84%e3%81%9f%e3%81%97%e3%81%be%e3%81%99%f0%9f%92%93%e2%9c%a8/
LOCATION:ランドマークSOTY双代\, 双代町１－６\, 富山市\, 富山県\, 930-0971\, 日本
CATEGORIES:キッズ,ファミリー,ワークショップ,富山市内
ATTACH;FMTTYPE=image/png:https://events.toyota-mobi-toyama.jp/wp/wp-content/uploads/2024/11/ブログ.png
END:VEVENT
BEGIN:VEVENT
DTSTART;VALUE=DATE:20241214
DTEND;VALUE=DATE:20241216
DTSTAMP:20260425T000428
CREATED:20241203T014813Z
LAST-MODIFIED:20241203T014813Z
UID:764-1734134400-1734307199@events.toyota-mobi-toyama.jp
SUMMARY:クリスマスフェス2024🎅🦌🎄✨（黒部）
DESCRIPTION:🎄🌟🎄🌟🎄🌟🎄🌟🎄🌟🎄🌟🎄 \nクリスマスフェス \n12/14㈯＆12/15㈰ \n今年も開催します🎅 \n魚津＆黒部合同開催です♥ \n🎄🌟🎄🌟🎄🌟🎄🌟🎄🌟🎄🌟🎄 \n  \n\nイベント内容はこちら \n👇 \n\n \n\n \n  \n\n🍗Happy X’mas抽選会🎂 \n12/14㈯・12/15㈰ \n\n※DMをお持ちの方限定 \n\n魚津・黒部で１回ずつ参加できます！ \n \nハズレなしの抽選会🙌 \n\n運がよければ \n\nクリスマスケーキやクリスマスチキンの \n\n引換券がもらえますよ😍 \n\n届いたDMを持って各店舗へGo！！ \n  \n  \n\n🎁ティモティグッズプレゼントキャンペーン🎁 \n\n12/14㈯・12/15㈰ \n \n来店してアンケートに答えるだけ！ \n\nかわいいティモティのメモ帳を \n\nプレゼントします🤗✨ \n  \n  \n\n🤡ピエロのパット君ステージショー🤡 \n\n12/14㈯ \n\n14:00～ \n\n※予約不要・観覧無料 \n \nジャグリングやバルーンアートで \n\n子供から大人まで楽しませてくれます✨ \n\nちょっと毒舌？！ \n\n見なきゃ損です！！ \n\nぜひお越しください♫ \n  \n  \n  \n\n🌹水野絵里先生のクリスマスworkshop🌹 \n\n12/15㈰ \n\n午前の部　11:00～　スワッグ作り \n\n午後の部　14:00～　　リース作り \n\n※要予約・１つ1\,000円(税込) \n \nクリスマスを彩るワークショップを開催🎄 \n\n今年も講師に水野絵里先生をお招きします✨ \n  \n\n↓ご予約はコチラをクリック↓ \n\nクリスマスworkshop予約フォーム📝 \n  \n  \n  \n\n🖌ふきのデザインさん　似顔絵コーナー🖌 \n\n12/15㈰ \n\n10:30～16:30 \n\n※要予約・１枚1\,000円 \n  \n \nやさしいタッチが人気のふきのデザインさんの \n\n似顔絵コーナーが出張でやってくる♪ \n\nカップルで、兄弟で、家族で、おひとりでもOK✨ \n  \n \n↓ご予約はコチラをクリック↓ \n\n似顔絵予約フォーム📝 \n  \n  \n\n😋キッチンカーがやってくる🍗 \n\n12/14㈯・12/15㈰ \n\n10:00～16:00 \n・カラアゲアゲロー　からあげ \n\n・カラカラ　クレープ \n \n２日間２台のキッチンカーがやってきます🚚✨ \n\n売り切れ次第終了です！ \n\nキッチンカーでの購入のみのご来店も大歓迎🙌 \n  \n  \n  \n \nまた併設のダイハツ黒部では \n\n“ダイハツの移動販売レンタカー” \n\n『Nibako』の荷台を使って \n\n射的🔫が楽しめます♪ \n\n参加無料でお菓子がGetできますよ🤗✨ \n  \n  \n\n楽しいイベント盛りだくさんの２日間です！！！ \n\nぜひお越しくださいね♥🎅🦌🎄✨ \n 
URL:https://events.toyota-mobi-toyama.jp/event/%e3%82%af%e3%83%aa%e3%82%b9%e3%83%9e%e3%82%b9%e3%83%95%e3%82%a7%e3%82%b92024%f0%9f%8e%85%f0%9f%a6%8c%f0%9f%8e%84%e2%9c%a8%ef%bc%88%e9%bb%92%e9%83%a8%ef%bc%89/
LOCATION:黒部\, 荻生８７２７－１\, 黒部市\, 富山県\, 938-0801\, 日本
CATEGORIES:ワークショップ,呉東
ATTACH;FMTTYPE=image/png:https://events.toyota-mobi-toyama.jp/wp/wp-content/uploads/2024/12/DMS用-5.png
END:VEVENT
BEGIN:VEVENT
DTSTART;VALUE=DATE:20241214
DTEND;VALUE=DATE:20241216
DTSTAMP:20260425T000428
CREATED:20241204T073128Z
LAST-MODIFIED:20241206T033820Z
UID:776-1734134400-1734307199@events.toyota-mobi-toyama.jp
SUMMARY:🎄クリスマスフェア in Ｇスクエア五福🎄
DESCRIPTION:こんにちは🤍Ｇスクエア五福です！ \nイベントのお知らせです🎅🏻✨\n12月14日(土)・12月15日(日)にクリスマスフェア in Gスクエア五福を開催いたします🎊\n楽しい催しやお得な商品がたくさんございますので、ぜひご来店ください♪ \n　■MENU■　\n  \n●イベントご案内\n●イベントご予約\n●サービスメニュー\n  \n\nイベントご案内\n\n \n \n\n※価格は全て税込みです。 \n  \n\nイベントご予約\n\n  \n\n\n★予約フォーム一覧★※上記ＱＲコードを読み込めない方は↓からご予約ください。 \n  \n\n\n\n\nはいはいレースのご予約はこちら \nよちよちレースのご予約はこちら \n足形アートのご予約はこちら \n\n\n \n  \n\nサービスメニュー\n\n \n\n※価格は全て税込みです。 \n  \n\n\n★タイヤお預かりサービスを初めてご利用される方限定★ \n  \n通常タイヤ付け替え　2\,200円（税込み）（※265サイズ以上は3\,300円）のところ、タイヤ付け替えを1回分を無料でさせていただきます！\n\n※今季すでにタイヤを付替え済みの方は、次回の夏タイヤへの付け替えを無料とさせていただきます。 \n\n\n \nご来店お待ちしております✨\n  \n\n\n  \n  \n  \n  \n  \n  \n  \n  \n  \n  \n  \n  \n  \n  \n  \n  \n  \n  \n  \n  \n  \n\n\n\n\n\n\n\n\n\n\n\n\n\n\n\n\n\n\n\nトヨタモビリティ富山　Ｇスクエア五福\n富山市五福末広町１２３８ \n☎０７６－４３１－８１１７ \n  \n  \n  \n  \n  \n  \n  \n  \n  \n  \n  \n  \n  \n  \n  \n  \n  \n  \n  \n  \n  \n  \n  \n  \n  \n  \n  \n  \n  \n  \n  \n  \n  \n  \n  \n  \n  \n  \n  \n 
URL:https://events.toyota-mobi-toyama.jp/event/%f0%9f%8e%84%e3%82%af%e3%83%aa%e3%82%b9%e3%83%9e%e3%82%b9%e3%83%95%e3%82%a7%e3%82%a2-in-%ef%bd%87%e3%82%b9%e3%82%af%e3%82%a8%e3%82%a2%e4%ba%94%e7%a6%8f%f0%9f%8e%84/
LOCATION:Gスクエア五福\, 五福末広町１２３８\, 富山市\, 富山県\, 930-0884\, 日本
CATEGORIES:キッズ,ファミリー,ワークショップ,富山市内
ATTACH;FMTTYPE=image/png:https://events.toyota-mobi-toyama.jp/wp/wp-content/uploads/2024/12/image-10.png
END:VEVENT
BEGIN:VEVENT
DTSTART;TZID=Asia/Tokyo:20241214T090000
DTEND;TZID=Asia/Tokyo:20241215T160000
DTSTAMP:20260425T000428
CREATED:20241129T015200Z
LAST-MODIFIED:20241129T022029Z
UID:724-1734166800-1734278400@events.toyota-mobi-toyama.jp
SUMMARY:日頃のご愛顧に"ありがとう"💗 ヒバリマルシェ🐥🎄✡（小杉）
DESCRIPTION:日頃のご愛顧に”ありがとう”🫶ヒバリマルシェ🕊️🏳️‍⚧️ \n\n2024/12/14(土)･15(日) 9:00~16:00 \n\n今回も皆様に楽しんでいただけるよう楽しい企画が盛りだくさん🎄♥️⁡\n \n \n\n\n🧦Cafeしえる さんアイシングクッキー作り【12/14(土)のみ】\n予約フォームはコチラ \n🧣クリスマスオーナメント作り\n予約フォームはコチラ \n🧦オーナーズクリニック【12/15(日)のみ】 \n詳しくは投稿画像をご覧ください✔️🎅🏻´- \n⁡ \nさらに👏👏👏 \n⋆⸜ ⸜  同時開催 ⸝‍ ⸝‍⋆\n⁡ スペシャルプラスワンデー☝️🌹\nとってもおトクな2days🙆‍♂️🙆‍♀️💫 \nサービス入庫でご来店されたお客様に\nプラスワン商品20%OFFチケットをプレゼント🎟 \nヒバリマルシェの2日間は\n詩菜  さんのドリンクをご用意しております☕♡ \n\n皆様のご来店をトヨタモビリティ富山小杉スタッフ一同\n心よりお待ちしております☺️🌼 \n※当日は店舗裏に臨時駐車場を設けます。スタッフがご案内いたします。※イベントの内容は変更になる場合がございます。予めご了承ください。\n⁡ \n\n\n\n  \n  \n  \n  \n  \n  \n  \n  \n  \n  \n  \n  \n  \n  \n  \n  \n  \n  \n  \n  \n  \n  \n  \n  \n  \n 
URL:https://events.toyota-mobi-toyama.jp/event/%e6%97%a5%e9%a0%83%e3%81%ae%e3%81%94%e6%84%9b%e9%a1%a7%e3%81%ab%e3%81%82%e3%82%8a%e3%81%8c%e3%81%a8%e3%81%86%f0%9f%92%97-%e3%83%92%e3%83%90%e3%83%aa%e3%83%9e%e3%83%ab%e3%82%b7%e3%82%a7%f0%9f%90%a5/
LOCATION:小杉\, 戸破１７２３－１\, 射水市\, 富山県\, 939-0351\, 日本
CATEGORIES:ファミリー,ワークショップ,呉西
ATTACH;FMTTYPE=image/png:https://events.toyota-mobi-toyama.jp/wp/wp-content/uploads/2024/11/１１.png
END:VEVENT
BEGIN:VEVENT
DTSTART;TZID=Asia/Tokyo:20241214T090000
DTEND;TZID=Asia/Tokyo:20241215T160000
DTSTAMP:20260425T000428
CREATED:20241201T011447Z
LAST-MODIFIED:20241201T011746Z
UID:755-1734166800-1734278400@events.toyota-mobi-toyama.jp
SUMMARY:2024 CHRISTMAS FES💚🎅（高岡）
DESCRIPTION:2024 クリスマスフェス🎄\n12/14sat – 15sun 開催✨ \n \n【 EVENT LINEUP 】\n.\n. \n両日開催 \n▶︎ 書家 塚本朱玲先生\nワークショップ&私の好きな言葉展 \n予約フォームはコチラ \n \n▶︎ミニ四駆イベント🏁\n工作&2024ウィンターカップ(レース) \n予約フォームはコチラ \n \n▶︎スペシャルプラスワンデー☝🏼\nお得なクーポン配布 \n \n14日(土) \n▶︎プティ ボヌールさん\n焼き菓子販売🍪 \n▶︎LAUGHさん×Otoiroさん コラボ企画\nネームキーホルダー作り🌈 \n \n15日(日) \n▶︎TOMIKAWA COFFEEさん\nコーヒー&焼き菓子販売☕️ \n▶︎tie macrameさん\n車用ディフューザー作り🦄 \n \n詳しくは投稿画像をご覧下さい。\n.\n. \n盛りだくさんの2日間となっております😊\n皆さまのご来店を心より\nお待ちしております🎅🏼🤍
URL:https://events.toyota-mobi-toyama.jp/event/2024-christmas-fes%f0%9f%92%9a%f0%9f%8e%85%ef%bc%88%e9%ab%98%e5%b2%a1%ef%bc%89/
LOCATION:高岡\, 美幸町１－１－７２\, 高岡市\, 富山県\, 933-0954\, 日本
CATEGORIES:カフェ,キッズ,ファミリー,ワークショップ,呉西
ATTACH;FMTTYPE=image/png:https://events.toyota-mobi-toyama.jp/wp/wp-content/uploads/2024/12/image-9.png
END:VEVENT
BEGIN:VEVENT
DTSTART;TZID=Asia/Tokyo:20241214T090000
DTEND;TZID=Asia/Tokyo:20241215T170000
DTSTAMP:20260425T000428
CREATED:20241213T085321Z
LAST-MODIFIED:20241213T090217Z
UID:789-1734166800-1734282000@events.toyota-mobi-toyama.jp
SUMMARY:12/14sat▶︎12/15sun    Christmas Fes*↟⍋*↟⁡⁡（魚津）
DESCRIPTION:こんにちは❣\nいつも魚津ブログ🐠をご覧いただき\nありがとうございます\n(/・ω・)/🌟 \n今週末のイベントです🎄🤍 \n⋆┈┈┈┈┈┈┈┈┈┈┈⋆\n12/14sat▶︎▶︎12/15sun\nChristmas Fes*↟⍋*↟⁡⁡\n⋆┈┈┈┈┈┈┈┈┈┈┈⋆ \n  \n \n \n  \n魚津＆黒部合同開催です🫶🏻 \n魚津では、\n•12/15(日)10:00～\n滑川市立東部小学校ブラスバンドクラブ\nクリスマスコンサート🎺🎶\n【観覧無料・予約不要】 \n•12/15(日)10:00～16:00\n遊友さんのたい焼き販売🐠🤎 \nを予定しています💁‍♀️✨️ \n2日間通して、\nスペシャルサービスメニューもご用意しました❣️\n内容は画像2枚目をご覧ください👀 \n今年1年の感謝を込めて🦌💓\nみなさまのご来店お待ちしております🎅❄️ \n 
URL:https://events.toyota-mobi-toyama.jp/event/12-14sat%e2%96%b6%ef%b8%8e12-15sun-christmas-fes%e2%86%9f%e2%8d%8b%e2%86%9f%e2%81%a1%e2%81%a1%ef%bc%88%e9%ad%9a%e6%b4%a5%ef%bc%89/
LOCATION:魚津\, 本江１０６３\, 魚津市\, 富山県\, 937-0805\, 日本
CATEGORIES:ファミリー,呉東
ATTACH;FMTTYPE=image/jpeg:https://events.toyota-mobi-toyama.jp/wp/wp-content/uploads/2024/12/image-5.jpg
END:VEVENT
BEGIN:VEVENT
DTSTART;TZID=Asia/Tokyo:20241214T090000
DTEND;TZID=Asia/Tokyo:20241215T170000
DTSTAMP:20260425T000428
CREATED:20241213T085659Z
LAST-MODIFIED:20241213T085908Z
UID:794-1734166800-1734282000@events.toyota-mobi-toyama.jp
SUMMARY:今年も開催します🎄XMAS FES🎅ご来場お待ちしてます（山室）
DESCRIPTION:こんにちは\nY-town山室です🎄 \n今年最後のＢＩＧ ＥＶＥＮＴ🔔 \n12月14日(土)ｰ15日(日)\n９：００－１７：００\nXMAS FES!!! \n２日間だけのたのしい♡♡♡\nうれしい企画をご用意しました！ \n①2日間限りの大チャンス☃\nクリスマスジャンボ🎁\n※参加条件は下記画像をご確認下さい\n \n②キー電池交換\nさんきゅーーーーーーーーーー価格❣\n通常880円(税･工賃込み)のところ・・・\n2日間限り390円(税･工賃込み)/1個 \n③WORK SHOPもあるよ～ \n\n \n  \n14日(土)10:00～　or　14:00～\nトトンさんによる\n【　しめ縄作り　】 \n\n\n \nカジュアルな雰囲気のオリジナルしめ縄作り\n※事前予約が必要です\n \nご予約は↑コチラから！ \n15日(日)10:00~15:00\nやまもとさんによる\n【　つめつめパックキーホルダー作り　】 \n\n \n\nオリジナルのゆるっとかわいいマスコットや\nパーツをつめつめ♡♡♡\nオリジナルアクセサリーを作りませんか？\n※こちらは事前予約不要です \n  \n \n  \n➃みんなだいすき大判焼き\n【　高ひろおやつ部　】さんが\n山室店に出張販売！！ \n⑤おこさま限定！！\n★おかしつかみどり🍫🍭\n※無くなり次第終了 \n★段ボール迷路\nあそびにきてね～ \n⑥2日間限定で・・\nCAFEOPEN☕\n大和屋さんの美味しい珈琲をご用意します♡ \nInstagramフォロワーさんにはいいことあるかも?!♡ \nみなさまのご来場\nお待ちしております！！🎅 \n  \n \n─── ⋆⋅🚗⋅⋆ ───
URL:https://events.toyota-mobi-toyama.jp/event/794/
LOCATION:Y-town山室\, 山室新町４１\, 富山市\, 富山県\, 939-8002\, 日本
CATEGORIES:キッズ,ファミリー,ワークショップ,富山市内
ATTACH;FMTTYPE=image/jpeg:https://events.toyota-mobi-toyama.jp/wp/wp-content/uploads/2024/12/image-6.jpg
END:VEVENT
BEGIN:VEVENT
DTSTART;TZID=Asia/Tokyo:20241214T090000
DTEND;TZID=Asia/Tokyo:20241215T170000
DTSTAMP:20260425T000428
CREATED:20241213T090334Z
LAST-MODIFIED:20241213T090404Z
UID:802-1734166800-1734282000@events.toyota-mobi-toyama.jp
SUMMARY:♡⛄クリスマスフェスin富山南⛄♡（富山南）
DESCRIPTION:  \nこんにちは\nトヨタモビリティ富山 富山南です✨ \n  \n\n\n\n今年も感謝の気持ちを込めて(*^^)v♡ \nクリスマスフェスを開催いたします！！✨ \n \n詳細はこちら\n👇 \n\n \n♥☕コーヒーの淹れ方教室☕♥ \n \n♥🎄クリスマスリース作り🎄♥ \n \nどちらもまだご予約受付中なのでぜひご参加ください♪♪ \n皆様のご来店お待ちしております(*^-^*)💕 \n  \n 
URL:https://events.toyota-mobi-toyama.jp/event/%e2%99%a1%e2%9b%84%e3%82%af%e3%83%aa%e3%82%b9%e3%83%9e%e3%82%b9%e3%83%95%e3%82%a7%e3%82%b9in%e5%af%8c%e5%b1%b1%e5%8d%97%e2%9b%84%e2%99%a1%ef%bc%88%e5%af%8c%e5%b1%b1%e5%8d%97%ef%bc%89/
LOCATION:富山南\, 黒崎１２８－１\, 富山市\, 富山県\, 939-8214\, 日本
CATEGORIES:キッズ,ファミリー,ワークショップ,富山市内
ATTACH;FMTTYPE=image/png:https://events.toyota-mobi-toyama.jp/wp/wp-content/uploads/2024/12/image-11.png
END:VEVENT
BEGIN:VEVENT
DTSTART;TZID=Asia/Tokyo:20241214T090000
DTEND;TZID=Asia/Tokyo:20241215T170000
DTSTAMP:20260425T000428
CREATED:20241213T090632Z
LAST-MODIFIED:20241213T090740Z
UID:806-1734166800-1734282000@events.toyota-mobi-toyama.jp
SUMMARY:🎄Christmas Fes 2024 🎄（中古車Garage高岡）
DESCRIPTION:中古車Ｇａｒａｇｅ高岡です。\nTHANKS from TOYOTA\nChristmas Fes 2024\n１２/１４(土)、１５(日)\nChristmas Fes\n開催致します。\nお客様に日頃の感謝をお伝えする\nイベント🎅\nを企画しております。\n🎄感謝企画第一弾🎄\n\n🎄感謝企画第二弾🎄\n\n中古車Garege高岡\n缶詰\n詰め放題🎅\n＆\n高岡駅南\nカップラーメン\n味噌汁・スープ\n詰め放題🎅\n開催！\n致します。\n🎄感謝企画第三弾🎄
URL:https://events.toyota-mobi-toyama.jp/event/%f0%9f%8e%84christmas-fes-2024-%f0%9f%8e%84%ef%bc%88%e4%b8%ad%e5%8f%a4%e8%bb%8agarage%e9%ab%98%e5%b2%a1%ef%bc%89/
LOCATION:中古車Garage高岡\, 西藤平蔵６４２\, 高岡市\, 富山県\, 933-0824\, 日本
CATEGORIES:呉西
ATTACH;FMTTYPE=image/png:https://events.toyota-mobi-toyama.jp/wp/wp-content/uploads/2024/12/image-12.png
END:VEVENT
END:VCALENDAR