BEGIN:VCALENDAR
VERSION:2.0
PRODID:-//イベントカレンダー｜トヨタモビリティ富山｜店舗イベント情報 - ECPv6.8.1//NONSGML v1.0//EN
CALSCALE:GREGORIAN
METHOD:PUBLISH
X-WR-CALNAME:イベントカレンダー｜トヨタモビリティ富山｜店舗イベント情報
X-ORIGINAL-URL:https://events.toyota-mobi-toyama.jp
X-WR-CALDESC:イベントカレンダー｜トヨタモビリティ富山｜店舗イベント情報 のイベント
REFRESH-INTERVAL;VALUE=DURATION:PT1H
X-Robots-Tag:noindex
X-PUBLISHED-TTL:PT1H
BEGIN:VTIMEZONE
TZID:Asia/Tokyo
BEGIN:STANDARD
TZOFFSETFROM:+0900
TZOFFSETTO:+0900
TZNAME:JST
DTSTART:20260101T000000
END:STANDARD
END:VTIMEZONE
BEGIN:VEVENT
DTSTART;TZID=Asia/Tokyo:20260329T110000
DTEND;TZID=Asia/Tokyo:20260329T163000
DTSTAMP:20260424T050339
CREATED:20260318T051536Z
LAST-MODIFIED:20260319T015327Z
UID:1856-1774782000-1774801800@events.toyota-mobi-toyama.jp
SUMMARY:【富山グラウジーズ】マイナビ富山支社presentsホームゲームvs滋賀レイクス
DESCRIPTION:1階ロビーのトヨタモビリティ富山ブースでは、SNSのフォローでフリスビーチャレンジを実施いたします。 \nまた、マスコットキャラクターのティモティとグラッキーとのスリーショット撮影会を開催いたします。\n【 開催時間 】①11時30分～11時45分　②12時30分～12時45分 \nゲームデーの詳細はこちら \n 
URL:https://events.toyota-mobi-toyama.jp/event/%e3%83%9e%e3%82%a4%e3%83%8a%e3%83%93%e5%af%8c%e5%b1%b1%e6%94%af%e7%a4%bepresents%e3%83%9b%e3%83%bc%e3%83%a0%e3%82%b2%e3%83%bc%e3%83%a0vs%e6%bb%8b%e8%b3%80%e3%83%ac%e3%82%a4%e3%82%af%e3%82%b9/
LOCATION:富山県
CATEGORIES:スポーツ
ATTACH;FMTTYPE=image/png:https://events.toyota-mobi-toyama.jp/wp/wp-content/uploads/2026/03/ティモティ_バスケ.png
END:VEVENT
BEGIN:VEVENT
DTSTART;TZID=Asia/Tokyo:20260401T190000
DTEND;TZID=Asia/Tokyo:20260401T210000
DTSTAMP:20260424T050339
CREATED:20260319T014822Z
LAST-MODIFIED:20260319T015242Z
UID:1860-1775070000-1775077200@events.toyota-mobi-toyama.jp
SUMMARY:【富山グラウジーズ】トヨタモビリティ富山presentsホームゲーム vs琉球ゴールデンキングス
DESCRIPTION:4/1はトヨタモビリティ富山 スポンサーマッチ開催！ \n詳細は富山グラウジーズHPをチェック！
URL:https://events.toyota-mobi-toyama.jp/event/%e3%80%90%e5%af%8c%e5%b1%b1%e3%82%b0%e3%83%a9%e3%82%a6%e3%82%b8%e3%83%bc%e3%82%ba%e3%80%91%e3%83%88%e3%83%a8%e3%82%bf%e3%83%a2%e3%83%93%e3%83%aa%e3%83%86%e3%82%a3%e5%af%8c%e5%b1%b1presents%e3%83%9b/
LOCATION:富山県
CATEGORIES:スポーツ
ATTACH;FMTTYPE=image/png:https://events.toyota-mobi-toyama.jp/wp/wp-content/uploads/2026/03/ティモティ_バスケ.png
END:VEVENT
BEGIN:VEVENT
DTSTART;TZID=Asia/Tokyo:20260515T103000
DTEND;TZID=Asia/Tokyo:20260515T120000
DTSTAMP:20260424T050339
CREATED:20260422T043748Z
LAST-MODIFIED:20260422T043748Z
UID:1865-1778841000-1778846400@events.toyota-mobi-toyama.jp
SUMMARY:【Y-town山室】アトリエワイタウン✐美味しい珈琲の淹れ方教室☕
DESCRIPTION:こんにちは\nY-town山室です☀ \n2024年4月よりはじまりました🌱\n◤　アトリエワイタウン　◢ \nお休みをいただいておりましたが・・\n再開させて頂く運びとなりました♥\nまた、たくさんの方にお会いできることをたのしみに\nワークショップを企画させて頂きます！ \nさっそくですが\n開催日のご案内です👐 \n5月15日(金)\n大和屋珈琲さんによる\n美味しい珈琲の淹れ方教室\n \n時間🕜　　10時30分～(1時間～1時間30分を予定しています)\n定員　　　8名\n参加費用　　1\,000円(お土産付き)\n※当日現金でのお支払いをお願い致します。 \n毎回大好評の珈琲教室☕️☕️\n普段からご自宅で珈琲を楽しんでいらっしゃる方必見👀✨️\n淹れ方はもちろん、豆による風味や特徴の違いもご紹介してくださいます👂👂\nご予約はおはやめに‼️‼️ \nご予約は下記フォームよりお願い致します！\n \nY-town山室にご来店されたことのない方も大歓迎👍🏻⸒⸒\nお友達連れでぜひご参加下さい!!📢¨̮♡\nお待ちしております⸜🙌🏻⸝‍ \n─── ⋆⋅🚗⋅⋆ ─── \n \n \n \n \n \n \n \n \n \n─── ⋆⋅🚗⋅⋆ ───
URL:https://events.toyota-mobi-toyama.jp/event/%e3%80%90y-town%e5%b1%b1%e5%ae%a4%e3%80%91%e3%82%a2%e3%83%88%e3%83%aa%e3%82%a8%e3%83%af%e3%82%a4%e3%82%bf%e3%82%a6%e3%83%b3%e2%9c%90%e7%be%8e%e5%91%b3%e3%81%97%e3%81%84%e7%8f%88%e7%90%b2%e3%81%ae/
LOCATION:Y-town山室\, 山室新町４１\, 富山市\, 富山県\, 939-8002\, 日本
CATEGORIES:カフェ,ワークショップ
ATTACH;FMTTYPE=image/png:https://events.toyota-mobi-toyama.jp/wp/wp-content/uploads/2026/04/26アトリエ.png
END:VEVENT
END:VCALENDAR