BEGIN:VCALENDAR
VERSION:2.0
PRODID:-//イベントカレンダー｜トヨタモビリティ富山｜店舗イベント情報 - ECPv6.8.1//NONSGML v1.0//EN
CALSCALE:GREGORIAN
METHOD:PUBLISH
X-WR-CALNAME:イベントカレンダー｜トヨタモビリティ富山｜店舗イベント情報
X-ORIGINAL-URL:https://events.toyota-mobi-toyama.jp
X-WR-CALDESC:イベントカレンダー｜トヨタモビリティ富山｜店舗イベント情報 のイベント
REFRESH-INTERVAL;VALUE=DURATION:PT1H
X-Robots-Tag:noindex
X-PUBLISHED-TTL:PT1H
BEGIN:VTIMEZONE
TZID:Asia/Tokyo
BEGIN:STANDARD
TZOFFSETFROM:+0900
TZOFFSETTO:+0900
TZNAME:JST
DTSTART:20240101T000000
END:STANDARD
END:VTIMEZONE
BEGIN:VEVENT
DTSTART;VALUE=DATE:20240727
DTEND;VALUE=DATE:20240729
DTSTAMP:20260424T211837
CREATED:20240714T041742Z
LAST-MODIFIED:20240714T065434Z
UID:274-1722038400-1722211199@events.toyota-mobi-toyama.jp
SUMMARY:夏祭り2024 （ランドマークSOTY双代）
DESCRIPTION:夏祭り2024⸝⋆⸝⋆\n2024.7.27(sat)-28(sun) \nランドマークSOTY双代・稲荷、中古車Garage富山で開催いたします.ᐟ.ᐟ❤️‍ \nランドマークSOTY双代では\nらくがきカー✏️　ティモティ宝探し　チャリティバザーなど\nご家族みなさんで楽しんでいただけるイベントになっております‍‍‍ \nぜひご家族みなさまでご来店くださいませ \nおトクなサービスメニューもりだくさん！♪\n詳細はInstagramをチェックしてください☑️☑️ \nhttps://www.instagram.com/toyota_soty/ \nみなさまのご来店\n心よりお待ちしております！
URL:https://events.toyota-mobi-toyama.jp/event/%e5%a4%8f%e7%a5%ad%e3%82%8a2024-%ef%bc%88%e3%83%a9%e3%83%b3%e3%83%89%e3%83%9e%e3%83%bc%e3%82%afsoty%e5%8f%8c%e4%bb%a3%ef%bc%89/
LOCATION:ランドマークSOTY双代\, 双代町１－６\, 富山市\, 富山県\, 930-0971\, 日本
CATEGORIES:キッズ,ファミリー,富山市内
END:VEVENT
BEGIN:VEVENT
DTSTART;VALUE=DATE:20240727
DTEND;VALUE=DATE:20240729
DTSTAMP:20260424T211837
CREATED:20240714T040646Z
LAST-MODIFIED:20240714T040646Z
UID:271-1722038400-1722211199@events.toyota-mobi-toyama.jp
SUMMARY:🍉夏フェスのご案内🌊🏄（黒部）
DESCRIPTION:🍉夏フェス🍉\n今年も開催します！\n日頃の感謝を込めて\n楽しい企画をご用意しました🤗💓 \n【27日のみ】\n🧪黒部市吉田科学館の工作コーナー\n＊7/27(土)10:00～14:00\n予約不要/参加費無料\n吉田科学館の出張工作コーナーがやってくる！\n羽に色を塗ってオリジナルかさ袋ロケットを作ろう🚀 \n【28日のみ】\n🦑イカのみっちゃんバルーンショー\n＊7/28(日)10:00～16:00\n予約不要/観覧無料\n富山の海からやってきたバルーンパフォーマーイカのみっちゃんが今年も登場🎈\nバナナ太郎も友情出演で盛り上げてくれること間違いなしです😎🍌 \n【両日開催】\n🎉こども縁日\n＊7/27(土)〜28(日)\nストラックアウトや射的などのゲームに挑戦！\n全てのゲームに参加して景品をゲットしよう🌟 \n🧷缶バッジ作り\n＊7/27(土)〜28(日)\n参加費無料！好きな写真やイラストを入れて缶バッジを作成します！\nマグネットにも応用がきくので冷蔵庫に貼ってお家でも楽しめます🎶 \n😋キッチンカー\n＊7/27(土)10:00〜16:00\n雷鳥綿菓さんのかき氷🍧\n＊7/28(日)10:00〜16:00\nおいもスイーツI’mOさんのスイーツ🍠\nデザートにおやつにぴったり♡\nぜひお買い求めください！\n※無くなり次第終了 \nなどなど🤗\n詳しくは画像をチェック👀\nイベントたくさんご用意して\nみなさまのご来店お待ちしております☺️💓
URL:https://events.toyota-mobi-toyama.jp/event/%f0%9f%8d%89%e5%a4%8f%e3%83%95%e3%82%a7%e3%82%b9%e3%81%ae%e3%81%94%e6%a1%88%e5%86%85%f0%9f%8c%8a%f0%9f%8f%84%ef%bc%88%e9%bb%92%e9%83%a8%ef%bc%89/
LOCATION:黒部\, 荻生８７２７－１\, 黒部市\, 富山県\, 938-0801\, 日本
CATEGORIES:キッズ,ファミリー,ワークショップ,呉東
ATTACH;FMTTYPE=image/jpeg:https://events.toyota-mobi-toyama.jp/wp/wp-content/uploads/2024/07/image-1.jpg
END:VEVENT
BEGIN:VEVENT
DTSTART;VALUE=DATE:20240727
DTEND;VALUE=DATE:20240729
DTSTAMP:20260424T211837
CREATED:20240714T040444Z
LAST-MODIFIED:20240714T040444Z
UID:268-1722038400-1722211199@events.toyota-mobi-toyama.jp
SUMMARY:🌺夏フェス2024🌊（富山南）
DESCRIPTION:今年も開催します！\n🌻夏フェス2024🌻\n開催日：7月27日(土)28日(日) \n \nご来店された方どなたでも\nご参加いただける縁日コーナー🎯や\n落書きカー🚗をご用意しております！ \nまた、今回は28日(日)限定で\nワークショップも開催いたします！\n講師にごこちさんをお招きして\nフラワーボックス作りをしますよ！\n贈り物にもインテリアにもおすすめです❤\nお気軽にご参加ください😊\n※数に限りがあります、なくなり次第終了です。 \n＼皆さまのご来店・ご参加お待ちしております！／
URL:https://events.toyota-mobi-toyama.jp/event/%f0%9f%8c%ba%e5%a4%8f%e3%83%95%e3%82%a7%e3%82%b92024%f0%9f%8c%8a%ef%bc%88%e5%af%8c%e5%b1%b1%e5%8d%97%ef%bc%89/
LOCATION:富山南\, 黒崎１２８－１\, 富山市\, 富山県\, 939-8214\, 日本
CATEGORIES:キッズ,ファミリー,ワークショップ,富山市内
ATTACH;FMTTYPE=image/jpeg:https://events.toyota-mobi-toyama.jp/wp/wp-content/uploads/2024/07/image.jpg
END:VEVENT
BEGIN:VEVENT
DTSTART;VALUE=DATE:20240727
DTEND;VALUE=DATE:20240729
DTSTAMP:20260424T211837
CREATED:20240710T092657Z
LAST-MODIFIED:20240714T024028Z
UID:232-1722038400-1722211199@events.toyota-mobi-toyama.jp
SUMMARY:日頃の感謝を込めて💕ヒバリマルシェ🐤🌈（小杉）
DESCRIPTION:イベントのご案内ꉂꉂ📢\n⁡\n╭━━━━━━━━━━━━━━━━━━━╮\n日頃の感謝を込めて💕ヒバリマルシェ🐤🌈\n2024/7/27(土)･28(日) 9:00~16:00\n╰━━ v ━━━━━━━━━━━━━━━━╯\n⁡\n今回も皆様に楽しんでいただけるよう\nワークショップやケータリング等\n盛りだくさんのヒバリマルシェを開催💐\n⁡\n﹏﹏﹏﹏﹏﹏﹏﹏﹏﹏﹏﹏﹏﹏﹏﹏﹏﹏\n⁡\n気になるラインナップは…☺♥\n⁡\n🏮縁日コーナー\n射的･輪投げ･駄菓子屋･スーパーボールすくい\n🎐風鈴絵付け体験\n[定員 各日5名/所要時間 約30分/参加費 500円]\n🎁 チャリティーバザー \nさらに👏👏👏\n⁡\n7/27(土) #おやたま さん\n7/28(日) TIO TIIOさん\nのケータリング販売もございます🍧🍙❗️ \n⁡\nまた、ヒバリマルシェの2日間限定で\nスタッドレスタイヤ&アルミセットの\n特価販売を行います🚙💫\n⁡\n詳しくは投稿画像をご覧ください✔️😎\n⁡\n⁡ \nイベント期間中は\nつめた〜いドリンクをご用意しております🥤\n今年もこの暑い夏を\nトヨタモビリティ富山  小杉 で楽しみましょう❤️‍🔥\n⁡ \n﹏﹏﹏﹏﹏﹏﹏﹏﹏﹏﹏﹏﹏﹏﹏﹏﹏﹏\n⁡\n⁡\n試乗車･展示車を多数ご用意しております💪\n新車はもちろん❗️\n中古車も取り扱っております❗️\nご検討中の方は\n是非この機会にご相談ください🗣💭\n⁡\n⁡\n皆様のご来店を小杉スタッフ一同\n心よりお待ちしております😋♡ \n⁡
URL:https://events.toyota-mobi-toyama.jp/event/%e3%80%90%e5%b0%8f%e6%9d%89%e3%80%91%e6%97%a5%e9%a0%83%e3%81%ae%e6%84%9f%e8%ac%9d%e3%82%92%e8%be%bc%e3%82%81%e3%81%a6%f0%9f%92%95%e3%83%92%e3%83%90%e3%83%aa%e3%83%9e%e3%83%ab%e3%82%b7%e3%82%a7/
LOCATION:小杉\, 戸破１７２３－１\, 射水市\, 富山県\, 939-0351\, 日本
CATEGORIES:キッズ,ファミリー,ワークショップ,呉西
ATTACH;FMTTYPE=image/png:https://events.toyota-mobi-toyama.jp/wp/wp-content/uploads/2024/07/image.png
END:VEVENT
BEGIN:VEVENT
DTSTART;VALUE=DATE:20240727
DTEND;VALUE=DATE:20240729
DTSTAMP:20260424T211837
CREATED:20240710T092215Z
LAST-MODIFIED:20240717T055827Z
UID:229-1722038400-1722211199@events.toyota-mobi-toyama.jp
SUMMARY:🍉夏フェス２０２４🍉（富山みらい北）
DESCRIPTION:📣イベントのご案内✶ \n７／２７（土）・２８（日）\n🍉夏フェス２０２４🍉\nｉｎ富山みらい北　  \n今年も開催いたします(^O^)／ \n○縁日🥤\n○段ボール迷路🌟\n○キッズエンジニア\n（※キッズエンジニアは要予約） \n盛りだくさんな２日間❤\n詳しくは嘉造をチェック👇\n \nキッズエンジニアは予約が必要です🔧\n☎076-438-4545\n詳しい内容は画像をチェック👇\n \n富山みらい北の『夏フェス』で\n夏休みの思い出つくりませんか？(*’ω’*) \nみなさまのご来店\nお待ちしております～👐💕 \n\n  \n▶富山みらい北の店舗情報は\nこちらをクリック↓\n富山みらい北▶インスタグラムもチェック！\nイベント案内やお得な情報を\n投稿しています(^o^)丿\nフォロー&いいね💕お願いします♩
URL:https://events.toyota-mobi-toyama.jp/event/%f0%9f%8d%89%e5%a4%8f%e3%83%95%e3%82%a7%e3%82%b9%ef%bc%92%ef%bc%90%ef%bc%92%ef%bc%94%f0%9f%8d%89%ef%bd%89%ef%bd%8e%e5%af%8c%e5%b1%b1%e3%81%bf%e3%82%89%e3%81%84%e5%8c%97/
LOCATION:富山みらい北\, 上野新町７－５８\, 富山市\, 富山県\, 931-8326\, 日本
CATEGORIES:キッズ,ファミリー,富山市内
ATTACH;FMTTYPE=image/png:https://events.toyota-mobi-toyama.jp/wp/wp-content/uploads/2024/07/図1-1.png
END:VEVENT
BEGIN:VEVENT
DTSTART;VALUE=DATE:20240727
DTEND;VALUE=DATE:20240729
DTSTAMP:20260424T211837
CREATED:20240724T013843Z
LAST-MODIFIED:20240724T014021Z
UID:303-1722038400-1722211199@events.toyota-mobi-toyama.jp
SUMMARY:イロドリトナミ Summer Fes（砺波）
DESCRIPTION:☁️ July ・Event Information ！☁️ \nイロドリトナミ Summer Fes🐠👘👒\n7/27(土)•28(日) \n皆さ〜ん🗣️✨\n今年も”夏フェス❤️‍🔥”を開催します🥺 \n \n♡ご来店特典♡\nご来店の方にお菓子をプレゼント🍭 \n♡縁日♡\nわなげ、まとあて、射的！\n景品もご用意しております😌✨\n※数に限りがございます。 \n♡チャリティーバザー♡\n品川グループ交通遺児を励ます募金です！\n皆様のご協力お願いします🥺！ \n♡ケータリング♡ 【両日】\n(@bakers_house_kubota)さんの\nパン🥐を販売させて頂きます🤤💖\n彫刻の町”井波”にある、お家のような人気のお店です🏡\n※数に限りがございます。 \n♡キッチンカー♡\n•7/27(土)はクリームソーダー🥤ポテト&チキン🍟🍗\nたこ焼き🐙を提供！(@leaf__828)さん！ \n・7/28(日)はインスタ映えする可愛くて美味しいクレープ🍓💖\n(rabitan_crepe)さん！ \n当店のインスタグラムのフォロワー様限定🤩\nご来店でキッチンカーで使える割引券も\n差し上げます🙌🏻 \nまた裏では、夏フェス限定！\nスタッドレスタイヤアルミセットを特別価格でご案内！！🛞✨ \nさらに砺波で展示中の中古車をご紹介‼︎🚘\n中古車はすべて一点もの！\n早い者勝ちなので気になる車がある方はお急ぎくださいね💦 \n \nチラシで紹介している他にも、\nトヨタモビリティ富山ではたくさんの中古車をご用意しております🙌🏻 \n中古車も砺波スタッフにお任せくださいね💪🏼✨ \n7月も皆様のご来店お待ちしております☘️✨ \nトヨタモビリティ富山 砺波\n📍富山県砺波市太郎丸3丁目50\n📞0763-33-4141 \n▶︎営業時間\n(平日)9:30〜18:30\n【サービス工場は17:00まで(受付16:30まで)】\n(土日)9:00〜18:30\n【サービス工場は17:30まで(受付17:00まで)】 \n୨୧┈┈┈┈┈┈┈┈┈┈┈┈┈┈┈┈┈୨୧
URL:https://events.toyota-mobi-toyama.jp/event/%e3%82%a4%e3%83%ad%e3%83%89%e3%83%aa%e3%83%88%e3%83%8a%e3%83%9f-summer-fes%ef%bc%88%e7%a0%ba%e6%b3%a2%ef%bc%89/
LOCATION:砺波\, 太郎丸３－５０\, 砺波市\, 富山県\, 939-1363\, 日本
CATEGORIES:キッズ,ファミリー,呉西
ATTACH;FMTTYPE=image/png:https://events.toyota-mobi-toyama.jp/wp/wp-content/uploads/2024/07/夏フェス.png
END:VEVENT
BEGIN:VEVENT
DTSTART;VALUE=DATE:20240727
DTEND;VALUE=DATE:20240729
DTSTAMP:20260424T211837
CREATED:20240630T232747Z
LAST-MODIFIED:20240717T060318Z
UID:222-1722038400-1722211199@events.toyota-mobi-toyama.jp
SUMMARY:トヨタモビリティ富山　🎆夏フェス🎆（全店舗）
DESCRIPTION:  \n暑い日が続いていますが、皆様いかが過ごしでしょうか？\n7月27日（土）・28日（日）にトヨタモビリティ富山　県内15店舗で夏フェスを開催します✨ \n \n各店舗の楽しいイベントは今後公開予定ですので、乞うご期待ください！ \nここでは、全店舗での統一イベントをご紹介！ \n  \nティモティチャット登録でティモティグッズゲットだぜ　キャンペーン \nおクルマの点検・整備の予約でこんなことありませんか？ \n \n \n  \n夏フェスにご来場いただき、ティモティチャットにご登録頂くと、漏れなくティモティグッズをプレゼント！
URL:https://events.toyota-mobi-toyama.jp/event/%e3%83%88%e3%83%a8%e3%82%bf%e3%83%a2%e3%83%93%e3%83%aa%e3%83%86%e3%82%a3%e5%af%8c%e5%b1%b1%e3%80%80%f0%9f%8e%86%e5%a4%8f%e3%83%95%e3%82%a7%e3%82%b9%f0%9f%8e%86%ef%bc%88%e5%85%a8%e5%ba%97%e8%88%97/
CATEGORIES:キッズ,スポーツ,ファミリー,ワークショップ,呉東,呉西,富山市内
ATTACH;FMTTYPE=image/png:https://events.toyota-mobi-toyama.jp/wp/wp-content/uploads/2024/07/トヨタモビリティ富山様夏フェスSNS0703.png
END:VEVENT
BEGIN:VEVENT
DTSTART;VALUE=DATE:20240713
DTEND;VALUE=DATE:20240715
DTSTAMP:20260424T211837
CREATED:20240630T061146Z
LAST-MODIFIED:20240728T022339Z
UID:171-1720828800-1721001599@events.toyota-mobi-toyama.jp
SUMMARY:携帯電話料金診断会（五福）
DESCRIPTION:7/13(土)・7/14(日)の2日間\nトヨタモビリティ富山　Gスクエア五福にて\n携帯電話料金診断会を開催します📱👩🏻‍💼👨🏻‍💼 \n \n皆さん定期的に家計の見直しはされていますか？\n携帯電話の相談に行きたいけど時間がないな、\n予約が取れないな、なんてことはありませんか？\nトヨタモビリティ富山なら、点検の待ち時間にいつでも携帯電話の相談ができます！ \nクルマ🚗もスマホ📱もトヨタのお店で✨ \n皆様のご来店心よりお待ちしております🌼 \n▶︎営業時間\n(平日)9:30〜18:30\n【サービス工場は17:30まで(受付17:00まで)】\n(土日)9:00〜18:30\n【サービス工場は17:00まで(受付16:30まで)】
URL:https://events.toyota-mobi-toyama.jp/event/%e6%90%ba%e5%b8%af%e9%9b%bb%e8%a9%b1%e6%96%99%e9%87%91%e8%a8%ba%e6%96%ad%e4%bc%9a%ef%bc%88%e4%ba%94%e7%a6%8f%ef%bc%89/
LOCATION:Gスクエア五福\, 五福末広町１２３８\, 富山市\, 富山県\, 930-0884\, 日本
CATEGORIES:その他,富山市内
ATTACH;FMTTYPE=image/png:https://events.toyota-mobi-toyama.jp/wp/wp-content/uploads/2024/06/携帯料金診断会-1.png
END:VEVENT
BEGIN:VEVENT
DTSTART;TZID=Asia/Tokyo:20240707T130000
DTEND;TZID=Asia/Tokyo:20240707T153000
DTSTAMP:20260424T211837
CREATED:20240630T101146Z
LAST-MODIFIED:20240702T034218Z
UID:206-1720357200-1720366200@events.toyota-mobi-toyama.jp
SUMMARY:🔵🔴第5回ボッチャ大会🔴🔵 ⭐️Toyota Mobility Toyama CUP2024🏆　（魚津）
DESCRIPTION:こんにちは❣\nいつも魚津ブログ🐠をご覧いただき\nありがとうございます\n(/・ω・)/●　　●○●● \n▢ ▣ ▢ ▣ ▢ ▣ ▢ ▣ ▢ ▣ ▢ ▣ ▢ ▣ ▢ ▣ ▢\n🔵🔴第5回ボッチャ大会🔴🔵\n⭐️Toyota Mobility Toyama CUP2024🏆\n▢ ▣ ▢ ▣ ▢ ▣ ▢ ▣ ▢ ▣ ▢ ▣ ▢ ▣ ▢ ▣ ▢  \n \n今年も、ボッチャ大会出場メンバーを募集します!!🕺\nついに5回目の開催となりました👀✨️ \n【開催概要】\n日時：7月7日(日)13:00～15:30(予定) \n募集組数：8チーム(1～10名で参加🆗)\n※定員に達し次第締切となります。 \n参加費：無料 \n【お申し込み方法】\n次のいずれかの方法でお申込ください。\n①応募フォームから申し込みする。\n第5回ボッチャ大会申込フォーム \n②電話で申し込みする。\n📞0765-24-1616 \n③ボッチャ大会参加申込書を\nトヨタモビリティ富山魚津に提出する。 \n今大会もスペシャルゲストにボッチャ選手、\n藤井友里子選手をお招きしての開催です❣️✨️\nMCには、元FMとやまアナウンサーの住吉今日子さん、\nお笑い芸人のゴメス★河田さんが登場!!❤️‍🔥\n第5回ボッチャ大会、賑やかな大会になりそうです😍 \n経験者の方も未経験の方も、\nぜひご家族やお友達、部活、\n会社の同僚の方などでチームを作って\nご参加ください！🤗💖 \n​​​​​​​ \n\n【魚津 試乗車・展示車はこちら】\n↓\n🐈CLICK！  \n【魚津 店舗ブログはこちら】\n↓\n🐶CLICK！ \nトヨタモビリティ富山 魚津 \n富山県魚津市本江１０６３番地
URL:https://events.toyota-mobi-toyama.jp/event/%e3%80%90%e9%ad%9a%e6%b4%a5%e3%80%91%f0%9f%94%b5%f0%9f%94%b4%e7%ac%ac5%e5%9b%9e%e3%83%9c%e3%83%83%e3%83%81%e3%83%a3%e5%a4%a7%e4%bc%9a%f0%9f%94%b4%f0%9f%94%b5-%e2%ad%90%ef%b8%8ftoyota-mobility-toyama-c/
LOCATION:魚津\, 本江１０６３\, 魚津市\, 富山県\, 937-0805\, 日本
CATEGORIES:キッズ,スポーツ,ファミリー,呉東
ATTACH;FMTTYPE=image/png:https://events.toyota-mobi-toyama.jp/wp/wp-content/uploads/2024/06/プレゼンテーション1.png
END:VEVENT
BEGIN:VEVENT
DTSTART;TZID=Asia/Tokyo:20240707T100000
DTEND;TZID=Asia/Tokyo:20240707T160000
DTSTAMP:20260424T211837
CREATED:20240706T083637Z
LAST-MODIFIED:20240706T083708Z
UID:217-1720346400-1720368000@events.toyota-mobi-toyama.jp
SUMMARY:KNBサマーフェスティバル2024（外部出展）
DESCRIPTION:■イベント案内はこちら\nhttps://www.knb.ne.jp/summer_festival/ \n■弊社コンテンツ内容\nbZ4x展示\nC＋walk試乗体験
URL:https://events.toyota-mobi-toyama.jp/event/knb%e3%82%b5%e3%83%9e%e3%83%bc%e3%83%95%e3%82%a7%e3%82%b9%e3%83%86%e3%82%a3%e3%83%90%e3%83%ab2024%ef%bc%88%e5%a4%96%e9%83%a8%e5%87%ba%e5%b1%95%ef%bc%89/
CATEGORIES:富山市内
ATTACH;FMTTYPE=image/png:https://events.toyota-mobi-toyama.jp/wp/wp-content/uploads/2024/07/無題.png
END:VEVENT
BEGIN:VEVENT
DTSTART;VALUE=DATE:20240706
DTEND;VALUE=DATE:20240708
DTSTAMP:20260424T211837
CREATED:20240630T071925Z
LAST-MODIFIED:20240728T022140Z
UID:190-1720224000-1720396799@events.toyota-mobi-toyama.jp
SUMMARY:KINTO商談会（五福）
DESCRIPTION:7/6(土)・7/7(日)\nトヨタモビリティ富山　五福にて\nKINTO商談会を開催します🚗 \n \n自動車税、任意保険、自賠責保険、メンテナンス代、故障修理費用などなど…\nクルマの維持費に必要な諸費用が月々コミコミ定額で、トヨタの新車に乗れるサブスクサービス、KINTO☁️ \n初めてのクルマや、買い替えでお困りなことがあれば、ぜひこの機会にご相談ください！ \n皆様のご来店心よりお待ちしております🌼 \n▶︎営業時間\n(平日)9:30〜18:30\n【サービス工場は17:30まで(受付17:00まで)】\n(土日)9:00〜18:30\n【サービス工場は17:00まで(受付16:30まで)】
URL:https://events.toyota-mobi-toyama.jp/event/kinto%e5%95%86%e8%ab%87%e4%bc%9a%ef%bc%88%e4%ba%94%e7%a6%8f%ef%bc%89/
LOCATION:Gスクエア五福\, 五福末広町１２３８\, 富山市\, 富山県\, 930-0884\, 日本
CATEGORIES:その他,富山市内
ATTACH;FMTTYPE=image/png:https://events.toyota-mobi-toyama.jp/wp/wp-content/uploads/2024/06/見出しを追加-2.png
END:VEVENT
END:VCALENDAR