BEGIN:VCALENDAR
VERSION:2.0
PRODID:-//イベントカレンダー｜トヨタモビリティ富山｜店舗イベント情報 - ECPv6.8.1//NONSGML v1.0//EN
CALSCALE:GREGORIAN
METHOD:PUBLISH
X-WR-CALNAME:イベントカレンダー｜トヨタモビリティ富山｜店舗イベント情報
X-ORIGINAL-URL:https://events.toyota-mobi-toyama.jp
X-WR-CALDESC:イベントカレンダー｜トヨタモビリティ富山｜店舗イベント情報 のイベント
REFRESH-INTERVAL;VALUE=DURATION:PT1H
X-Robots-Tag:noindex
X-PUBLISHED-TTL:PT1H
BEGIN:VTIMEZONE
TZID:Asia/Tokyo
BEGIN:STANDARD
TZOFFSETFROM:+0900
TZOFFSETTO:+0900
TZNAME:JST
DTSTART:20240101T000000
END:STANDARD
END:VTIMEZONE
BEGIN:VEVENT
DTSTART;VALUE=DATE:20241023
DTEND;VALUE=DATE:20241024
DTSTAMP:20260425T003428
CREATED:20241010T050115Z
LAST-MODIFIED:20241010T050742Z
UID:584-1729641600-1729727999@events.toyota-mobi-toyama.jp
SUMMARY:第6回アトリエワイタウン✐美味しい珈琲の淹れ方教室【Y-town山室】
DESCRIPTION:こんにちは\nY-town山室です☀ \n4月よりはじまりました🌱\n◤　アトリエワイタウン　◢ \n月に1度平日開催のワークショップ\n次回開催日のご案内です👐 \n第６回　10月23日(水)\n大和屋さんとのコラボレーション☕🌈\n美味しい珈琲の淹れ方教室 \n \n講師　　大和屋 さん\n時間🕜　　10時30分～11時30分(予定)\n定員　　　8名\n参加費用　　500円(税･材料費込み)\n※当日現金でのお支払いをお願い致します \n今回はなんと大和屋さんが出張珈琲教室を開催して下さいます\nハンドドリップで美味しく珈琲を淹れるコツはもちろん！！\n豆による風味の違いなども教えて下さります！！☕ \nご予約は下記Googleフォームよりお願い致します\n\n\n \n山室店にご来店されたことがないお客様も大歓迎!\nご参加お待ちしております♡
URL:https://events.toyota-mobi-toyama.jp/event/%e7%ac%ac6%e5%9b%9e%e3%82%a2%e3%83%88%e3%83%aa%e3%82%a8%e3%83%af%e3%82%a4%e3%82%bf%e3%82%a6%e3%83%b3%e2%9c%90%e3%80%90%e7%be%8e%e5%91%b3%e3%81%97%e3%81%84%e7%8f%88%e7%90%b2%e3%81%ae%e6%b7%b9%e3%82%8c/
LOCATION:Y-town山室\, 山室新町４１\, 富山市\, 富山県\, 939-8002\, 日本
CATEGORIES:ワークショップ
ATTACH;FMTTYPE=image/png:https://events.toyota-mobi-toyama.jp/wp/wp-content/uploads/2024/10/コーヒー1023.png
END:VEVENT
BEGIN:VEVENT
DTSTART;TZID=Asia/Tokyo:20241022T130000
DTEND;TZID=Asia/Tokyo:20241027T153000
DTSTAMP:20260425T003428
CREATED:20241005T024530Z
LAST-MODIFIED:20241024T065838Z
UID:576-1729602000-1730043000@events.toyota-mobi-toyama.jp
SUMMARY:ＳＰＯＲＴＳ　ＳＰＯＴ　スポスポ開催！（Gスクエア五福）
DESCRIPTION:こんにちは！Ｇスクエア五福です💛 \n３月に開催させていただいた「ＳＰＯＲＴＳ ＳＰＯＴ スポスポ」\nとても好評いただきまして、再びＧスクエア五福にて開催を決定致しました！ \n \n💡スポスポって何？ \n🧭ご予約はコチラからも出来ます！ \nＧスクエア五福でお子様の「運動能力の特徴や自分向きのスポーツ」がわかる！\n最新の測定機材を使った「スポーツ能力測定会」をこの機会に是非体験してみませんか？🏋🏻‍♀️🏋🏻‍♂️ \n参加費は無料です！皆様のご予約お待ちしてます🤍
URL:https://events.toyota-mobi-toyama.jp/event/%ef%bd%93%ef%bd%90%ef%bd%8f%ef%bd%92%ef%bd%94%ef%bd%93%e3%80%80%ef%bd%93%ef%bd%90%ef%bd%8f%ef%bd%94%e3%80%80%e3%82%b9%e3%83%9d%e3%82%b9%e3%83%9d%e9%96%8b%e5%82%ac%ef%bc%81/
LOCATION:Gスクエア五福\, 五福末広町１２３８\, 富山市\, 富山県\, 930-0884\, 日本
CATEGORIES:キッズ,スポーツ,ファミリー,呉東,富山市内
ATTACH;FMTTYPE=image/png:https://events.toyota-mobi-toyama.jp/wp/wp-content/uploads/2024/10/スライド1-1.png
END:VEVENT
BEGIN:VEVENT
DTSTART;VALUE=DATE:20241019
DTEND;VALUE=DATE:20241101
DTSTAMP:20260425T003428
CREATED:20241024T065641Z
LAST-MODIFIED:20241024T065751Z
UID:618-1729296000-1730419199@events.toyota-mobi-toyama.jp
SUMMARY:ハロウィンフェア（Y-town山室）
DESCRIPTION:こんにちは\nY-town山室です🌈 \n先日からご案内しております\nハロウィンフェア\nいよいよ明日から開催です！\n \n期間中はたのしいイベントもご用意！🚘♡ \n大人も子ども楽しめるミニゲーム❕\nプルバックミニカーチャレンジ🚘💨\n \nご参加には、Instagramのフォロー\nもしくはチャットヨ会員登録をお願い致します❣ \nハロウィン工作\nスパイダーキャンディー作り\n \nこちらは参加費無料です\nぜひ、作ってみてね～♡♡♡ \n期間中は中古車フェアも開催しております \n・・・・イベント期間・・・・\n10月19日㈯～31日㈭\n※21日㈪・28日㈪は定休日 \nみなさまのご来場お待ちしております!! \n─── ⋆⋅🚗⋅⋆ ───
URL:https://events.toyota-mobi-toyama.jp/event/%e3%83%8f%e3%83%ad%e3%82%a6%e3%82%a3%e3%83%b3%e3%83%95%e3%82%a7%e3%82%a2%ef%bc%88y-town%e5%b1%b1%e5%ae%a4%ef%bc%89/
LOCATION:Y-town山室\, 山室新町４１\, 富山市\, 富山県\, 939-8002\, 日本
CATEGORIES:キッズ,ファミリー,富山市内
ATTACH;FMTTYPE=image/jpeg:https://events.toyota-mobi-toyama.jp/wp/wp-content/uploads/2024/10/image-4.jpg
END:VEVENT
BEGIN:VEVENT
DTSTART;VALUE=DATE:20241019
DTEND;VALUE=DATE:20241021
DTSTAMP:20260425T003428
CREATED:20241001T043904Z
LAST-MODIFIED:20241006T074952Z
UID:566-1729296000-1729468799@events.toyota-mobi-toyama.jp
SUMMARY:くるまみらいフェス2024
DESCRIPTION:くるまみらいフェスの情報はこちらをクリック！ \n \n  \n  \n  \n 
URL:https://events.toyota-mobi-toyama.jp/event/%e3%81%8f%e3%82%8b%e3%81%be%e3%81%bf%e3%82%89%e3%81%84%e3%83%95%e3%82%a7%e3%82%b92024/
CATEGORIES:キッズ,スポーツ,ファミリー,ワークショップ,富山市内
ATTACH;FMTTYPE=image/png:https://events.toyota-mobi-toyama.jp/wp/wp-content/uploads/2024/10/i_logo.png
END:VEVENT
BEGIN:VEVENT
DTSTART;TZID=Asia/Tokyo:20241013T003000
DTEND;TZID=Asia/Tokyo:20241013T023000
DTSTAMP:20260425T003428
CREATED:20240905T004815Z
LAST-MODIFIED:20241001T043548Z
UID:417-1728779400-1728786600@events.toyota-mobi-toyama.jp
SUMMARY:トヨタモビリティ富山×カターレ富山　サッカーキッズ２０２４
DESCRIPTION:■イベント概要 \nトヨタモビリティ富山×カターレ富山サッカーキッズ２０２４開催ならびに参加チーム・参加者募集のお知らせ \n \n\n詳細は上記よりご確認ください。 \n 
URL:https://events.toyota-mobi-toyama.jp/event/%e3%83%88%e3%83%a8%e3%82%bf%e3%83%a2%e3%83%93%e3%83%aa%e3%83%86%e3%82%a3%e5%af%8c%e5%b1%b1x%e3%82%ab%e3%82%bf%e3%83%bc%e3%83%ac%e5%af%8c%e5%b1%b1%e3%80%80%e3%82%b5%e3%83%83%e3%82%ab%e3%83%bc/
CATEGORIES:キッズ,スポーツ,富山市内
ATTACH;FMTTYPE=image/png:https://events.toyota-mobi-toyama.jp/wp/wp-content/uploads/2024/09/e4b22f2f31cefbc2394bba06b1ecfef2-768x512-1.png
END:VEVENT
BEGIN:VEVENT
DTSTART;TZID=Asia/Tokyo:20241010T103000
DTEND;TZID=Asia/Tokyo:20241010T113000
DTSTAMP:20260425T003428
CREATED:20240925T084501Z
LAST-MODIFIED:20241001T040245Z
UID:504-1728556200-1728559800@events.toyota-mobi-toyama.jp
SUMMARY:第５回アトリエワイタウン✐【タイルで飾るコースターorフォトフレーム作り】（Y-town山室）
DESCRIPTION:  \nこんにちは\nY-town山室です☀ \n4月よりはじまりました🌱\n◤　アトリエワイタウン　◢ \n月に1度平日開催のワークショップ\n次回開催日のご案内です👐 \n第5回　10月10日(木)\nトトンさんとのコラボレーション✨🌈\nタイルで飾るコースターorフォトフレーム作り \n \n講師　　toton.komesan さん\n時間🕜　　10時30分～11時30分(予定)\n定員　　　8名\n参加費用　　500円(税･材料費込み) \n※当日現金でのお支払いをお願いいたします。\n※コースターorフォトフレームはお申込み時にご選択ください。 \n\n \nトトンさんでは主に端材を生かしたワークショップを開催されています\n今回は当店とのコラボということで・・\n車のシートを土台にコースター作りを！！！👀 \nGoogleフォームよりお申込みください。\n \n山室店にご来店されたことがないお客様も大歓迎!\nご参加お待ちしております♡
URL:https://events.toyota-mobi-toyama.jp/event/%e7%ac%ac%ef%bc%95%e5%9b%9e%e3%82%a2%e3%83%88%e3%83%aa%e3%82%a8%e3%83%af%e3%82%a4%e3%82%bf%e3%82%a6%e3%83%b3%e2%9c%90%e3%80%90%e3%82%bf%e3%82%a4%e3%83%ab%e3%81%a7%e9%a3%be%e3%82%8b%e3%82%b3%e3%83%bc/
LOCATION:Y-town山室\, 山室新町４１\, 富山市\, 富山県\, 939-8002\, 日本
ATTACH;FMTTYPE=image/png:https://events.toyota-mobi-toyama.jp/wp/wp-content/uploads/2024/09/トトンさんWSpng.png
END:VEVENT
BEGIN:VEVENT
DTSTART;TZID=Asia/Tokyo:20241006T100000
DTEND;TZID=Asia/Tokyo:20241006T170000
DTSTAMP:20260425T003428
CREATED:20241001T043208Z
LAST-MODIFIED:20241001T043404Z
UID:548-1728208800-1728234000@events.toyota-mobi-toyama.jp
SUMMARY:あすフェス24
DESCRIPTION:■イベント概要は下記をご確認ください \nあすフェス24チラシ \n\n\n当社ブースでは「ラッキータイヤチャレンジ」の実施とシエンタ・ヴォクシーの展示を行います！ \n  \n  \n  \n  \n 
URL:https://events.toyota-mobi-toyama.jp/event/%e3%81%82%e3%81%99%e3%83%95%e3%82%a7%e3%82%b924/
CATEGORIES:ファミリー,呉西
ATTACH;FMTTYPE=image/jpeg:https://events.toyota-mobi-toyama.jp/wp/wp-content/uploads/2024/10/縺ゅ☆繝輔ぉ繧ｹ24繝帙ｚ繧ｹ繧ｿ繝ｼ-scaled.jpg
END:VEVENT
BEGIN:VEVENT
DTSTART;TZID=Asia/Tokyo:20240929T080000
DTEND;TZID=Asia/Tokyo:20241031T170000
DTSTAMP:20260425T003428
CREATED:20240929T030343Z
LAST-MODIFIED:20241001T014355Z
UID:529-1727596800-1730394000@events.toyota-mobi-toyama.jp
SUMMARY:👻AUTUMN　FAIR👻Part2開催！（ランドマークSOTY）
DESCRIPTION:こんにちは！⭐🚗 \n\nランドマークＳＯＴＹ双代です👤💛 \n\n👻 AUTUM F A I R👻 \n\nPart2 \nを開催します🚙🌈 \n　 \n…2024.10.05(土)-10.31(水)… \n\n開催いたします🚗✨ \n \n🔊富山県民の皆さま！！🎤 \n \n毎年タイヤ交換を先延ばしにして \n\n雪が降り出してから慌てて駆け込み🏃‍♂️💨！ \n\nなんて方も多いのでは…😭😭😭 \n\nこれからの時期は当店も \n\nタイヤ交換シーズンのピークを迎えるため \n\n駆け込みのお客様をお断りしなければ \n\nならないケースもございます…🥶🕳️ \n \nな・の・でっ！！！ \n\n早めにタイヤ交換してしまいましょうっ✊🏻🥹💯 \n \nランドマークSOTY双代&稲荷、 \n\n中古車Garage富山では \n\n✨🛞タイヤ早期交換割をスタートいたします🛞✨ \n\n詳細は画像をチェック☑️📱 \n \n👑お得意様限定MENU👑 \nさらに期間中、あんしん10検／12か月点検／車検と \n同時にタイヤ交換も一緒にされると… \nコーティング洗車を無料サービス！！🚗✨🧽 \nさらに！！ \n\n✨🛞タイヤ早期交換割🛞✨も適応いたします！ \n📱チャットヨ会員様限定MENU📱 \nチャットヨ会員画面提示📱 \n\nもしくは \nその場で会員登録されると \nバッテリーを20%OFF！！🚗✨🧽 \n\n(例)バッテリー型番LN1(プリウス50系など) \n\n通常価格36\,520円⇒29\,216円に！！ \n\n※別途工賃がかかります🔧 \n\nタイヤ交換のご予約・お問い合わせは \n\n各店舗へお気軽にお電話ください☎️🌞🧡\n \n \nそして！！ \n\n10月５日‐６日には \n\nauイベントも開催いたします📱 \n \n📱ケータイ･スマホ料金診断会 \n\n【受付】 \n\n⭐️9:00〜15:30 \n　　(16:00終了) \n\nau専任スタッフがあなたに合った料金プランを \n\n無料診断いたします‼︎📱✨💰 \n📱ガラポン抽選会🪀 \n\nアンケート回答のうえ、 \n\nガラポンをまわして景品をGETしよう🌝⭐️ \n \n※お１人様１回限り。数に限りがございます。 \n\nなくなり次第終了となります。 \n皆様のご来店を心より \n\nお待ちしております🌼💁‍♀️ \n \n  \n  \n  \n  \n  \n  \n  \n  \n  \n  \n  \n  \n  \n  \n  \n 
URL:https://events.toyota-mobi-toyama.jp/event/529/
LOCATION:ランドマークSOTY双代\, 双代町１－６\, 富山市\, 富山県\, 930-0971\, 日本
CATEGORIES:その他,ファミリー,富山市内
ATTACH;FMTTYPE=image/png:https://events.toyota-mobi-toyama.jp/wp/wp-content/uploads/2024/09/auブログ.png
END:VEVENT
BEGIN:VEVENT
DTSTART;TZID=Asia/Tokyo:20240928T110000
DTEND;TZID=Asia/Tokyo:20240928T150000
DTSTAMP:20260425T003428
CREATED:20240910T053448Z
LAST-MODIFIED:20240910T053925Z
UID:441-1727521200-1727535600@events.toyota-mobi-toyama.jp
SUMMARY:秋のコーヒー教室🐿☕
DESCRIPTION:秋のコーヒー教室🐿☕️\n\n \n \n \n久しぶりの🤩\nとみかわコーヒーさんによる\nコーヒー教室です☺️\n今回は、ハンドドリップで淹れる\n美味しいホットコーヒーの淹れ方と\n味の飲み比べです🫶🏻 \n《教室概要》\n日時：9/28(土)\n［1部］11:00～12:00\n［2部］14:00～15:00 \n定員：各部5組ずつ(1組2名まで)\n※3名以上でのご参加は\nお電話にてご相談ください。 \n持ち物：エプロン\n※エプロンをお持ちでない方は、\n数に限りがございますが\n無料貸し出しもできます。(申込の先着順) \n参加費：無料 \n《申し込み方法》\nこちらのリンクから\n↘↘申込フォームにアクセスしてください。↙↙\n秋のコーヒー教室申込 \n◾︎お電話でも承ります。\n📞0765-24-1616 \n毎回、おひとりでご参加の方や、\nお友達同士、ご家族同士など、\nいろんな方にご参加いただいてます☺️♡\n男女問わずコーヒーを楽しめる教室です💡\nぜひお気軽にご参加ください🫖🍪 \n\n【魚津 試乗車・展示車はこちら】\n↓\n🐈CLICK！  \n【魚津 店舗ブログはこちら】\n↓\n🐶CLICK！ \nトヨタモビリティ富山 魚津 \n富山県魚津市本江１０６３番地
URL:https://events.toyota-mobi-toyama.jp/event/441/
LOCATION:魚津\, 本江１０６３\, 魚津市\, 富山県\, 937-0805\, 日本
CATEGORIES:カフェ,ワークショップ,呉東
ATTACH;FMTTYPE=image/png:https://events.toyota-mobi-toyama.jp/wp/wp-content/uploads/2024/09/1.png
END:VEVENT
BEGIN:VEVENT
DTSTART;VALUE=DATE:20240928
DTEND;VALUE=DATE:20240930
DTSTAMP:20260425T003428
CREATED:20240630T073804Z
LAST-MODIFIED:20240728T022033Z
UID:199-1727481600-1727654399@events.toyota-mobi-toyama.jp
SUMMARY:KINTO商談会（富山南）
DESCRIPTION:9/28(土)・9/29(日)\nトヨタモビリティ富山　富山南にて\nKINTO商談会を開催します🚗 \n \n自動車税、任意保険、自賠責保険、メンテナンス代、故障修理費用などなど…\nクルマの維持費に必要な諸費用が月々コミコミ定額で、トヨタの新車に乗れるサブスクサービス、KINTO☁️ \n初めてのクルマや、買い替えでお困りなことがあれば、ぜひこの機会にご相談ください！ \n皆様のご来店心よりお待ちしております🌼 \n▶︎営業時間\n(平日)9:30〜18:30\n【サービス工場は17:30まで(受付17:00まで)】\n(土日)9:00〜18:30\n【サービス工場は17:00まで(受付16:30まで)】
URL:https://events.toyota-mobi-toyama.jp/event/kinto%e5%95%86%e8%ab%87%e4%bc%9a%ef%bc%88%e5%af%8c%e5%b1%b1%e5%8d%97%ef%bc%89/
LOCATION:富山南\, 黒崎１２８－１\, 富山市\, 富山県\, 939-8214\, 日本
CATEGORIES:その他,富山市内
ATTACH;FMTTYPE=image/png:https://events.toyota-mobi-toyama.jp/wp/wp-content/uploads/2024/06/見出しを追加-2.png
END:VEVENT
BEGIN:VEVENT
DTSTART;TZID=Asia/Tokyo:20240915T100000
DTEND;TZID=Asia/Tokyo:20240915T140000
DTSTAMP:20260425T003428
CREATED:20240905T005403Z
LAST-MODIFIED:20240905T042904Z
UID:420-1726394400-1726408800@events.toyota-mobi-toyama.jp
SUMMARY:ささづ苑 SDGsフェスタ
DESCRIPTION:■実施概要 \nhttps://osawano.com/1065 \n詳細は上記URLよりご確認ください。 \n当社では小型モビリティの試乗体験とスマホ相談会を実施します。 \n 
URL:https://events.toyota-mobi-toyama.jp/event/%e3%81%95%e3%81%95%e3%81%a5%e8%8b%91-sdgs%e3%83%95%e3%82%a7%e3%82%b9%e3%82%bf/
CATEGORIES:その他,富山市内
ATTACH;FMTTYPE=image/jpeg:https://events.toyota-mobi-toyama.jp/wp/wp-content/uploads/2024/09/WS043.jpg
END:VEVENT
BEGIN:VEVENT
DTSTART;TZID=Asia/Tokyo:20240915T090000
DTEND;TZID=Asia/Tokyo:20240915T120000
DTSTAMP:20260425T003428
CREATED:20240820T030001Z
LAST-MODIFIED:20240823T015749Z
UID:365-1726390800-1726401600@events.toyota-mobi-toyama.jp
SUMMARY:トヨタモビリティ富山×三井住友海上 😊スマイルラン教室😊
DESCRIPTION:トヨタモビリティ富山×三井住友海上\n😊スマイルラン教室😊 \n　　　　　　　　　　　　　　を開催します✨✨ \n \n富山出身のアスリートに直接ランニングの仕方や \nフォーム・ストレッチなど含めた練習方法を教わる事が出来ます！✨ \n小学生から大人まで参加OK⭐️ \n奮ってご応募ください😊 \n日時🕤\n9月15日(日)　9:30～12:00 \n場所📍\n富山県空港スポーツ緑地 陸上競技場\n雨の場合は富山県総合体育センター サービス棟 会議室 \nお申込みはこちらのQRコードまたはURLより↓ \n \nhttps://form.run/@tmtinc-VPKc5Oqd4MBYgyrmJhE7
URL:https://events.toyota-mobi-toyama.jp/event/%e3%83%88%e3%83%a8%e3%82%bf%e3%83%a2%e3%83%93%e3%83%aa%e3%83%86%e3%82%a3%e5%af%8c%e5%b1%b1x%e4%b8%89%e4%ba%95%e4%bd%8f%e5%8f%8b%e6%b5%b7%e4%b8%8a-%f0%9f%98%8a%e3%82%b9%e3%83%9e%e3%82%a4%e3%83%ab/
CATEGORIES:スポーツ,富山市内
ATTACH;FMTTYPE=image/png:https://events.toyota-mobi-toyama.jp/wp/wp-content/uploads/2024/08/スマイルラン.png
END:VEVENT
BEGIN:VEVENT
DTSTART;TZID=Asia/Tokyo:20240914T080000
DTEND;TZID=Asia/Tokyo:20240929T170000
DTSTAMP:20260425T003428
CREATED:20240906T025516Z
LAST-MODIFIED:20240919T055337Z
UID:429-1726300800-1727629200@events.toyota-mobi-toyama.jp
SUMMARY:トヨタ認定中古車🚗🍁AUTUMN FAIR🍁開催！📢👍
DESCRIPTION:こんにちは！⭐🚗\nランドマークＳＯＴＹ双代です👤💛 \n ト ヨ タ  認 定 中古 車  \n🍁 AUTUM F A I R🍁を \n開催します🚙🌈 \n \n…2024.09.14(土)-09.29(日)… \n\n開催いたします🚗✨ \nPresent1🎁 \nご来店アンケートにお答えいただいた \n\nお客さまの中から抽選で５名さまに \n【神通町田村】さんのお食事券プレゼント！🥢 \n  \nPresent２🎁 \n\n中古車契約でコーティングプレゼント🚗✨ \n  \nそして9月15日にはJAFKidsイベントも開催🚗 \n  \n \nチラシ掲載車以外にも \n\n中古車ガレージ富山では、たくさんの \n\nクルマを展示しております！👀🚗 \n  \n人気のおクルマはすでに商談予約が \n入っている場合がございます🙇‍♀️💦 \n\nお気軽にお問い合わせください😉 \n  \n最新の在庫車情報は \n\nトヨタモビリティ富山ホームページから \n\nご確認ください💁🏻‍♀️ \n\nhttps://toyota-mobi-toyama.jp/ \n皆様のご来店を心より \n\nお待ちしております🌼💁‍♀️ \n 
URL:https://events.toyota-mobi-toyama.jp/event/429/
CATEGORIES:キッズ,ファミリー,中古車,富山市内
ATTACH;FMTTYPE=application/pdf:https://events.toyota-mobi-toyama.jp/wp/wp-content/uploads/2024/09/中古車フェア202408B4_6表面-3.pdf
END:VEVENT
BEGIN:VEVENT
DTSTART;VALUE=DATE:20240914
DTEND;VALUE=DATE:20240915
DTSTAMP:20260425T003428
CREATED:20240911T022003Z
LAST-MODIFIED:20240911T025813Z
UID:448-1726272000-1726358399@events.toyota-mobi-toyama.jp
SUMMARY:KUROBEアクアフェアリーズ富山トークショー公開収録（黒部）
DESCRIPTION:今年もやります！シーズン直前！ \nKUROBEアクアフェアリーズ富山 \nトークショー公開収録📻💙 \n \n\n▶日時\n9月14日㈯14:00～ \n▷参加費\n無料 \n▶申込み\n不要 \n▷会場\nトヨタモビリティ富山 黒部\n📍黒部市荻生8727-1 \n  \nもうすぐ待ちに待ったバレーボール \n大同生命SVリーグ開幕しますね🏐💙 \n  \n新監督就任＆新体制になった \nKUROBEアクアフェアリーズ富山から \n４人の選手の方々をお迎えして \nトークショー公開収録を行います🎙✨ \n参加選手は… \n中村 安里 選手 \n中山 夏菜子 選手 \n古市 梨乃 選手 \n金田 莉実 選手 \nを予定しています！！ \n \n\nグッズが当たるゲームも開催しますよ😍🤩💙 \nみなさんぜひご来場くださいね💙 \nお楽しみに🤗💙 \n  \n  \n  \n  \n  \n  \n  \n 
URL:https://events.toyota-mobi-toyama.jp/event/kurobe%e3%82%a2%e3%82%af%e3%82%a2%e3%83%95%e3%82%a7%e3%82%a2%e3%83%aa%e3%83%bc%e3%82%ba%e5%af%8c%e5%b1%b1%e3%83%88%e3%83%bc%e3%82%af%e3%82%b7%e3%83%a7%e3%83%bc%e5%85%ac%e9%96%8b%e5%8f%8e%e9%8c%b2/
CATEGORIES:スポーツ,呉東
ATTACH;FMTTYPE=image/png:https://events.toyota-mobi-toyama.jp/wp/wp-content/uploads/2024/09/1-1.png
END:VEVENT
BEGIN:VEVENT
DTSTART;VALUE=DATE:20240914
DTEND;VALUE=DATE:20240915
DTSTAMP:20260425T003428
CREATED:20240905T004621Z
LAST-MODIFIED:20240905T004621Z
UID:415-1726272000-1726358399@events.toyota-mobi-toyama.jp
SUMMARY:【カターレ富山 9/14(土)横浜戦】トヨタモビリティ富山 presents ONE TOYAMA SPORTS DAY Match 開催
DESCRIPTION:■概要 \n【9/14(土)横浜戦】トヨタモビリティ富山 presents ONE TOYAMA SPORTS DAY Match 開催のお知らせ \n \n  \n詳細は上記よりご確認ください。 \n  \n 
URL:https://events.toyota-mobi-toyama.jp/event/%e3%80%90%e3%82%ab%e3%82%bf%e3%83%bc%e3%83%ac%e5%af%8c%e5%b1%b1-9-14%e5%9c%9f%e6%a8%aa%e6%b5%9c%e6%88%a6%e3%80%91%e3%83%88%e3%83%a8%e3%82%bf%e3%83%a2%e3%83%93%e3%83%aa%e3%83%86%e3%82%a3%e5%af%8c/
CATEGORIES:キッズ,スポーツ,富山市内
END:VEVENT
BEGIN:VEVENT
DTSTART;VALUE=DATE:20240910
DTEND;VALUE=DATE:20240929
DTSTAMP:20260425T003428
CREATED:20240911T024146Z
LAST-MODIFIED:20240911T024146Z
UID:460-1725926400-1727567999@events.toyota-mobi-toyama.jp
SUMMARY:キャンペーン☆あなたの愛車How much?第2弾🚗
DESCRIPTION:🚗あなたの愛車How much？ 第2弾🚗 \n\n \n\nWEB試乗予約の上、さらに愛車の査定をしていただいた方に、Amazonギフトコード500円プレゼント🎊 \nトヨタモビリティ富山ホームページの試乗予約フォームよりお申込み下さい✉️ \n詳細は特設ページでチェック☝️ \n  \n  \n\n⁡\n \n本キャンペーンは【トヨタモビリティ富山株式会社】による提供です。 \n本キャンペーンについてのお問合せはAmazonではお受けしておりません。 \n【トヨタモビリティ富山株式会社】キャンペーン事務局【076-432-4141】までお願いいたします。Amazon、Amazon.co.jpおよびそれらのロゴはAmazon.com\,inc.またはその関連会社の商標です。
URL:https://events.toyota-mobi-toyama.jp/event/%e3%82%ad%e3%83%a3%e3%83%b3%e3%83%9a%e3%83%bc%e3%83%b3%e2%98%86%e3%81%82%e3%81%aa%e3%81%9f%e3%81%ae%e6%84%9b%e8%bb%8ahow-much%e7%ac%ac2%e5%bc%be%f0%9f%9a%97/
CATEGORIES:その他
ATTACH;FMTTYPE=image/jpeg:https://events.toyota-mobi-toyama.jp/wp/wp-content/uploads/2024/09/9_How_much_1200_1200_01.jpg
END:VEVENT
BEGIN:VEVENT
DTSTART;TZID=Asia/Tokyo:20240908T103000
DTEND;TZID=Asia/Tokyo:20240908T120000
DTSTAMP:20260425T003428
CREATED:20240714T025731Z
LAST-MODIFIED:20240714T040206Z
UID:256-1725791400-1725796800@events.toyota-mobi-toyama.jp
SUMMARY:両親学級（黒部）
DESCRIPTION:  \n■イベント概要 \n企業主導型両親学級 \n \n参加希望の方は上記サイトからお申込みください。
URL:https://events.toyota-mobi-toyama.jp/event/%e4%b8%a1%e8%a6%aa%e5%ad%a6%e7%b4%9a%ef%bc%88%e9%bb%92%e9%83%a8%ef%bc%89/
LOCATION:黒部\, 荻生８７２７－１\, 黒部市\, 富山県\, 938-0801\, 日本
CATEGORIES:キッズ,ファミリー,呉東
ATTACH;FMTTYPE=image/jpeg:https://events.toyota-mobi-toyama.jp/wp/wp-content/uploads/2024/07/428442557_756878733218920_3437949996712970472_n-scaled-e1709088259298-1024x1024-1.jpg
END:VEVENT
BEGIN:VEVENT
DTSTART;VALUE=DATE:20240907
DTEND;VALUE=DATE:20240909
DTSTAMP:20260425T003428
CREATED:20240630T065339Z
LAST-MODIFIED:20240728T022228Z
UID:185-1725667200-1725839999@events.toyota-mobi-toyama.jp
SUMMARY:携帯電話料金診断会（富山南）
DESCRIPTION:9/7(土)・9/8(日)の2日間\nトヨタモビリティ富山　富山南にて\n携帯電話料金診断会を開催します📱👩🏻‍💼👨🏻‍💼 \n \n皆さん定期的に家計の見直しはされていますか？\n携帯電話の相談に行きたいけど時間がないな、\n予約が取れないな、なんてことはありませんか？\nトヨタモビリティ富山なら、点検の待ち時間にいつでも携帯電話の相談ができます！ \nクルマ🚗もスマホ📱もトヨタのお店で✨ \n皆様のご来店心よりお待ちしております🌼 \n▶︎営業時間\n(平日)9:30〜18:30\n【サービス工場は17:30まで(受付17:00まで)】\n(土日)9:00〜18:30\n【サービス工場は17:00まで(受付16:30まで)】
URL:https://events.toyota-mobi-toyama.jp/event/%e6%90%ba%e5%b8%af%e9%9b%bb%e8%a9%b1%e6%96%99%e9%87%91%e8%a8%ba%e6%96%ad%e4%bc%9a%ef%bc%88%e5%af%8c%e5%b1%b1%e5%8d%97%ef%bc%89/
LOCATION:富山南\, 黒崎１２８－１\, 富山市\, 富山県\, 939-8214\, 日本
CATEGORIES:その他,富山市内
ATTACH;FMTTYPE=image/png:https://events.toyota-mobi-toyama.jp/wp/wp-content/uploads/2024/06/携帯料金診断会-1.png
END:VEVENT
BEGIN:VEVENT
DTSTART;TZID=Asia/Tokyo:20240901T100000
DTEND;TZID=Asia/Tokyo:20240901T123000
DTSTAMP:20260425T003428
CREATED:20240714T024543Z
LAST-MODIFIED:20240714T040048Z
UID:249-1725184800-1725193800@events.toyota-mobi-toyama.jp
SUMMARY:トヨタヨガフェスタ（五福）
DESCRIPTION:  \n■イベント概要 \nTOYOTA YOGA FIESTA \n \n参加希望の方は上記よりサイトからお申込みください。 \n 
URL:https://events.toyota-mobi-toyama.jp/event/%e3%83%88%e3%83%a8%e3%82%bf%e3%83%a8%e3%82%ac%e3%83%95%e3%82%a7%e3%82%b9%e3%82%bf%ef%bc%88%e4%ba%94%e7%a6%8f%ef%bc%89/
LOCATION:Gスクエア五福\, 五福末広町１２３８\, 富山市\, 富山県\, 930-0884\, 日本
CATEGORIES:キッズ,スポーツ,ファミリー,富山市内
ATTACH;FMTTYPE=image/png:https://events.toyota-mobi-toyama.jp/wp/wp-content/uploads/2024/07/無題-1.png
END:VEVENT
BEGIN:VEVENT
DTSTART;VALUE=DATE:20240825
DTEND;VALUE=DATE:20240826
DTSTAMP:20260425T003428
CREATED:20240630T072132Z
LAST-MODIFIED:20240728T022056Z
UID:197-1724544000-1724630399@events.toyota-mobi-toyama.jp
SUMMARY:KINTO商談会（高岡）
DESCRIPTION:8/25(日)\nトヨタモビリティ富山　高岡にて\nKINTO商談会を開催します🚗 \n \n自動車税、任意保険、自賠責保険、メンテナンス代、故障修理費用などなど…\nクルマの維持費に必要な諸費用が月々コミコミ定額で、トヨタの新車に乗れるサブスクサービス、KINTO☁️ \n初めてのクルマや、買い替えでお困りなことがあれば、ぜひこの機会にご相談ください！ \n皆様のご来店心よりお待ちしております🌼 \n▶︎営業時間\n(平日)9:30〜18:30\n【サービス工場は17:30まで(受付17:00まで)】\n(土日)9:00〜18:30\n【サービス工場は17:00まで(受付16:30まで)】
URL:https://events.toyota-mobi-toyama.jp/event/kinto%e5%95%86%e8%ab%87%e4%bc%9a%ef%bc%88%e9%ab%98%e5%b2%a1%ef%bc%89-2/
LOCATION:高岡\, 美幸町１－１－７２\, 高岡市\, 富山県\, 933-0954\, 日本
CATEGORIES:その他,呉西
ATTACH;FMTTYPE=image/png:https://events.toyota-mobi-toyama.jp/wp/wp-content/uploads/2024/06/見出しを追加-2.png
END:VEVENT
BEGIN:VEVENT
DTSTART;VALUE=DATE:20240824
DTEND;VALUE=DATE:20240826
DTSTAMP:20260425T003428
CREATED:20240820T075525Z
LAST-MODIFIED:20240820T075525Z
UID:399-1724457600-1724630399@events.toyota-mobi-toyama.jp
SUMMARY:北陸コカ・コーラ　サマーフェスティバル2024（外部出店）
DESCRIPTION:■イベント案内はこちら\nhttps://www.hokuriku.ccbc.co.jp/?p=5438 \n・環境ブースにて水素自動車MIRAI展示 \n・ラッキータイヤチャレンジ
URL:https://events.toyota-mobi-toyama.jp/event/%e5%8c%97%e9%99%b8%e3%82%b3%e3%82%ab%e3%83%bb%e3%82%b3%e3%83%bc%e3%83%a9%e3%80%80%e3%82%b5%e3%83%9e%e3%83%bc%e3%83%95%e3%82%a7%e3%82%b9%e3%83%86%e3%82%a3%e3%83%90%e3%83%ab2024%ef%bc%88%e5%a4%96/
CATEGORIES:ファミリー,呉西
ATTACH;FMTTYPE=image/jpeg:https://events.toyota-mobi-toyama.jp/wp/wp-content/uploads/2024/08/WS037.jpg
END:VEVENT
BEGIN:VEVENT
DTSTART;VALUE=DATE:20240824
DTEND;VALUE=DATE:20240825
DTSTAMP:20260425T003428
CREATED:20240820T074437Z
LAST-MODIFIED:20240820T074522Z
UID:392-1724457600-1724543999@events.toyota-mobi-toyama.jp
SUMMARY:カイロプラクティック無料体験(魚津)
DESCRIPTION:こんにちは❣\nいつも魚津ブログ🐠をご覧いただき\nありがとうございます\n(/・ω・)/ \n🌻今週末のイベントのご案内！🌻 \n腰肩スポーツカイロサロン『暖か』さんによる、\n【カイロプラクティック無料体験】を\n開催します❣️\n@atataka.youken_sports \n \n暖かさんによる『姿勢チェック』で、\n姿勢の歪みからくる身体の不調や\nリスクを知れるかも🚶‍♀️💡\n当日は歪みチェックと施術が\n無料で受けられます😆✨️ \n【イベント概要】\n日程：8月24日(土) \n定員：各回2名ずつ \n体験費用：無料 \n体験時間：30分/1名\n①10:00-10:30 ②10:30-11:00\n③11:00-11:30 ④11:30-12:00\n⑤13:00-13:30 ⑥13:30-14:00\n⑦14:00-14:30 ⑧14:30-15:00 \n【申し込み方法】\nカイロプラクティック無料体験申し込みフォーム\nこちらのリンクから申し込みフォームに\nアクセスしてください💡 \n◾︎お電話でも承ります🎶\n📞0765-24-1616 \n当日は男性スタッフの方と女性スタッフの方が\n1名ずつ来てくださいますので、\nどなたもご安心してご参加ください🥳 \n\n【魚津 試乗車・展示車はこちら】\n↓\n🐈CLICK！  \n【魚津 店舗ブログはこちら】\n↓\n🐶CLICK！ \nトヨタモビリティ富山 魚津 \n富山県魚津市本江１０６３番地
URL:https://events.toyota-mobi-toyama.jp/event/392/
CATEGORIES:スポーツ,呉東
ATTACH;FMTTYPE=image/png:https://events.toyota-mobi-toyama.jp/wp/wp-content/uploads/2024/08/カイロプラクティック無料体験.png
END:VEVENT
BEGIN:VEVENT
DTSTART;VALUE=DATE:20240824
DTEND;VALUE=DATE:20240825
DTSTAMP:20260425T003428
CREATED:20240808T070915Z
LAST-MODIFIED:20240808T071828Z
UID:377-1724457600-1724543999@events.toyota-mobi-toyama.jp
SUMMARY:マグネシウム燃料電池カーをつくろう🚘（黒部）
DESCRIPTION:\\イベントのお知らせです📢// \n🌻夏休み応援企画🌻\n“マグネシウム燃料電池カーをつくろう！” \n \n▶マグネシウム燃料電池カーって？\nマグネシウムと酸素と塩水で\n発電して走ります！\n環境にやさしい新エネルギーを\n体験できる燃料電池カーを\n作ってみよう🍃 \n「塩水の濃度を変えるとどうなるの？」\n「塩水の量をふやすとどうなるの？」\nなどなど実験もやりますよ🤗 \n自由研究になるかも?!\nお楽しみに💕 \n【イベント概要】\n日時：2024/8/24(土)10:30～\n※受付10:00～\n対象：年長～小学生のお子様\n定員：先着８名様\n参加費：無料\n申込み：必要\n開催場所：トヨタモビリティ富山 黒部\n📍黒部市荻生8727-1 \n申し込みは\nこちらをクリック\n👇\n申込みフォーム📝 \nまたは\nこちらのQRコードを\n読取り\n👇\n \n◾︎お電話でも承ります🙌\n📞0765-54-3111\n※8/12~8/19は夏期休業 \nご応募お待ちしております♡ \n※「QRコード」は、株式会社デンソーウェーブの商標または登録商標です。
URL:https://events.toyota-mobi-toyama.jp/event/%e3%83%9e%e3%82%b0%e3%83%8d%e3%82%b7%e3%82%a6%e3%83%a0%e7%87%83%e6%96%99%e9%9b%bb%e6%b1%a0%e3%82%ab%e3%83%bc%e3%82%92%e3%81%a4%e3%81%8f%e3%82%8d%e3%81%86%f0%9f%9a%98/
LOCATION:黒部\, 荻生８７２７－１\, 黒部市\, 富山県\, 938-0801\, 日本
CATEGORIES:キッズ,ファミリー,ワークショップ,呉東
ATTACH;FMTTYPE=image/png:https://events.toyota-mobi-toyama.jp/wp/wp-content/uploads/2024/08/2.png
END:VEVENT
BEGIN:VEVENT
DTSTART;VALUE=DATE:20240824
DTEND;VALUE=DATE:20240825
DTSTAMP:20260425T003428
CREATED:20240630T072037Z
LAST-MODIFIED:20240728T022114Z
UID:195-1724457600-1724543999@events.toyota-mobi-toyama.jp
SUMMARY:KINTO商談会（小杉）
DESCRIPTION:8/24(土)\nトヨタモビリティ富山　小杉にて\nKINTO商談会を開催します🚗 \n \n自動車税、任意保険、自賠責保険、メンテナンス代、故障修理費用などなど…\nクルマの維持費に必要な諸費用が月々コミコミ定額で、トヨタの新車に乗れるサブスクサービス、KINTO☁️ \n初めてのクルマや、買い替えでお困りなことがあれば、ぜひこの機会にご相談ください！ \n皆様のご来店心よりお待ちしております🌼 \n▶︎営業時間\n(平日)9:30〜18:30\n【サービス工場は17:30まで(受付17:00まで)】\n(土日)9:00〜18:30\n【サービス工場は17:00まで(受付16:30まで)】
URL:https://events.toyota-mobi-toyama.jp/event/kinto%e5%95%86%e8%ab%87%e4%bc%9a%ef%bc%88%e9%ab%98%e5%b2%a1%ef%bc%89/
LOCATION:小杉\, 戸破１７２３－１\, 射水市\, 富山県\, 939-0351\, 日本
CATEGORIES:その他,呉西
ATTACH;FMTTYPE=image/png:https://events.toyota-mobi-toyama.jp/wp/wp-content/uploads/2024/06/見出しを追加-2.png
END:VEVENT
BEGIN:VEVENT
DTSTART;VALUE=DATE:20240822
DTEND;VALUE=DATE:20240823
DTSTAMP:20260425T003428
CREATED:20240731T052817Z
LAST-MODIFIED:20240731T052817Z
UID:320-1724284800-1724371199@events.toyota-mobi-toyama.jp
SUMMARY:第4回アトリエワイタウン✐【ビーズアクセサリー】
DESCRIPTION:こんにちは\nY-town山室です☀ \n4月よりはじまりました🌱\n◤　アトリエワイタウン　◢ \n月に1度平日開催のワークショップ\n次回開催日のご案内です👐 \n第4回　8月22日(木)\nビーズアクセサリー作り\n \n講師　　manma2021 さん\n時間🕜　　10時30分～11時30分(予定)\n定員　　　8名\n参加費用　　ブレスレッド・・1500円(税･材料費込み)\nピアス・・1500円(税･材料費込み)\nネックレス・・２000円(税･材料費込み)\n※当日現金 or PayPayでのお支払いをお願いいたします。\n※ブレスレッドorピアスorネックレスはお申込み時にご選択ください。 \nファッションのワンポイントにも!!♦\n自分で作るオリジナルアクセサリー🌈\n講師は夏フェスでもご協力くださいました⤵\n@manma2021　さんです \nご予約はコチラから!!↓↓\n \nGoogleフォームよりお申込みください。 \n山室店にご来店されたことがないお客様も大歓迎!\nご参加お待ちしております♡
URL:https://events.toyota-mobi-toyama.jp/event/%e7%ac%ac4%e5%9b%9e%e3%82%a2%e3%83%88%e3%83%aa%e3%82%a8%e3%83%af%e3%82%a4%e3%82%bf%e3%82%a6%e3%83%b3%e2%9c%90%e3%80%90%e3%83%93%e3%83%bc%e3%82%ba%e3%82%a2%e3%82%af%e3%82%bb%e3%82%b5%e3%83%aa%e3%83%bc/
LOCATION:Y-town山室\, 山室新町４１\, 富山市\, 富山県\, 939-8002\, 日本
CATEGORIES:ワークショップ,富山市内
ATTACH;FMTTYPE=image/png:https://events.toyota-mobi-toyama.jp/wp/wp-content/uploads/2024/07/image-6.png
END:VEVENT
BEGIN:VEVENT
DTSTART;TZID=Asia/Tokyo:20240810T080000
DTEND;TZID=Asia/Tokyo:20240818T170000
DTSTAMP:20260425T003428
CREATED:20240809T090651Z
LAST-MODIFIED:20240809T091124Z
UID:384-1723276800-1724000400@events.toyota-mobi-toyama.jp
SUMMARY:富山大和　夏休み学び体験コーナー出展（外部）
DESCRIPTION:
URL:https://events.toyota-mobi-toyama.jp/event/%e5%af%8c%e5%b1%b1%e5%a4%a7%e5%92%8c%e3%80%80%e5%a4%8f%e4%bc%91%e3%81%bf%e5%ad%a6%e3%81%b3%e4%bd%93%e9%a8%93%e3%82%b3%e3%83%bc%e3%83%8a%e3%83%bc%e5%87%ba%e5%b1%95%ef%bc%88%e5%a4%96%e9%83%a8%ef%bc%89/
CATEGORIES:キッズ,スポーツ,ファミリー,富山市内
ATTACH;FMTTYPE=image/png:https://events.toyota-mobi-toyama.jp/wp/wp-content/uploads/2024/08/名称未設定のデザイン-5.png
END:VEVENT
BEGIN:VEVENT
DTSTART;VALUE=DATE:20240810
DTEND;VALUE=DATE:20240811
DTSTAMP:20260425T003428
CREATED:20240630T085517Z
LAST-MODIFIED:20240804T021740Z
UID:201-1723248000-1723334399@events.toyota-mobi-toyama.jp
SUMMARY:【小杉】JAFイベントを開催します🚙🌟
DESCRIPTION:  \n イベントのお知らせ- ̗̀📣\n⁡ \n⁡8/10(土) JAFイベントを開催します🚙💭\n \n「JAFって何？」「自動車保険と何が違うの？」\nという悩みや不安を解決👍🏻 ̖́-‬\n⁡\nその他にも\n✔子ども免許証作り\n✔プラ板キーホルダー作り もありますので\nお子さまも楽しめる企画となっております📛\nどちらも参加無料です👦🏻👧🏻‎‎🤍\n\n⁡\n遂に👏北陸地方も梅雨明けしました🔅\nこれからのお出かけに備えてみませんか☺️❓\n⁡\nトヨタモビリティ富山 小杉では\nJAFのご入会を随時受付中🙌💙 \n⁡\n是非、来週末お立ち寄りください😉\n⁡\n皆様のご来店をスタッフ一同\n心よりお待ちしております😌🌼
URL:https://events.toyota-mobi-toyama.jp/event/jaf%e3%82%a4%e3%83%99%e3%83%b3%e3%83%88%ef%bc%88%e5%b0%8f%e6%9d%89%ef%bc%89/
LOCATION:小杉\, 戸破１７２３－１\, 射水市\, 富山県\, 939-0351\, 日本
CATEGORIES:その他,呉西
ATTACH;FMTTYPE=image/png:https://events.toyota-mobi-toyama.jp/wp/wp-content/uploads/2024/06/image-7.png
END:VEVENT
BEGIN:VEVENT
DTSTART;TZID=Asia/Tokyo:20240807T100000
DTEND;TZID=Asia/Tokyo:20240807T123000
DTSTAMP:20260425T003428
CREATED:20240710T094130Z
LAST-MODIFIED:20240714T040106Z
UID:235-1723024800-1723033800@events.toyota-mobi-toyama.jp
SUMMARY:トヨタヨガフェスタ（五福）
DESCRIPTION:  \n■イベント概要 \nTOYOTA YOGA FIESTA \n \n参加希望の方は上記よりサイトからお申込みください。 \n 
URL:https://events.toyota-mobi-toyama.jp/event/%e3%80%90%e4%ba%94%e7%a6%8f%e3%80%91%e3%83%88%e3%83%a8%e3%82%bf%e3%83%a8%e3%82%ac%e3%83%95%e3%82%a7%e3%82%b9%e3%82%bf/
LOCATION:Gスクエア五福\, 五福末広町１２３８\, 富山市\, 富山県\, 930-0884\, 日本
CATEGORIES:キッズ,スポーツ,ファミリー,富山市内
ATTACH;FMTTYPE=image/png:https://events.toyota-mobi-toyama.jp/wp/wp-content/uploads/2024/07/無題-1.png
END:VEVENT
BEGIN:VEVENT
DTSTART;TZID=Asia/Tokyo:20240804T100000
DTEND;TZID=Asia/Tokyo:20240804T163000
DTSTAMP:20260425T003428
CREATED:20240714T035835Z
LAST-MODIFIED:20240714T035943Z
UID:265-1722765600-1722789000@events.toyota-mobi-toyama.jp
SUMMARY:プログラミング体験教室（魚津）
DESCRIPTION:イベント参加募集🌟\n︶︶︶︶︶︶︶︶︶︶ \n\親子で楽しむ/\nプログラミング体験教室\n自動ブレーキカーを走らせよう！🏎 \n \n \n【イベント概要】\n日時：\n2024/8/4(日)\n①10:00～11:15\n②13:15～14:30\n③15:00～16:15\n※30分前から受付を開始します。 \n定員：\n各回5組 \n参加費：\n無料 \n対象：\n6歳～12歳のお子さま\n※必ず保護者の方付き添いでの\nご参加をお願いします。 \n開催場所：\nトヨタモビリティ富山 魚津\n魚津市本江1063番地 \n【申し込み方法】事前予約制\nこちらのリンクから、\n↘↘応募フォームにアクセスしてください💡↙↙\nプログラミング体験教室応募フォーム \n◾︎お電話でも承ります🎶\n📞0765-24-1616 \n想像力と独創力で、\n遊びながら学べる内容になっています🤗\n大人の方も充分楽しめる体験ですので、\nぜひお気軽にご参加ください🥰
URL:https://events.toyota-mobi-toyama.jp/event/%e3%83%97%e3%83%ad%e3%82%b0%e3%83%a9%e3%83%9f%e3%83%b3%e3%82%b0%e4%bd%93%e9%a8%93%e6%95%99%e5%ae%a4%ef%bc%88%e9%ad%9a%e6%b4%a5%ef%bc%89/
LOCATION:魚津\, 本江１０６３\, 魚津市\, 富山県\, 937-0805\, 日本
CATEGORIES:キッズ,ファミリー,呉東
ATTACH;FMTTYPE=image/png:https://events.toyota-mobi-toyama.jp/wp/wp-content/uploads/2024/07/image-1.png
END:VEVENT
BEGIN:VEVENT
DTSTART;TZID=Asia/Tokyo:20240804T100000
DTEND;TZID=Asia/Tokyo:20240804T160000
DTSTAMP:20260425T003428
CREATED:20240630T065013Z
LAST-MODIFIED:20240730T053751Z
UID:181-1722765600-1722787200@events.toyota-mobi-toyama.jp
SUMMARY:携帯電話料金診断会（魚津）
DESCRIPTION:8/4(日)\nトヨタモビリティ富山　魚津にて\n携帯電話料金診断会を開催します📱👩🏻‍💼👨🏻‍💼 \n \n皆さん定期的に家計の見直しはされていますか？\n携帯電話の相談に行きたいけど時間がないな、\n予約が取れないな、なんてことはありませんか？\nトヨタモビリティ富山なら、点検の待ち時間にいつでも携帯電話の相談ができます！ \nクルマ🚗もスマホ📱もトヨタのお店で✨ \n皆様のご来店心よりお待ちしております🌼 \n▶︎営業時間\n(平日)9:30〜18:30\n【サービス工場は17:30まで(受付17:00まで)】\n(土日)9:00〜18:30\n【サービス工場は17:00まで(受付16:30まで)】
URL:https://events.toyota-mobi-toyama.jp/event/%e6%90%ba%e5%b8%af%e9%9b%bb%e8%a9%b1%e6%96%99%e9%87%91%e8%a8%ba%e6%96%ad%e4%bc%9a%ef%bc%88%e9%ad%9a%e6%b4%a5%ef%bc%89/
LOCATION:魚津\, 本江１０６３\, 魚津市\, 富山県\, 937-0805\, 日本
CATEGORIES:その他,呉東
ATTACH;FMTTYPE=image/png:https://events.toyota-mobi-toyama.jp/wp/wp-content/uploads/2024/06/無題.png
END:VEVENT
END:VCALENDAR