BEGIN:VCALENDAR
VERSION:2.0
PRODID:-//イベントカレンダー｜トヨタモビリティ富山｜店舗イベント情報 - ECPv6.8.1//NONSGML v1.0//EN
CALSCALE:GREGORIAN
METHOD:PUBLISH
X-WR-CALNAME:イベントカレンダー｜トヨタモビリティ富山｜店舗イベント情報
X-ORIGINAL-URL:https://events.toyota-mobi-toyama.jp
X-WR-CALDESC:イベントカレンダー｜トヨタモビリティ富山｜店舗イベント情報 のイベント
REFRESH-INTERVAL;VALUE=DURATION:PT1H
X-Robots-Tag:noindex
X-PUBLISHED-TTL:PT1H
BEGIN:VTIMEZONE
TZID:Asia/Tokyo
BEGIN:STANDARD
TZOFFSETFROM:+0900
TZOFFSETTO:+0900
TZNAME:JST
DTSTART:20250101T000000
END:STANDARD
END:VTIMEZONE
BEGIN:VEVENT
DTSTART;TZID=Asia/Tokyo:20250315T090000
DTEND;TZID=Asia/Tokyo:20250316T170000
DTSTAMP:20260420T103543
CREATED:20250306T045822Z
LAST-MODIFIED:20250306T045822Z
UID:1104-1742029200-1742144400@events.toyota-mobi-toyama.jp
SUMMARY: ❛ KINTO商談会 ❜開催☁🌈
DESCRIPTION:3/15(土)・16(日) ❛ KINTO商談会 ❜を開催します☁🌈 \n  \n初めてのおクルマや、買い替えでお困りなことがあれば是非この機会に‪‪‪‪‪‪👍 \nKINTOについて詳しく知りたい方や疑問やお悩み \n些細な事でもお近くの店舗でお気軽にご相談ください🎶 \nお話を聞いてみるだけでも大歓迎です☺♡ \n \nクルマのサブスクKINTOはトヨタモビリティ富山 小杉 にお任せください🗣❕ \n皆様のご来店をスタッフ一同心よりお待ちしております😌🌼
URL:https://events.toyota-mobi-toyama.jp/event/%e2%9d%9b-kinto%e5%95%86%e8%ab%87%e4%bc%9a-%e2%9d%9c%e9%96%8b%e5%82%ac%e2%98%81%f0%9f%8c%88/
LOCATION:小杉\, 戸破１７２３－１\, 射水市\, 富山県\, 939-0351\, 日本
CATEGORIES:KINTO,ファミリー,呉西
ATTACH;FMTTYPE=image/png:https://events.toyota-mobi-toyama.jp/wp/wp-content/uploads/2025/03/KINTO.png
END:VEVENT
END:VCALENDAR