BEGIN:VCALENDAR
VERSION:2.0
PRODID:-//イベントカレンダー｜トヨタモビリティ富山｜店舗イベント情報 - ECPv6.8.1//NONSGML v1.0//EN
CALSCALE:GREGORIAN
METHOD:PUBLISH
X-WR-CALNAME:イベントカレンダー｜トヨタモビリティ富山｜店舗イベント情報
X-ORIGINAL-URL:https://events.toyota-mobi-toyama.jp
X-WR-CALDESC:イベントカレンダー｜トヨタモビリティ富山｜店舗イベント情報 のイベント
REFRESH-INTERVAL;VALUE=DURATION:PT1H
X-Robots-Tag:noindex
X-PUBLISHED-TTL:PT1H
BEGIN:VTIMEZONE
TZID:Asia/Tokyo
BEGIN:STANDARD
TZOFFSETFROM:+0900
TZOFFSETTO:+0900
TZNAME:JST
DTSTART:20250101T000000
END:STANDARD
END:VTIMEZONE
BEGIN:VEVENT
DTSTART;TZID=Asia/Tokyo:20250315T090000
DTEND;TZID=Asia/Tokyo:20250316T170000
DTSTAMP:20260420T103904
CREATED:20250306T045822Z
LAST-MODIFIED:20250306T045822Z
UID:1104-1742029200-1742144400@events.toyota-mobi-toyama.jp
SUMMARY: ❛ KINTO商談会 ❜開催☁🌈
DESCRIPTION:3/15(土)・16(日) ❛ KINTO商談会 ❜を開催します☁🌈 \n  \n初めてのおクルマや、買い替えでお困りなことがあれば是非この機会に‪‪‪‪‪‪👍 \nKINTOについて詳しく知りたい方や疑問やお悩み \n些細な事でもお近くの店舗でお気軽にご相談ください🎶 \nお話を聞いてみるだけでも大歓迎です☺♡ \n \nクルマのサブスクKINTOはトヨタモビリティ富山 小杉 にお任せください🗣❕ \n皆様のご来店をスタッフ一同心よりお待ちしております😌🌼
URL:https://events.toyota-mobi-toyama.jp/event/%e2%9d%9b-kinto%e5%95%86%e8%ab%87%e4%bc%9a-%e2%9d%9c%e9%96%8b%e5%82%ac%e2%98%81%f0%9f%8c%88/
LOCATION:小杉\, 戸破１７２３－１\, 射水市\, 富山県\, 939-0351\, 日本
CATEGORIES:KINTO,ファミリー,呉西
ATTACH;FMTTYPE=image/png:https://events.toyota-mobi-toyama.jp/wp/wp-content/uploads/2025/03/KINTO.png
END:VEVENT
BEGIN:VEVENT
DTSTART;VALUE=DATE:20250802
DTEND;VALUE=DATE:20250804
DTSTAMP:20260420T103904
CREATED:20250717T064943Z
LAST-MODIFIED:20250717T064943Z
UID:1424-1754092800-1754265599@events.toyota-mobi-toyama.jp
SUMMARY:スタッドレスタイヤ限定特価👀【高岡駅南】
DESCRIPTION:こんにちは(‘ω’)ノ\n\n高岡駅南です☀ \n◤◢◤◢◤◢◤◤◢◤◢◤◤◢◤◢◤◤◢◤◢◤◤◢◤◢◤◢◤◢◤◢◤◢ \n今年もやります！！！\nスタッドレスタイヤ\n限定価格販売！！！！！ \n◤◢◤◢◤◢◤◢◤◢◤◤◢◤◢◤◤◢◤◢◤◤◢◤◢◤◤◢◤◢◤◢◤◢ \n8月２日　土曜　&　8月３日　日曜 \nこの２日間限定販売です👀！ \n気になる金額はこちら☟ \n \n \n今年も\nダンロップとグッドイヤーをご用意しております👏 \nスタッドレスタイヤをご検討中の方は\nぜひ高岡駅南にてご相談下さい💛 \n╭━━━━━━━━━━━━━╮\nタイヤをご購入された方へ\n╰━━━━━━ｖ━━━━━━╯\nタイヤの保管場所にお困りではないでしょうか？ \n◤◢◤タイヤ預かりサービスをぜひご利用下さい👀✨◢◤◢ \nタイヤを運ぶ手間がなくなります！ \n \n \n \n万が一の事故・故障の場合は\nトヨタモビリティ富山　事故・故障サポートデスクを\nご利用下さい。\n24時間・365日対応できます🕑 \n📞０１２０－３９－１１６３
URL:https://events.toyota-mobi-toyama.jp/event/%e3%82%b9%e3%82%bf%e3%83%83%e3%83%89%e3%83%ac%e3%82%b9%e3%82%bf%e3%82%a4%e3%83%a4%e9%99%90%e5%ae%9a%e7%89%b9%e4%be%a1%f0%9f%91%80%e3%80%90%e9%ab%98%e5%b2%a1%e9%a7%85%e5%8d%97%e3%80%91/
LOCATION:高岡駅南\, 下伏間江３６３\, 高岡市\, 富山県\, 933-0813\, 日本
CATEGORIES:スタッドレスタイヤ,呉西,夏フェス
ATTACH;FMTTYPE=image/png:https://events.toyota-mobi-toyama.jp/wp/wp-content/uploads/2025/07/高岡駅南.png
END:VEVENT
BEGIN:VEVENT
DTSTART;VALUE=DATE:20250802
DTEND;VALUE=DATE:20250804
DTSTAMP:20260420T103904
CREATED:20250729T063709Z
LAST-MODIFIED:20250729T063709Z
UID:1506-1754092800-1754265599@events.toyota-mobi-toyama.jp
SUMMARY:SummerFES and 移転OPENマルシェ inSeul高岡南
DESCRIPTION:こんにちは☺\n高岡駅南です！ \n╭━━━━━━━━━━━━━╮\n🌈　イベントのご案内　🌈\n╰━━━━━━ｖ━━━━━━╯ \n⋱8/2（土）・8/3（日）⋰\nSUMMER FES and 移転OPENマルシェ inSeul高岡南\n￣￣￣￣￣￣￣￣￣￣￣￣￣￣￣￣￣￣￣￣￣￣￣￣￣\n皆様に喜んでいただけるように、ワークショップやケータリングなど\n内容盛りだくさんな２日間のマルシェ開催💐 \n2025年6月に中古車Garage高岡がSeul高岡南に移転統合しました！\n厳選した中古車もSeul高岡南にて展示してあります！ \n \nラインナップ、盛りだくさんな内容は下記画像からご確認下さい👀☟ \n \n\n■予約必須ワークショップのご案内■ \n \n８月２日（土）のドライスワッグ作りの\nワークショップはご予約必須です👀\n先着３２名様限定なので \n\nお早目にご予約をお願い致します！\n上記画像のQRコードからご予約にお進み下さい。\n\n開催場所は\n高岡駅南ではなく、\n\nSeul高岡南にて行います！！ \nお花屋さんのスタッフの方がスワッグ作りを教えてくれます♡\nご応募お待ちしてます！ \nイベント当日は高岡駅南の営業スタッフも\nSeul高岡南に応援に行きます💨 \n\n∞∞∞∞∞∞∞∞∞∞∞∞∞∞∞∞∞∞∞∞∞∞∞∞∞∞∞∞∞∞∞∞∞∞∞∞∞∞∞∞∞∞∞∞∞∞∞∞∞∞∞∞∞∞∞∞∞∞∞∞∞∞∞∞∞∞∞∞∞∞∞∞∞∞∞ \n　　今年もやります！！！\nスタッドレスタイヤ限定価格販売！！！！！　 \n◤◢◤◢◤◢◤◢◤◢◤◤◢◤◢◤◤◢◤◢◤◤◢◤◢◤◤◢◤◢◤◢◤◢ \n8月２日　土曜　&　8月３日　日曜 \nこの２日間限定販売です👀！ \n気になる金額はこちら☟ \n \n \n今年も\nダンロップとグッドイヤーをご用意しております👏 \nスタッドレスタイヤをご検討中の方は\nぜひ高岡駅南にてご相談下さい💛 \n╭━━━━━━━━━━━━━╮\nタイヤをご購入された方へ\n╰━━━━━━ｖ━━━━━━╯\nタイヤの保管場所にお困りではないでしょうか？ \n◤◢◤タイヤ預かりサービスをぜひご利用下さい👀✨◢◤◢ \nタイヤを運ぶ手間がなくなります！ \n \n \n \n∞∞∞∞∞∞∞∞∞∞∞∞∞∞∞∞∞∞∞∞∞∞∞∞∞∞∞∞∞∞∞∞∞∞∞∞∞∞∞∞∞∞∞∞∞∞∞∞∞∞∞∞∞∞∞∞∞∞∞∞∞∞∞∞∞∞∞∞∞∞∞∞∞∞∞ \n万が一の事故・故障の場合は\nトヨタモビリティ富山　事故・故障サポートデスクを\nご利用下さい。\n24時間・365日対応できます🕑 \n📞０１２０－３９－１１６３
URL:https://events.toyota-mobi-toyama.jp/event/summerfes-and-%e7%a7%bb%e8%bb%a2open%e3%83%9e%e3%83%ab%e3%82%b7%e3%82%a7-inseul%e9%ab%98%e5%b2%a1%e5%8d%97/
LOCATION:Seul高岡南\, 十二町島８５\, 高岡市\, 富山県\, 933-0822\, 日本
CATEGORIES:キッズ,ファミリー,ワークショップ,呉西,夏フェス
ATTACH;FMTTYPE=image/png:https://events.toyota-mobi-toyama.jp/wp/wp-content/uploads/2025/07/LINE広告１.png
END:VEVENT
BEGIN:VEVENT
DTSTART;TZID=Asia/Tokyo:20250802T090000
DTEND;TZID=Asia/Tokyo:20250803T160000
DTSTAMP:20260420T103904
CREATED:20250715T035507Z
LAST-MODIFIED:20250715T035705Z
UID:1409-1754125200-1754236800@events.toyota-mobi-toyama.jp
SUMMARY:イロドリトナミ🌈 ＼🐠SUMMER FES☀️／
DESCRIPTION:こんにちは🤗\n    トヨタモビリティ富山 砺波です✨\n   \nイロドリトナミ🌈\n＼🐠SUMMER FES☀️／\n   \n\n    📅 日時：8/2(sat)〜8/3(sun)\n    📍 場所：トヨタモビリティ富山 砺波\n   \n今年も内容盛りだくさん🤭✨ 気になるラインナップは… \n   \n🍉気になるお店大集合♡\n\n▶ 8/2 (sat) 出店 \n\n@leaf__828さん：黒部の名水たこ焼き＆クリームソーダ🐙\n@hoya.hoya_jgsさん：ふわふわ台湾カステラ🍪\n\n▶ 8/3 (sun) 出店 \n\n@bj_bananajuiceさん：無添加バナナジュース🍌\n@kokoroyurubi_bagelさん：ココロほっこりベーグル🥯\n@donkara_doncreさん：揚げたてアツアツ唐揚げ🔥\n\n        @team.oasis.nakamaさん：エアマッサージ体験🌿\n        ▶ お友達追加はこちらから\n      \n\n▶ 両日（8/2・8/3）出店 \n\n@koh.s_cafeさん：こだわりのコーヒー＆ぬいぐるみ雑貨☕🧸\n\n   \n🍉キッズエンジニア体験\n\n    ★参加費無料　★要予約\n    ▶ 8/2(土)・8/3(日) 各10:00〜12:00（各回5組限定）\n    トヨタのエンジニアと車の点検やナット締めに挑戦しよう🔩✨ \n    ご予約は以下より👇\n    ▶ 予約する\n    ☎ 0763-33-4141\n   \n🍉夏のおすすめサービスメニュー\n\nA/Cクールショット冷房効率・除湿効率アップ！ ¥11\,000 → ¥8\,800（税込）\nクイックエバポレータークリーナー除菌・抗菌ミスト洗浄✨ ¥6\,160 → ¥4\,400（税込）\n\n🍉2日間限定！スタッドレスタイヤ特価販売🛞\n画像掲載車種以外にも多数取り扱い🚘 詳しくは店頭スタッフまで🧑🏻💻 \n🍉その他のお楽しみ♪\n\n🍭 駄菓子つかみ取り（査定・試乗・見積いずれかでチャレンジ）\n🌼 チャリティバザー（交通遺児支援にご協力をお願いします）\n\n\n🎉皆様のご来店を心よりお待ちしております！🙌🏻\n\n\nトヨタモビリティ富山 砺波\n    📍 富山県砺波市太郎丸3丁目50\n    ☎ 0763-33-4141 \n\n      ▶ 営業時間：\n      平日 9:30〜18:30（サービス工場：〜17:00）\n      土日 9:00〜18:30（サービス工場
URL:https://events.toyota-mobi-toyama.jp/event/%e3%82%a4%e3%83%ad%e3%83%89%e3%83%aa%e3%83%88%e3%83%8a%e3%83%9f%f0%9f%8c%88-%ef%bc%bc%f0%9f%90%a0summer-fes%e2%98%80%ef%b8%8f%ef%bc%8f/
LOCATION:砺波\, 太郎丸３－５０\, 砺波市\, 富山県\, 939-1363\, 日本
CATEGORIES:ファミリー,ワークショップ,呉西,夏フェス
ATTACH;FMTTYPE=image/png:https://events.toyota-mobi-toyama.jp/wp/wp-content/uploads/2025/07/仮表紙-4.png
END:VEVENT
BEGIN:VEVENT
DTSTART;TZID=Asia/Tokyo:20250802T090000
DTEND;TZID=Asia/Tokyo:20250803T160000
DTSTAMP:20260420T103904
CREATED:20250717T045706Z
LAST-MODIFIED:20250717T045706Z
UID:1426-1754125200-1754236800@events.toyota-mobi-toyama.jp
SUMMARY:日頃の感謝を込めて☀ヒバリマルシェ🐤🌈
DESCRIPTION:⁡\nイベントのご案内ꉂꉂ📢\n⁡\n╭━━━━━━━━━━━━━━━━━━━━╮\n日頃の感謝を込めて☀ヒバリマルシェ🐤🌈\n2025/8/2(土)･3(日) 9:00~16:00\n╰━━ v ━━━━━━━━━━━━━━━━━╯\n⁡\n今回も皆様に楽しんでいただけるような\nワークショップやケータリング等\n盛りだくさんのイベントを開催🌼\n⁡\n﹏﹏﹏﹏﹏﹏﹏﹏﹏﹏﹏﹏﹏﹏﹏﹏﹏﹏\n⁡\n⁡\n⁡\n気になるラインナップは… \n  \n  \n❯❯❯8/2(土)\n🏕アウトドア用品物販 ハイズKUREHA さん\n🪵木製ミニスタンド作り　TETOTE さん\n🌻ひまわり染め 玄関の灯り さん　 予約はコチラから！\n🐻‍❄キーホルダー作り･物販 いわぐちゆうこ さん\n⁡\n8/2(土)限定コラボワークショップも開催❕\nお花の水槽作り🏖🐠☀️\nTETOTE さん\n玄関の灯り さん\nいわぐちゆうこ さん　予約はコチラから！\n⁡\n⁡\n❯❯❯8/3(日)\n🍪アイシングクッキー作り an さん　予約はコチラから！\n🪄︎︎木工ワークショップ TETOTE さん\n🐰デコワークショップ･作品販売　ハンドメイド工房 さん\n🍓スイーツ販売 sweet smile さん\n⁡ \n❯❯❯8/2(土)･8/3(日)両日開催\n🍭駄菓子釣り\n🫶チャリティーバザー\n🛞スタッドレスタイヤ&アルミセット特価販売 \n\n🚗A/Cクールショット特価販売\n🚙クイックエバポレーター特価販売 \n  \n詳しくは投稿画像をご覧ください✔️🎅🏻´- \n⋆⸜ ⸜  同時開催 ⸝‍ ⸝‍⋆\n⁡ スペシャルプラスワンデー☝️🌹\nとってもおトクな2days🙆‍♂️🙆‍♀️💫\nサービス入庫でご来店されたお客様に\nプラスワン商品20%OFFチケットをプレゼント🎟 \n⁡\n今年もこの暑い夏を\nトヨタモビリティ富山小杉で楽しみましょう❤️‍🔥\n⁡ \n⁡﹏﹏﹏﹏﹏﹏﹏﹏﹏﹏﹏﹏﹏﹏﹏﹏﹏﹏\n⁡\n⁡\n試乗車･展示車を多数ご用意しております💪\n新車はもちろん❗️\n中古車も取り扱っております❗️\nご検討中の方は\n是非この機会にご相談ください🗣💭\n⁡ \n皆様のご来店を小杉スタッフ一同\n心よりお待ちしております☺️🌼 \n⁡
URL:https://events.toyota-mobi-toyama.jp/event/%e6%97%a5%e9%a0%83%e3%81%ae%e6%84%9f%e8%ac%9d%e3%82%92%e8%be%bc%e3%82%81%e3%81%a6%e2%98%80%e3%83%92%e3%83%90%e3%83%aa%e3%83%9e%e3%83%ab%e3%82%b7%e3%82%a7%f0%9f%90%a4%f0%9f%8c%88/
LOCATION:小杉\, 戸破１７２３－１\, 射水市\, 富山県\, 939-0351\, 日本
CATEGORIES:キッズ,ファミリー,ワークショップ,呉西,夏フェス
ATTACH;FMTTYPE=image/png:https://events.toyota-mobi-toyama.jp/wp/wp-content/uploads/2025/07/無題.png
END:VEVENT
BEGIN:VEVENT
DTSTART;TZID=Asia/Tokyo:20250802T090000
DTEND;TZID=Asia/Tokyo:20250803T160000
DTSTAMP:20260420T103904
CREATED:20250720T055434Z
LAST-MODIFIED:20250720T055434Z
UID:1454-1754125200-1754236800@events.toyota-mobi-toyama.jp
SUMMARY:【高岡】2025夏フェス開催🌞
DESCRIPTION:【イベントのお知らせ📢】 \n今年も『夏フェス』開催🍉\n開催日時 : 8/2(土)･3(日) 9:00-16:00 \n \n詳しくはInstagramをチェック👀❣ \nミニ四駆イベントやワークショップ、\nケータリング、古着販売、\nチャリティーバザー等\n盛り沢山な2日間となっております✨ \nまた、夏フェス限定のサービスメニューも\n特別にご用意致しました！🔧 \n是非ご家族揃って遊びに来て下さい🏁\n皆様のご来店を心よりお待ちしております♪
URL:https://events.toyota-mobi-toyama.jp/event/%e3%80%90%e9%ab%98%e5%b2%a1%e3%80%912025%e5%a4%8f%e3%83%95%e3%82%a7%e3%82%b9%e9%96%8b%e5%82%ac%f0%9f%8c%9e/
LOCATION:高岡\, 美幸町１－１－７２\, 高岡市\, 富山県\, 933-0954\, 日本
CATEGORIES:カフェ,スタッドレスタイヤ,ファミリー,ワークショップ,呉西,夏フェス
ATTACH;FMTTYPE=image/png:https://events.toyota-mobi-toyama.jp/wp/wp-content/uploads/2025/07/ブログサムネイル.png
END:VEVENT
BEGIN:VEVENT
DTSTART;TZID=Asia/Tokyo:20250906T140000
DTEND;TZID=Asia/Tokyo:20250906T160000
DTSTAMP:20260420T103904
CREATED:20250826T013614Z
LAST-MODIFIED:20250826T013614Z
UID:1571-1757167200-1757174400@events.toyota-mobi-toyama.jp
SUMMARY:アランマーレ富山🍊パブリックビューイング開催📣🌟
DESCRIPTION:アランマーレ富山🍊 \nパブリックビューイング開催📣🌟 \n\n⁡\n⁡\n2025-26 リーグH開幕戦 🙌🎉\n⁡\n【日時】2025/9/6(土) 14:00〜\nアランマーレ富山🆚イズミメイプルレッズ広島(広島県)\n⁡\nトヨタモビリティ富山 小杉の\nショールームにて放映いたします🎥\n⁡\n小杉のスタッフと一緒に\nアランマーレ富山を応援しましょう📣💓\n⁡\n予約制ではございませんので\n是非、お気軽にトヨタモビリティ富山 小杉 へ🐣♡\n⁡ \n 
URL:https://events.toyota-mobi-toyama.jp/event/%e3%82%a2%e3%83%a9%e3%83%b3%e3%83%9e%e3%83%bc%e3%83%ac%e5%af%8c%e5%b1%b1%f0%9f%8d%8a%e3%83%91%e3%83%96%e3%83%aa%e3%83%83%e3%82%af%e3%83%93%e3%83%a5%e3%83%bc%e3%82%a4%e3%83%b3%e3%82%b0%e9%96%8b-2/
LOCATION:小杉\, 戸破１７２３－１\, 射水市\, 富山県\, 939-0351\, 日本
CATEGORIES:スポーツ,パブリックビューイング,呉西
ATTACH;FMTTYPE=image/png:https://events.toyota-mobi-toyama.jp/wp/wp-content/uploads/2025/08/アランマーレ富山.png
END:VEVENT
BEGIN:VEVENT
DTSTART;TZID=Asia/Tokyo:20251012T090000
DTEND;TZID=Asia/Tokyo:20251012T160000
DTSTAMP:20260420T103904
CREATED:20251001T072027Z
LAST-MODIFIED:20251001T072027Z
UID:1630-1760259600-1760284800@events.toyota-mobi-toyama.jp
SUMMARY:TOYOTA GAZOO Racing PARK inラリーチャレンジ 高岡 万葉 開催🚗✨
DESCRIPTION:＼乗って、見て、応援して、たっぷり遊ぼう！／ \n【日時】10月12日(日) 9:00～16:00\n【会場】日本総合リサイクル㈱ 敷地内 \n「子どもから大人までクルマを楽しめる」\nをコンセプトにモータースポーツの魅力を取り入れた\nコンテンツが盛りだくさん🎵 \nTGRラリーチャレンジ 高岡 万葉も同時開催🏁\n最大90台のラリーカーが\nスペシャルステージでタイムを競います🔥 \n⚠️今年の変更点\n日本総合リサイクル駐車場は有料、\n1台1000円です🚙 \n城光寺球場駐車場は無料、\nシャトルバスをご利用ください🚌 \n詳しいイベント内容はこちら👇\nhttps://toyotagazooracing.com/jp/tgrp/2025/tgr-rally-challenge-takaoka/ \nたくさんのご来場お待ちしております✨
URL:https://events.toyota-mobi-toyama.jp/event/toyota-gazoo-racing-park-in%e3%83%a9%e3%83%aa%e3%83%bc%e3%83%81%e3%83%a3%e3%83%ac%e3%83%b3%e3%82%b8-%e9%ab%98%e5%b2%a1-%e4%b8%87%e8%91%89-%e9%96%8b%e5%82%ac%f0%9f%9a%97%e2%9c%a8/
LOCATION:富山県
CATEGORIES:スポーツ,ファミリー,モータースポーツ,呉西
ATTACH;FMTTYPE=image/jpeg:https://events.toyota-mobi-toyama.jp/wp/wp-content/uploads/2025/10/25_TGRP_1080_1350_01.jpg
END:VEVENT
BEGIN:VEVENT
DTSTART;VALUE=DATE:20251213
DTEND;VALUE=DATE:20251215
DTSTAMP:20260420T103904
CREATED:20251121T053258Z
LAST-MODIFIED:20251121T054108Z
UID:1683-1765584000-1765756799@events.toyota-mobi-toyama.jp
SUMMARY:🎅ChristmasFes🎄開催します　高岡駅南
DESCRIPTION:いつもありがとうございます✨\n\n高岡駅南です☀ \n╭━━━━━━━━━━━╮\nイベントのご案内です❣\n╰━━ｖ━━━━━━━━╯ \n１２月１３日Sat１４日Sun\n高岡駅南にて\n🎄🎅ChristmasFes🎅🎄\nを開催します \nイベントの詳細は以下の画像をcheck👀✅ \nなんといっても今回は\nsweet smileさんのキッチンカーが\n高岡駅南に来てくれます！！！！！！\n軽食とスイーツのケータリング販売です🥞 \nsweet smileさんのキッチンカーは、\n両日１０：００～１６：００が出店時間です。 \n＞＞＞＞＞MENU　通常価格＜＜＜＜＜ \n★ホットドッグ　500yen\n★フランクフルト     300yen\n★台湾カステラ      500yen\n★ベルギーワッフル\nプレーン　　250yen\nチョコ   300yen\n★クレープ   600yen \n\n\n\nしかもなんと、\n当日高岡駅南にご来店のお客様には❣\n通常価格より\n全商品100円引き\nでご案内させていただきます(*_*)💓 \n※お支払いは現金またはPayPay\n※無くなり次第終了です \n \n\n \n \n１２月１３日Sat１４日Sunは\nぜひご家族で高岡駅南にご来店ください💓🎅 \n\n\n  \n  \n 
URL:https://events.toyota-mobi-toyama.jp/event/christmasfes%e9%96%8b%e5%82%ac%e3%81%97%e3%81%be%e3%81%99%e3%80%80%e9%ab%98%e5%b2%a1%e9%a7%85%e5%8d%97/
LOCATION:高岡駅南\, 下伏間江３６３\, 高岡市\, 富山県\, 933-0813\, 日本
CATEGORIES:カフェ,クリスマスフェス,ファミリー,呉西
ATTACH;FMTTYPE=image/png:https://events.toyota-mobi-toyama.jp/wp/wp-content/uploads/2025/11/1.png
END:VEVENT
BEGIN:VEVENT
DTSTART;VALUE=DATE:20251213
DTEND;VALUE=DATE:20251215
DTSTAMP:20260420T103904
CREATED:20251204T044910Z
LAST-MODIFIED:20251204T045119Z
UID:1764-1765584000-1765756799@events.toyota-mobi-toyama.jp
SUMMARY:【高岡】クリスマスフェス開催🎅🔔
DESCRIPTION:2025.12.13(土)-14(日)\nクリスマスフェス開催🧸🎄 \nイベントのラインナップは\n投稿画像をご覧ください👀 \n \n  \n美味しいスイーツやドリンク、\nお子様から大人の方まで楽しめるワークショップ\nお得なサービスメニューをご用意しております✨ \n  \nしめ縄教室とキッズエンジニア体験は\n要予約となっております。 \n☆しめ縄教室の詳細･お申込みはコチラ\n☆キッズエンジニア体験の詳細･お申込みはコチラ \n  \n  \n沢山のご来店\n心よりお待ちしております🤍
URL:https://events.toyota-mobi-toyama.jp/event/%e3%80%90%e9%ab%98%e5%b2%a1%e3%80%91%e3%82%af%e3%83%aa%e3%82%b9%e3%83%9e%e3%82%b9%e3%83%95%e3%82%a7%e3%82%b9%e9%96%8b%e5%82%ac%f0%9f%8e%85%f0%9f%94%94/
LOCATION:高岡\, 美幸町１－１－７２\, 高岡市\, 富山県\, 933-0954\, 日本
CATEGORIES:カフェ,クリスマスフェス,ファミリー,ワークショップ,呉西
ATTACH;FMTTYPE=image/png:https://events.toyota-mobi-toyama.jp/wp/wp-content/uploads/2025/12/ブログサムネ高岡.png
END:VEVENT
BEGIN:VEVENT
DTSTART;TZID=Asia/Tokyo:20251213T090000
DTEND;TZID=Asia/Tokyo:20251214T160000
DTSTAMP:20260420T103904
CREATED:20251130T074523Z
LAST-MODIFIED:20251130T074523Z
UID:1735-1765616400-1765728000@events.toyota-mobi-toyama.jp
SUMMARY:【砺波】🎄🎅イロドリTONAMI Xmas Fes🧣⛄
DESCRIPTION:こんにちは🤗\nトヨタモビリティ富山 砺波です✨\n \n\n\n《 イベントのご案内 》 \n \nイロドリトナミ🌈\n🎄🎄Xmas Fes🎄🎄\n開催いたします🌟 \n日時 ▷▷ 12/13(sat)-12/14(sun)\n場所 ▷▷ トヨタモビリティ富山 砺波 \n☑️人気のお店が出店♡ \n🔔13日(土)&14日(日) \n▶︎「パティスリーヴェール」さん\n@vert_sweets\nすぐ完売してしまうと噂の人気のテリーヌを販売🍫♡ \n※なくなり次第終了です。\n  \n\n▶︎「Kohaku」さん\n@kohaku_bakedsweet\n見た目も可愛い焼き菓子を販売🍪♡\n手土産にいかがですか？🙂‍↕️\n \n※なくなり次第終了です。\n  \n\n☑️チビッ子体験👦🏻👧🏻Workshop♡\n \n※ワークショップはすべて予約不要です\n  \n\n🔔13日(土)&14日(日)\n▶︎オリジナルブレスレット作り\n \n\n\nつなげるだけで簡単🤹🏻‍♀️\n \n参加費無料‼️\n\nどなたでもお気軽にお作りいただけます♡\n \n  \n\n🔔13日(土)\n▶︎「手形・足形アート」\n@_____acorite さん\n \n\n\n手形・足形をペッタン！🖐🏻🦶🏻\n素敵なアートにしていただけます🎨✨\n【1枚700円〜】\n \n  \n\n🔔14日(日)\n▶︎「デコパーツワークショップ」\n@decoshopchouchou さん\n \n\n\n可愛いパーツがたくさん！🍰\n自分流にデコってみよう💝\n・キーホルダー\n・ホイップデコ\n・スノードーム\n・お名前チャーム\n・しゃかしゃかピン\n【各300円〜1500円】\n \n  \n\n▶︎スタッドレスタイヤの販売も受付中です🛞\n冬支度がお済みでない方！\nぜひお気軽にご相談ください🧑🏻‍🔧💡 \n \n内容盛りだくさんのクリスマスフェス🎅🏻✨\n日頃の感謝の思いを込めて💭🧡\n皆様のご来店スタッフ一同お待ちしております🙌🏻♡ \n  \n\n୨୧┈┈┈┈┈┈┈┈┈┈┈┈┈┈┈┈┈୨୧ \n \n\nトヨタモビリティ富山 砺波\n📍富山県砺波市太郎丸3丁目50\n📞0763-33-4141\n \n▶︎営業時間 \n(平日)9:30〜18:30 \n【サービス工場は17:00まで(受付16:30まで)】\n(土日)9:00〜18:30 \n【サービス工場は17:30まで(受付17:00まで)】 \n୨୧┈┈┈┈┈┈┈┈┈┈┈┈┈┈┈┈┈୨୧ \n 
URL:https://events.toyota-mobi-toyama.jp/event/%e3%80%90%e7%a0%ba%e6%b3%a2%e3%80%91%f0%9f%8e%84%f0%9f%8e%85%e3%82%a4%e3%83%ad%e3%83%89%e3%83%aatonami-xmas-fes%f0%9f%a7%a3%e2%9b%84/
LOCATION:砺波\, 太郎丸３－５０\, 砺波市\, 富山県\, 939-1363\, 日本
CATEGORIES:キッズ,クリスマスフェス,スタッドレスタイヤ,ファミリー,ワークショップ,呉西
ATTACH;FMTTYPE=image/png:https://events.toyota-mobi-toyama.jp/wp/wp-content/uploads/2025/11/アイキャッチ-18-e1764488420833.png
END:VEVENT
BEGIN:VEVENT
DTSTART;TZID=Asia/Tokyo:20251213T090000
DTEND;TZID=Asia/Tokyo:20251214T160000
DTSTAMP:20260420T103904
CREATED:20251207T001932Z
LAST-MODIFIED:20251207T001932Z
UID:1774-1765616400-1765728000@events.toyota-mobi-toyama.jp
SUMMARY:【高岡】クリスマスフェス開催🎅🔔
DESCRIPTION:【イベントのお知らせ🌟】 \n2025.12.13(土)-14(日)\nクリスマスフェス開催🧸🎄 \nイベントのラインナップは\n投稿画像をご覧ください👀 \n \n美味しいスイーツやドリンク、\nお子様から大人の方まで楽しめるワークショップ\nお得なサービスメニューをご用意しております✨ \nしめ縄教室とキッズエンジニア体験は\n要予約となっております。 \n☆しめ縄教室の詳細･お申込みはコチラ\n☆キッズエンジニア体験の詳細･お申込みはコチラ \n沢山のご来店\n心よりお待ちしております🤍
URL:https://events.toyota-mobi-toyama.jp/event/%e3%80%90%e9%ab%98%e5%b2%a1%e3%80%91%e3%82%af%e3%83%aa%e3%82%b9%e3%83%9e%e3%82%b9%e3%83%95%e3%82%a7%e3%82%b9%e9%96%8b%e5%82%ac%f0%9f%8e%85%f0%9f%94%94-2/
LOCATION:高岡\, 美幸町１－１－７２\, 高岡市\, 富山県\, 933-0954\, 日本
CATEGORIES:呉西
ATTACH;FMTTYPE=image/png:https://events.toyota-mobi-toyama.jp/wp/wp-content/uploads/2025/12/ブログサムネ高岡.png
END:VEVENT
BEGIN:VEVENT
DTSTART;TZID=Asia/Tokyo:20251213T100000
DTEND;TZID=Asia/Tokyo:20251214T160000
DTSTAMP:20260420T103904
CREATED:20251126T045423Z
LAST-MODIFIED:20251207T001741Z
UID:1715-1765620000-1765728000@events.toyota-mobi-toyama.jp
SUMMARY:日頃の感謝を込めて🫶ヒバリマルシェ🕊️🌈（小杉）
DESCRIPTION:日頃の感謝を込めて🫶ヒバリマルシェ🕊️🌈\n⁡\n\n\n\n今年最後の大イベント🌟\n今回も皆様に楽しんでいただけるような\n楽しい企画が盛りだくさん🎄♥️\n\n\n⁡ \n\n⁡\n⁡\n詳しくは投稿画像をご覧ください✔️👀💫\n⁡\n皆様のご来店をトヨタモビリティ富山 小杉一同 心よりお待ちしております🌹\n⁡
URL:https://events.toyota-mobi-toyama.jp/event/%e6%97%a5%e9%a0%83%e3%81%ae%e6%84%9f%e8%ac%9d%e3%82%92%e8%be%bc%e3%82%81%e3%81%a6%f0%9f%ab%b6%e3%83%92%e3%83%90%e3%83%aa%e3%83%9e%e3%83%ab%e3%82%b7%e3%82%a7%f0%9f%95%8a%ef%b8%8f%f0%9f%8c%88/
LOCATION:小杉\, 戸破１７２３－１\, 射水市\, 富山県\, 939-0351\, 日本
CATEGORIES:キッズ,クリスマスフェス,スタッドレスタイヤ,ファミリー,ワークショップ,呉西
ATTACH;FMTTYPE=image/png:https://events.toyota-mobi-toyama.jp/wp/wp-content/uploads/2025/11/イベント告知-1.png
END:VEVENT
END:VCALENDAR