BEGIN:VCALENDAR
VERSION:2.0
PRODID:-//イベントカレンダー｜トヨタモビリティ富山｜店舗イベント情報 - ECPv6.8.1//NONSGML v1.0//EN
CALSCALE:GREGORIAN
METHOD:PUBLISH
X-WR-CALNAME:イベントカレンダー｜トヨタモビリティ富山｜店舗イベント情報
X-ORIGINAL-URL:https://events.toyota-mobi-toyama.jp
X-WR-CALDESC:イベントカレンダー｜トヨタモビリティ富山｜店舗イベント情報 のイベント
REFRESH-INTERVAL;VALUE=DURATION:PT1H
X-Robots-Tag:noindex
X-PUBLISHED-TTL:PT1H
BEGIN:VTIMEZONE
TZID:Asia/Tokyo
BEGIN:STANDARD
TZOFFSETFROM:+0900
TZOFFSETTO:+0900
TZNAME:JST
DTSTART:20240101T000000
END:STANDARD
END:VTIMEZONE
BEGIN:VEVENT
DTSTART;VALUE=DATE:20240727
DTEND;VALUE=DATE:20240729
DTSTAMP:20260420T141813
CREATED:20240630T232747Z
LAST-MODIFIED:20240717T060318Z
UID:222-1722038400-1722211199@events.toyota-mobi-toyama.jp
SUMMARY:トヨタモビリティ富山　🎆夏フェス🎆（全店舗）
DESCRIPTION:  \n暑い日が続いていますが、皆様いかが過ごしでしょうか？\n7月27日（土）・28日（日）にトヨタモビリティ富山　県内15店舗で夏フェスを開催します✨ \n \n各店舗の楽しいイベントは今後公開予定ですので、乞うご期待ください！ \nここでは、全店舗での統一イベントをご紹介！ \n  \nティモティチャット登録でティモティグッズゲットだぜ　キャンペーン \nおクルマの点検・整備の予約でこんなことありませんか？ \n \n \n  \n夏フェスにご来場いただき、ティモティチャットにご登録頂くと、漏れなくティモティグッズをプレゼント！
URL:https://events.toyota-mobi-toyama.jp/event/%e3%83%88%e3%83%a8%e3%82%bf%e3%83%a2%e3%83%93%e3%83%aa%e3%83%86%e3%82%a3%e5%af%8c%e5%b1%b1%e3%80%80%f0%9f%8e%86%e5%a4%8f%e3%83%95%e3%82%a7%e3%82%b9%f0%9f%8e%86%ef%bc%88%e5%85%a8%e5%ba%97%e8%88%97/
LOCATION:富山県
CATEGORIES:キッズ,スポーツ,ファミリー,ワークショップ,呉東,呉西,富山市内
ATTACH;FMTTYPE=image/png:https://events.toyota-mobi-toyama.jp/wp/wp-content/uploads/2024/07/トヨタモビリティ富山様夏フェスSNS0703.png
END:VEVENT
END:VCALENDAR