BEGIN:VCALENDAR
VERSION:2.0
PRODID:-//イベントカレンダー｜トヨタモビリティ富山｜店舗イベント情報 - ECPv6.8.1//NONSGML v1.0//EN
CALSCALE:GREGORIAN
METHOD:PUBLISH
X-WR-CALNAME:イベントカレンダー｜トヨタモビリティ富山｜店舗イベント情報
X-ORIGINAL-URL:https://events.toyota-mobi-toyama.jp
X-WR-CALDESC:イベントカレンダー｜トヨタモビリティ富山｜店舗イベント情報 のイベント
REFRESH-INTERVAL;VALUE=DURATION:PT1H
X-Robots-Tag:noindex
X-PUBLISHED-TTL:PT1H
BEGIN:VTIMEZONE
TZID:Asia/Tokyo
BEGIN:STANDARD
TZOFFSETFROM:+0900
TZOFFSETTO:+0900
TZNAME:JST
DTSTART:20250101T000000
END:STANDARD
END:VTIMEZONE
BEGIN:VEVENT
DTSTART;TZID=Asia/Tokyo:20250914T100000
DTEND;TZID=Asia/Tokyo:20250914T120000
DTSTAMP:20260422T165718
CREATED:20250801T023039Z
LAST-MODIFIED:20250801T011944Z
UID:1525-1757844000-1757851200@events.toyota-mobi-toyama.jp
SUMMARY:🏃‍♀️🏃‍♂️🏃‍♀️スマイルラン教室😊
DESCRIPTION:スマイルラン教室😊\n三井住友海上女子陸上部が、ランニングフォームやストレッチなど、\n実践的な練習方法を直接伝授✨\n小学生から大人まで参加OKです🙆‍♀️🙆‍♂️ \n \n📅 日時\n9月14日（日）10:00〜12:00（受付 9:10〜） \n📍 場所\n富山県総合運動公園 補助競技場\n※雨天時は富山県総合運動公園 屋内グラウンドで開催します☂️ \n👥 募集人数：約80名程度 \n📲 申込みはQRコードまたはURLから👇\nhttps://form.run/@toyotamobi-xOPWWzEctiHGrpmFnbvL \n※定員に達し次第、または8月31日（日）に受付を終了します。
URL:https://events.toyota-mobi-toyama.jp/event/%f0%9f%8f%83%e2%99%80%ef%b8%8f%f0%9f%8f%83%e2%99%82%ef%b8%8f%f0%9f%8f%83%e2%99%80%ef%b8%8f%e3%82%b9%e3%83%9e%e3%82%a4%e3%83%ab%e3%83%a9%e3%83%b3%e6%95%99%e5%ae%a4/
LOCATION:富山県
CATEGORIES:その他,キッズ,スポーツ,呉東,富山市内
ATTACH;FMTTYPE=image/jpeg:https://events.toyota-mobi-toyama.jp/wp/wp-content/uploads/2025/08/20250914_スマイルラン教室_page-0001-scaled.jpg
END:VEVENT
END:VCALENDAR