BEGIN:VCALENDAR
VERSION:2.0
PRODID:-//イベントカレンダー｜トヨタモビリティ富山｜店舗イベント情報 - ECPv6.8.1//NONSGML v1.0//EN
CALSCALE:GREGORIAN
METHOD:PUBLISH
X-ORIGINAL-URL:https://events.toyota-mobi-toyama.jp
X-WR-CALDESC:イベントカレンダー｜トヨタモビリティ富山｜店舗イベント情報 のイベント
REFRESH-INTERVAL;VALUE=DURATION:PT1H
X-Robots-Tag:noindex
X-PUBLISHED-TTL:PT1H
BEGIN:VTIMEZONE
TZID:Asia/Tokyo
BEGIN:STANDARD
TZOFFSETFROM:+0900
TZOFFSETTO:+0900
TZNAME:JST
DTSTART:20250101T000000
END:STANDARD
END:VTIMEZONE
BEGIN:VEVENT
DTSTART;VALUE=DATE:20250719
DTEND;VALUE=DATE:20250720
DTSTAMP:20260422T195928
CREATED:20250709T081944Z
LAST-MODIFIED:20250709T082149Z
UID:1358-1752883200-1752969599@events.toyota-mobi-toyama.jp
SUMMARY:JAFキッズフェスタ🚗✨
DESCRIPTION:こんにちは！\n    富山みらい北です🚘\n   \n\n    ブログをご覧いただき\n    ありがとうございます♡♥♡\n   \n\n\n    \n      \n        🌟JAFキッズフェスタ🌟\n      \n    \n   \n\n    7月19日(土)にJAFキッズフェスタを開催します♡♥♡\n   \n   \n\n    🚘子ども安全免許証🚘\n   \n\n    交通安全クイズに挑戦して子ども免許証をゲットしよう!!\n   \n\n    🚘魔法のキーホルダー🚘\n    縮んで小さくなる不思議な魔法のキーホルダーを作ろう!!\n   \n\n    🚘フォトスポット🚘\n    キッズ用ユニフォームを着て救援車のランドクルーザーと写真を撮ろう!!\n   \n\n    皆さまのご来店をお待ちしております😊💕\n   \n\n\n    ▶富山みらい北の店舗情報は\n    こちらをクリック↓\n    富山みらい北\n   \n\n    ▶インスタグラムもチェック！\n    イベント案内やお得な情報を\n    投稿しています(^o^)丿\n    フォロー&いいね💕お願いします♩\n   \n  \n    \n   \n\n    【7月のカレンダー】\n   \n   \n\n    ▶万が一の事故・故障等でお困りの際は\n    トヨタモビリティ富山事故・故障サポートデスク\n    をご利用下さい
URL:https://events.toyota-mobi-toyama.jp/event/jaf%e3%82%ad%e3%83%83%e3%82%ba%e3%83%95%e3%82%a7%e3%82%b9%e3%82%bf%f0%9f%9a%97%e2%9c%a8/
LOCATION:富山みらい北\, 上野新町７－５８\, 富山市\, 富山県\, 931-8326\, 日本
CATEGORIES:その他,呉東,富山市内
ATTACH;FMTTYPE=image/jpeg:https://events.toyota-mobi-toyama.jp/wp/wp-content/uploads/2025/07/wysiwyg_update_image_20250708050648.jpg
END:VEVENT
END:VCALENDAR