BEGIN:VCALENDAR
VERSION:2.0
PRODID:-//イベントカレンダー｜トヨタモビリティ富山｜店舗イベント情報 - ECPv6.8.1//NONSGML v1.0//EN
CALSCALE:GREGORIAN
METHOD:PUBLISH
X-ORIGINAL-URL:https://events.toyota-mobi-toyama.jp
X-WR-CALDESC:イベントカレンダー｜トヨタモビリティ富山｜店舗イベント情報 のイベント
REFRESH-INTERVAL;VALUE=DURATION:PT1H
X-Robots-Tag:noindex
X-PUBLISHED-TTL:PT1H
BEGIN:VTIMEZONE
TZID:Asia/Tokyo
BEGIN:STANDARD
TZOFFSETFROM:+0900
TZOFFSETTO:+0900
TZNAME:JST
DTSTART:20250101T000000
END:STANDARD
END:VTIMEZONE
BEGIN:VEVENT
DTSTART;TZID=Asia/Tokyo:20251019T093000
DTEND;TZID=Asia/Tokyo:20251019T163000
DTSTAMP:20260422T170125
CREATED:20251015T012851Z
LAST-MODIFIED:20251015T012851Z
UID:1651-1760866200-1760891400@events.toyota-mobi-toyama.jp
SUMMARY:【富山南】肌チェック＆ハンドケア
DESCRIPTION:こんにちは\nトヨタモビリティ富山 富山南です✨ \n乾燥が気になる秋🍁におすすめ\n女性限定イベントのお知らせです😍 \n【お肌チェック＆ハンドケア】 \nC’BON様(＠cbon_jp)をお呼びして開催します！ \n \n  \nなかなか見ることのできない\n自分の肌の状態を\nメイクの上から簡単にチェックできちゃいます🤓🔎\nまた、リラックスのできる\nハンドケア✋もおすすめです！\nどちらも無料で、ご予約不要ですので、\nお気軽にお試しください💖 \n◆日にち→10月19日(日)\n◆時間→9:30～16:30\n◆場所→トヨタモビリティ富山\n富山南ショールーム\n◆内容→肌チェック、ハンドケア\n◆施術時間→各5分程度\n◆料金→無料\n◆ご予約→不要 \n  \n🎁無料肌チェックを受けていただいた方へ🎁\nC’BON様より化粧品サンプルを差し上げます💖 \n皆さまのご来店をお待ちしております😊
URL:https://events.toyota-mobi-toyama.jp/event/%e3%80%90%e5%af%8c%e5%b1%b1%e5%8d%97%e3%80%91%e8%82%8c%e3%83%81%e3%82%a7%e3%83%83%e3%82%af%ef%bc%86%e3%83%8f%e3%83%b3%e3%83%89%e3%82%b1%e3%82%a2/
LOCATION:富山南\, 黒崎１２８－１\, 富山市\, 富山県\, 939-8214\, 日本
CATEGORIES:その他,富山市内
ATTACH;FMTTYPE=image/png:https://events.toyota-mobi-toyama.jp/wp/wp-content/uploads/2025/10/シーボン様イベント告知-2.png
END:VEVENT
END:VCALENDAR