BEGIN:VCALENDAR
VERSION:2.0
PRODID:-//イベントカレンダー｜トヨタモビリティ富山｜店舗イベント情報 - ECPv6.8.1//NONSGML v1.0//EN
CALSCALE:GREGORIAN
METHOD:PUBLISH
X-ORIGINAL-URL:https://events.toyota-mobi-toyama.jp
X-WR-CALDESC:イベントカレンダー｜トヨタモビリティ富山｜店舗イベント情報 のイベント
REFRESH-INTERVAL;VALUE=DURATION:PT1H
X-Robots-Tag:noindex
X-PUBLISHED-TTL:PT1H
BEGIN:VTIMEZONE
TZID:Asia/Tokyo
BEGIN:STANDARD
TZOFFSETFROM:+0900
TZOFFSETTO:+0900
TZNAME:JST
DTSTART:20250101T000000
END:STANDARD
END:VTIMEZONE
BEGIN:VEVENT
DTSTART;VALUE=DATE:20250802
DTEND;VALUE=DATE:20250804
DTSTAMP:20260422T200007
CREATED:20250726T022345Z
LAST-MODIFIED:20250726T022633Z
UID:1465-1754092800-1754265599@events.toyota-mobi-toyama.jp
SUMMARY:🌻夏フェスinＧスクエア五福🌻
DESCRIPTION:こんにちは！Gスクエア五福です🙌 \nご覧いただきありがとうございます🩶 \n｡..｡.:*･🎈イベントのお知らせです🎈･*:.｡.｡. \n🌻夏フェスinＧスクエア五福🌻 \n２０２５年８月２日（土）３日（日）の２日間　開催します🙌\n日頃の感謝を込めて、たのしい催しや商品をご用意いたしますので是非お越しください😊💕 \n💎宝石せっけんづくりご予約はこちら💎 \nスタッドレスタイヤ特価詳細はこちら \n \n▼スタッドレスタイヤ特価はこちら\n\n \n☎０７６－４３１－８１１７
URL:https://events.toyota-mobi-toyama.jp/event/%f0%9f%8c%bb%e5%a4%8f%e3%83%95%e3%82%a7%e3%82%b9in%ef%bd%87%e3%82%b9%e3%82%af%e3%82%a8%e3%82%a2%e4%ba%94%e7%a6%8f%f0%9f%8c%bb/
LOCATION:Gスクエア五福\, 五福末広町１２３８\, 富山市\, 富山県\, 930-0884\, 日本
CATEGORIES:その他,キッズ,スタッドレスタイヤ,ファミリー,ワークショップ,呉東,夏フェス,富山市内
ATTACH;FMTTYPE=image/png:https://events.toyota-mobi-toyama.jp/wp/wp-content/uploads/2025/07/filename.png
END:VEVENT
BEGIN:VEVENT
DTSTART;TZID=Asia/Tokyo:20250802T090000
DTEND;TZID=Asia/Tokyo:20250803T163000
DTSTAMP:20260422T200007
CREATED:20250718T012008Z
LAST-MODIFIED:20250718T012008Z
UID:1398-1754125200-1754238600@events.toyota-mobi-toyama.jp
SUMMARY:🌻夏フェス2025 富山みらい北🌻今年も開催します♪
DESCRIPTION:  \n\n  \n  \n\n  \nこんにちは！\n富山みらい北です\n🚘\nブログをご覧いただきありがとうございます♡♥♡ \n\n8/2 sat.・8/3 sun. \n🌻夏フェス2025 富山みらい北🌻 \n今年も開催します🍉 \n \n\n⭐️ミニ四駆作り⭐️ \n家族でミニ四駆を作って、コースで走らせてみよう!! \n⭐️自由研究⭐️ \nモーターカーを作って、電気のはたらきを知ろう💡 \n⭐️縁日ゲーム⭐️ \nヨーヨーすくい、輪投げ、スーパーボールすくい \n⭐️チャリティーバザー⭐️ \n売上金は「交通遺児を励ます募金活動」として公益社団法人富山善意銀行へ寄託します♪ \n⭐️らくがきカー⭐️ \n本物のクルマにらくがきしよう🚗💭 \n※ミニ四駆作り、自由研究はご予約が必要です。\n下記画像のQRコードからご予約下さい。 \n\n\n \n🚗スタッドレスタイヤ特価🚗 \nまた、夏フェス期間にスタッドレスタイヤを特価で販売いたします😲😲\n対象のタイヤはコチラ↓↓↓ \n\n \n※ナットは別で発注が必要です\n※スタッドレスタイヤの年式は指定できません\n※アルミホイールのデザインは選べません \n📍まだスタッドレスタイヤをお持ちでない方🙋‍♀️\n📍スタッドレスタイヤの新調をお考えの方🙋‍♂️ \n今がチャンスです!!! \n夏フェスはぜひ富山みらい北にご来店下さい🌟 \n\n▶富山みらい北の店舗情報は\nこちらをクリック↓\n富山みらい北 \n▶インスタグラムもチェック！\nイベント案内やお得な情報を投稿しています(^o^)丿\nフォロー＆いいね💕お願いします♩ \n\n\n \n【7月のカレンダー】 \n \n▶万が一の事故・故障等でお困りの際は\nトヨタモビリティ富山 事故・故障サポートデスク\nをご利用下さい \n\n \n\nこのイベントをSNSでシェアしよう！ \n\n\n\n\n \n\n\n\n \n\n\n\n \n\n\n 
URL:https://events.toyota-mobi-toyama.jp/event/%f0%9f%8c%bb%e5%a4%8f%e3%83%95%e3%82%a7%e3%82%b92025-%e5%af%8c%e5%b1%b1%e3%81%bf%e3%82%89%e3%81%84%e5%8c%97%f0%9f%8c%bb%e4%bb%8a%e5%b9%b4%e3%82%82%e9%96%8b%e5%82%ac%e3%81%97%e3%81%be%e3%81%99%e2%99%aa/
LOCATION:富山みらい北\, 上野新町７－５８\, 富山市\, 富山県\, 931-8326\, 日本
CATEGORIES:その他,キッズ,ファミリー,呉東,夏フェス,富山市内
ATTACH;FMTTYPE=image/png:https://events.toyota-mobi-toyama.jp/wp/wp-content/uploads/2025/07/ブログサムネ-1.png
END:VEVENT
END:VCALENDAR