BEGIN:VCALENDAR
VERSION:2.0
PRODID:-//イベントカレンダー｜トヨタモビリティ富山｜店舗イベント情報 - ECPv6.8.1//NONSGML v1.0//EN
CALSCALE:GREGORIAN
METHOD:PUBLISH
X-ORIGINAL-URL:https://events.toyota-mobi-toyama.jp
X-WR-CALDESC:イベントカレンダー｜トヨタモビリティ富山｜店舗イベント情報 のイベント
REFRESH-INTERVAL;VALUE=DURATION:PT1H
X-Robots-Tag:noindex
X-PUBLISHED-TTL:PT1H
BEGIN:VTIMEZONE
TZID:Asia/Tokyo
BEGIN:STANDARD
TZOFFSETFROM:+0900
TZOFFSETTO:+0900
TZNAME:JST
DTSTART:20250101T000000
END:STANDARD
END:VTIMEZONE
BEGIN:VEVENT
DTSTART;VALUE=DATE:20250622
DTEND;VALUE=DATE:20250623
DTSTAMP:20260422T232041
CREATED:20250605T014929Z
LAST-MODIFIED:20250606T012921Z
UID:1284-1750550400-1750636799@events.toyota-mobi-toyama.jp
SUMMARY:モビリティフェスinおわらサーキット🏎
DESCRIPTION:トヨタモビリティ富山 モビリティフェス inおわらサーキット\nオフロード×モータースポーツ×電動車\n \n⁡ \n日時▼\n6月22日(日) 10:00〜16:30 (開場 9:30)\n※雨天時は一部コンテンツが変更となる場合があります \n⁡ \n場所▼\nおわらサーキット\n(富山県富山市八尾町平林72-1) \n↓画像をクリックしてご覧ください
URL:https://events.toyota-mobi-toyama.jp/event/%e3%83%a2%e3%83%93%e3%83%aa%e3%83%86%e3%82%a3%e3%83%95%e3%82%a7%e3%82%b9in%e3%81%8a%e3%82%8f%e3%82%89%e3%82%b5%e3%83%bc%e3%82%ad%e3%83%83%e3%83%88%f0%9f%8f%8e/
LOCATION:富山県
CATEGORIES:その他,ファミリー,富山市内
ATTACH;FMTTYPE=image/jpeg:https://events.toyota-mobi-toyama.jp/wp/wp-content/uploads/2025/06/owara_1200_1200_02.jpg
END:VEVENT
END:VCALENDAR