BEGIN:VCALENDAR
VERSION:2.0
PRODID:-//イベントカレンダー｜トヨタモビリティ富山｜店舗イベント情報 - ECPv6.8.1//NONSGML v1.0//EN
CALSCALE:GREGORIAN
METHOD:PUBLISH
X-WR-CALNAME:イベントカレンダー｜トヨタモビリティ富山｜店舗イベント情報
X-ORIGINAL-URL:https://events.toyota-mobi-toyama.jp
X-WR-CALDESC:イベントカレンダー｜トヨタモビリティ富山｜店舗イベント情報 のイベント
REFRESH-INTERVAL;VALUE=DURATION:PT1H
X-Robots-Tag:noindex
X-PUBLISHED-TTL:PT1H
BEGIN:VTIMEZONE
TZID:Asia/Tokyo
BEGIN:STANDARD
TZOFFSETFROM:+0900
TZOFFSETTO:+0900
TZNAME:JST
DTSTART:20250101T000000
END:STANDARD
END:VTIMEZONE
BEGIN:VEVENT
DTSTART;TZID=Asia/Tokyo:20250518T093000
DTEND;TZID=Asia/Tokyo:20250518T163000
DTSTAMP:20260423T005858
CREATED:20250416T050946Z
LAST-MODIFIED:20250426T000440Z
UID:1169-1747560600-1747585800@events.toyota-mobi-toyama.jp
SUMMARY:【Ｇスクエア五福】ＪＡＦフェスティバル開催！
DESCRIPTION:こんにちは、Ｇスクエア五福です🎀\n５月１８日(日)\nＪＡＦフェスティバル開催いたします😆\n \n \n今回は新しく\n✅シートベルトコンビンサー体験が出来ます！\n衝突体験でシートベルトの重要性を学びましょう📝 \nそしてお子様が楽しめる催しも👧🏻\n✅子ども安全免許証\n✅魔法のキーホルダー\n作成できるので、是非お子様も一緒にご来店ください😆 \nご予約不要です😆
URL:https://events.toyota-mobi-toyama.jp/event/%ef%bd%8a%ef%bd%81%ef%bd%86%e3%83%95%e3%82%a7%e3%82%b9%e3%83%86%e3%82%a3%e3%83%90%e3%83%ab%e9%96%8b%e5%82%ac%ef%bc%81/
LOCATION:富山県
CATEGORIES:その他,キッズ,ファミリー,ワークショップ,呉東
ATTACH;FMTTYPE=image/png:https://events.toyota-mobi-toyama.jp/wp/wp-content/uploads/2025/04/ＪＡＦ-フェスティバル550-x-500-px.png
END:VEVENT
END:VCALENDAR