BEGIN:VCALENDAR
VERSION:2.0
PRODID:-//イベントカレンダー｜トヨタモビリティ富山｜店舗イベント情報 - ECPv6.8.1//NONSGML v1.0//EN
CALSCALE:GREGORIAN
METHOD:PUBLISH
X-ORIGINAL-URL:https://events.toyota-mobi-toyama.jp
X-WR-CALDESC:イベントカレンダー｜トヨタモビリティ富山｜店舗イベント情報 のイベント
REFRESH-INTERVAL;VALUE=DURATION:PT1H
X-Robots-Tag:noindex
X-PUBLISHED-TTL:PT1H
BEGIN:VTIMEZONE
TZID:Asia/Tokyo
BEGIN:STANDARD
TZOFFSETFROM:+0900
TZOFFSETTO:+0900
TZNAME:JST
DTSTART:20250101T000000
END:STANDARD
END:VTIMEZONE
BEGIN:VEVENT
DTSTART;VALUE=DATE:20250315
DTEND;VALUE=DATE:20250317
DTSTAMP:20260423T041442
CREATED:20250220T042228Z
LAST-MODIFIED:20250220T042427Z
UID:1025-1741996800-1742169599@events.toyota-mobi-toyama.jp
SUMMARY:春からスマホデビューの方！ 料金プランを見直したいな～😿 という方！必見！👀♥♥
DESCRIPTION:こんにちは！ \nランドマークSOTYです📱♡ \n  \n春からスマホデビューの方！ \n料金プランを見直したいな～😿 \nという方！必見！👀♥♥ \n  \n⌒⌒⌒⌒⌒⌒⌒⌒⌒⌒⌒⌒📱⭐️ \n\n3月15日(土)•16日(日) \n⁡ケータイ•スマホ相談会と \nガラポン抽選会を開催🚙🌸 \nご来店でどなたでもご参加 \nいただけます！！ \n⌒⌒⌒⌒⌒⌒⌒⌒⌒⌒⌒⌒📱⭐️ \n  \n \n  \n※お1人さま1回限り。 \n※なくなり次第終了となります。 \n⁡是非この機会にお越し \nくださいませ🌈🚗 \n皆さまのご来店を \n心よりお待ちしております🤗 \n 
URL:https://events.toyota-mobi-toyama.jp/event/%e6%98%a5%e3%81%8b%e3%82%89%e3%82%b9%e3%83%9e%e3%83%9b%e3%83%87%e3%83%93%e3%83%a5%e3%83%bc%e3%81%ae%e6%96%b9%ef%bc%81-%e6%96%99%e9%87%91%e3%83%97%e3%83%a9%e3%83%b3%e3%82%92%e8%a6%8b%e7%9b%b4%e3%81%97/
LOCATION:ランドマークSOTY双代\, 双代町１－６\, 富山市\, 富山県\, 930-0971\, 日本
CATEGORIES:その他,ファミリー
ATTACH;FMTTYPE=image/png:https://events.toyota-mobi-toyama.jp/wp/wp-content/uploads/2025/02/auイベント.png
END:VEVENT
END:VCALENDAR