BEGIN:VCALENDAR
VERSION:2.0
PRODID:-//イベントカレンダー｜トヨタモビリティ富山｜店舗イベント情報 - ECPv6.8.1//NONSGML v1.0//EN
CALSCALE:GREGORIAN
METHOD:PUBLISH
X-WR-CALNAME:イベントカレンダー｜トヨタモビリティ富山｜店舗イベント情報
X-ORIGINAL-URL:https://events.toyota-mobi-toyama.jp
X-WR-CALDESC:イベントカレンダー｜トヨタモビリティ富山｜店舗イベント情報 のイベント
REFRESH-INTERVAL;VALUE=DURATION:PT1H
X-Robots-Tag:noindex
X-PUBLISHED-TTL:PT1H
BEGIN:VTIMEZONE
TZID:Asia/Tokyo
BEGIN:STANDARD
TZOFFSETFROM:+0900
TZOFFSETTO:+0900
TZNAME:JST
DTSTART:20250101T000000
END:STANDARD
END:VTIMEZONE
BEGIN:VEVENT
DTSTART;TZID=Asia/Tokyo:20250308T090000
DTEND;TZID=Asia/Tokyo:20250309T160000
DTSTAMP:20260423T041325
CREATED:20250221T044645Z
LAST-MODIFIED:20250221T045209Z
UID:1031-1741424400-1741536000@events.toyota-mobi-toyama.jp
SUMMARY:ケータイ・スマホ料金診断会📱💛
DESCRIPTION:こんにちは💛\nＧスクエア五福です🧡 \nケータイ・スマホ料金診断会を開催します！\n【日時】\n３月８日㈯・９日㈰\n９：００～１６：００(最終受付１５：３０)\n\n\n\n \nトヨタのお店では\nau・UQ mobileを取扱いしております💡\nお客さまに最適な料金プランや携帯電話をご提案いたします😊 \nお子様やシニア世代のスマホデビューも🤍\nどなたでもご参加いただけます！ \n同時にガラポン抽選会も開催🤩\nおひとり様１回限り。\nなくなり次第終了となります。 \n是非この機会にお越しください💛 \nトヨタモビリティ富山　Ｇスクエア五福\nＴＥＬ　０７６－４３１－８１１７
URL:https://events.toyota-mobi-toyama.jp/event/%e3%82%b1%e3%83%bc%e3%82%bf%e3%82%a4%e3%83%bb%e3%82%b9%e3%83%9e%e3%83%9b%e6%96%99%e9%87%91%e8%a8%ba%e6%96%ad%e4%bc%9a%f0%9f%93%b1%f0%9f%92%9b/
LOCATION:Gスクエア五福\, 五福末広町１２３８\, 富山市\, 富山県\, 930-0884\, 日本
CATEGORIES:その他,ファミリー,呉東,富山市内
ATTACH;FMTTYPE=image/png:https://events.toyota-mobi-toyama.jp/wp/wp-content/uploads/2025/01/11-e1737772076544.png
END:VEVENT
END:VCALENDAR