BEGIN:VCALENDAR
VERSION:2.0
PRODID:-//イベントカレンダー｜トヨタモビリティ富山｜店舗イベント情報 - ECPv6.8.1//NONSGML v1.0//EN
CALSCALE:GREGORIAN
METHOD:PUBLISH
X-WR-CALNAME:イベントカレンダー｜トヨタモビリティ富山｜店舗イベント情報
X-ORIGINAL-URL:https://events.toyota-mobi-toyama.jp
X-WR-CALDESC:イベントカレンダー｜トヨタモビリティ富山｜店舗イベント情報 のイベント
REFRESH-INTERVAL;VALUE=DURATION:PT1H
X-Robots-Tag:noindex
X-PUBLISHED-TTL:PT1H
BEGIN:VTIMEZONE
TZID:Asia/Tokyo
BEGIN:STANDARD
TZOFFSETFROM:+0900
TZOFFSETTO:+0900
TZNAME:JST
DTSTART:20240101T000000
END:STANDARD
END:VTIMEZONE
BEGIN:VEVENT
DTSTART;VALUE=DATE:20240907
DTEND;VALUE=DATE:20240909
DTSTAMP:20260423T132019
CREATED:20240630T065339Z
LAST-MODIFIED:20240728T022228Z
UID:185-1725667200-1725839999@events.toyota-mobi-toyama.jp
SUMMARY:携帯電話料金診断会（富山南）
DESCRIPTION:9/7(土)・9/8(日)の2日間\nトヨタモビリティ富山　富山南にて\n携帯電話料金診断会を開催します📱👩🏻‍💼👨🏻‍💼 \n \n皆さん定期的に家計の見直しはされていますか？\n携帯電話の相談に行きたいけど時間がないな、\n予約が取れないな、なんてことはありませんか？\nトヨタモビリティ富山なら、点検の待ち時間にいつでも携帯電話の相談ができます！ \nクルマ🚗もスマホ📱もトヨタのお店で✨ \n皆様のご来店心よりお待ちしております🌼 \n▶︎営業時間\n(平日)9:30〜18:30\n【サービス工場は17:30まで(受付17:00まで)】\n(土日)9:00〜18:30\n【サービス工場は17:00まで(受付16:30まで)】
URL:https://events.toyota-mobi-toyama.jp/event/%e6%90%ba%e5%b8%af%e9%9b%bb%e8%a9%b1%e6%96%99%e9%87%91%e8%a8%ba%e6%96%ad%e4%bc%9a%ef%bc%88%e5%af%8c%e5%b1%b1%e5%8d%97%ef%bc%89/
LOCATION:富山南\, 黒崎１２８－１\, 富山市\, 富山県\, 939-8214\, 日本
CATEGORIES:その他,富山市内
ATTACH;FMTTYPE=image/png:https://events.toyota-mobi-toyama.jp/wp/wp-content/uploads/2024/06/携帯料金診断会-1.png
END:VEVENT
END:VCALENDAR