BEGIN:VCALENDAR
VERSION:2.0
PRODID:-//イベントカレンダー｜トヨタモビリティ富山｜店舗イベント情報 - ECPv6.8.1//NONSGML v1.0//EN
CALSCALE:GREGORIAN
METHOD:PUBLISH
X-ORIGINAL-URL:https://events.toyota-mobi-toyama.jp
X-WR-CALDESC:イベントカレンダー｜トヨタモビリティ富山｜店舗イベント情報 のイベント
REFRESH-INTERVAL;VALUE=DURATION:PT1H
X-Robots-Tag:noindex
X-PUBLISHED-TTL:PT1H
BEGIN:VTIMEZONE
TZID:Asia/Tokyo
BEGIN:STANDARD
TZOFFSETFROM:+0900
TZOFFSETTO:+0900
TZNAME:JST
DTSTART:20250101T000000
END:STANDARD
END:VTIMEZONE
BEGIN:VEVENT
DTSTART;VALUE=DATE:20250802
DTEND;VALUE=DATE:20250804
DTSTAMP:20260422T081456
CREATED:20250731T034044Z
LAST-MODIFIED:20250731T034044Z
UID:1519-1754092800-1754265599@events.toyota-mobi-toyama.jp
SUMMARY:【Y-town山室】8月2日.3日は夏フェス
DESCRIPTION:こんにちは\nY-town山室です🌈 \n今年も開催します\n夏のBIGイベント \n8月2日．３日は\n【　夏フェス　】 \n親子でたのしめるイベントを\nたっくさんご用意致しました！！✨ \n \nトトンさんによるワークショップ\n家具の端材を使用した工作\n親子でたのしむロボット作り\n事前ご予約が必要です\n下記よりお申込み頂けます！\n \n \n両日開催 \n〇ふわふわドーム\n※雨天中止 \n〇やまむろえんにち\nInstagramフォローでご参加頂けます \n毎年大人気\n〇ミニ四駆作り\n※参加費500円（1台につき）\n事前予約はご不要です。 \nワークショップに\nキッチンカーもやってくる！！！ \nとにかく楽しい２日間！！♡\nみなさまのご来場お待ちしております🌈 \n─── ⋆⋅🚗⋅⋆ ─── \n \n \n \n \n \n \n \n \n \n─── ⋆⋅🚗⋅⋆ ───
URL:https://events.toyota-mobi-toyama.jp/event/%e3%80%90y-town%e5%b1%b1%e5%ae%a4%e3%80%918%e6%9c%882%e6%97%a5-3%e6%97%a5%e3%81%af%e5%a4%8f%e3%83%95%e3%82%a7%e3%82%b9/
CATEGORIES:SDGs,キッズ,ワークショップ,夏フェス
ATTACH;FMTTYPE=image/jpeg:https://events.toyota-mobi-toyama.jp/wp/wp-content/uploads/2025/07/burogu-.jpg
END:VEVENT
END:VCALENDAR