BEGIN:VCALENDAR
VERSION:2.0
PRODID:-//イベントカレンダー｜トヨタモビリティ富山｜店舗イベント情報 - ECPv6.8.1//NONSGML v1.0//EN
CALSCALE:GREGORIAN
METHOD:PUBLISH
X-WR-CALNAME:イベントカレンダー｜トヨタモビリティ富山｜店舗イベント情報
X-ORIGINAL-URL:https://events.toyota-mobi-toyama.jp
X-WR-CALDESC:イベントカレンダー｜トヨタモビリティ富山｜店舗イベント情報 のイベント
REFRESH-INTERVAL;VALUE=DURATION:PT1H
X-Robots-Tag:noindex
X-PUBLISHED-TTL:PT1H
BEGIN:VTIMEZONE
TZID:Asia/Tokyo
BEGIN:STANDARD
TZOFFSETFROM:+0900
TZOFFSETTO:+0900
TZNAME:JST
DTSTART:20250101T000000
END:STANDARD
END:VTIMEZONE
BEGIN:VEVENT
DTSTART;TZID=Asia/Tokyo:20250329T100000
DTEND;TZID=Asia/Tokyo:20250329T120000
DTSTAMP:20260423T075450
CREATED:20250319T014638Z
LAST-MODIFIED:20250319T015002Z
UID:1130-1743242400-1743249600@events.toyota-mobi-toyama.jp
SUMMARY:【魚津】クルマまるわかり教室!!  カー＆エコゲーム  ～ボードゲームで売上1位の  会社を目指そう！～
DESCRIPTION:こんにちは❣ \n\nいつも魚津ブログ🐠をご覧いただき \n\nありがとうございます \n\n(/・ω・)/🎮🚙 \n\n\n\n🎪春休みのイベント紹介!!⸝⋆⸝⋆‪🎪 \n*  ⌒⌒⌒⌒⌒⌒⌒⌒⌒⌒⌒⌒⌒⌒⌒⌒  * \n\n\n小学生高学年を対象にしたイベントです！ \n\n \nその名も、 \n\n\n⋈ ･････････････････････････ ⋈ \nクルマまるわかり教室!! \nカー＆エコゲーム \n～ボードゲームで売上1位の \n会社を目指そう！～ \n⋈ ･････････････････････････ ⋈ \n\n\n\n▶︎クルマ会社の経営者となって、 \n\nチーム全員で売上ナンバーワンを目指す \n\nゲームイベントです！☝‪‪ \n\n\n \n  \n  \n【イベント概要】 \n\n日時：3月29日(土)10:00～ \n\n \n所要時間：約2時間 \n\n \n対象：小学4～6年生 \n\n \n※春からの新4～6年生もOK💡 \n\n \n定員：10組 \n\n \n参加費：無料 \n\n\n\n\n  \n  \n  \n \n【申込方法】 \nクルマまるわかり教室申込みフォーム \n↑こちらのリンクから申込フォームにアクセスしてください！↑ \n\n \n◾︎お電話でも承ります！ \n📞0765-24-1616 \n\n\n\nクルマと環境の関わり方を遊びながら学んでみよう！👀✨️ \n\nぜひお友達やご家族と一緒にご参加ください！🤩 \n\n\n\n  \n\n\n\n\n\n\n\n\n\n\n\n\n\n\n\n\n\n\n\n\n\n\n\n\n\n\n\n\n\n\n\n\n\n\n\n\n\n\n\n\n【魚津 試乗車・展示車はこちら】 \n\n↓ \n\n🐈CLICK！  \n\n\n \n【魚津 店舗ブログはこちら】 \n\n↓ \n\n🐶CLICK！ \n\n\n \nトヨタモビリティ富山 魚津 \n\n \n富山県魚津市本江１０６３番地 \n\n\n\n\n\n\n\n\n\n\n\n  \n  \n  \n  \n  \n  \n  \n  \n  \n  \n  \n  \n  \n  \n  \n  \n 
URL:https://events.toyota-mobi-toyama.jp/event/%e3%80%90%e9%ad%9a%e6%b4%a5%e3%80%91%e3%82%af%e3%83%ab%e3%83%9e%e3%81%be%e3%82%8b%e3%82%8f%e3%81%8b%e3%82%8a%e6%95%99%e5%ae%a4-%e3%82%ab%e3%83%bc%ef%bc%86%e3%82%a8%e3%82%b3%e3%82%b2%e3%83%bc/
LOCATION:魚津\, 本江１０６３\, 魚津市\, 富山県\, 937-0805\, 日本
CATEGORIES:SDGs,キッズ,呉東
ATTACH;FMTTYPE=image/png:https://events.toyota-mobi-toyama.jp/wp/wp-content/uploads/2025/03/SDGsクルマまるわかり教室魚津.png
END:VEVENT
END:VCALENDAR