BEGIN:VCALENDAR
VERSION:2.0
PRODID:-//イベントカレンダー｜トヨタモビリティ富山｜店舗イベント情報 - ECPv6.8.1//NONSGML v1.0//EN
CALSCALE:GREGORIAN
METHOD:PUBLISH
X-WR-CALNAME:イベントカレンダー｜トヨタモビリティ富山｜店舗イベント情報
X-ORIGINAL-URL:https://events.toyota-mobi-toyama.jp
X-WR-CALDESC:イベントカレンダー｜トヨタモビリティ富山｜店舗イベント情報 のイベント
REFRESH-INTERVAL;VALUE=DURATION:PT1H
X-Robots-Tag:noindex
X-PUBLISHED-TTL:PT1H
BEGIN:VTIMEZONE
TZID:Asia/Tokyo
BEGIN:STANDARD
TZOFFSETFROM:+0900
TZOFFSETTO:+0900
TZNAME:JST
DTSTART:20260101T000000
END:STANDARD
END:VTIMEZONE
BEGIN:VEVENT
DTSTART;TZID=Asia/Tokyo:20260314T090000
DTEND;TZID=Asia/Tokyo:20260315T160000
DTSTAMP:20260424T050732
CREATED:20260220T022359Z
LAST-MODIFIED:20260220T022359Z
UID:1828-1773478800-1773590400@events.toyota-mobi-toyama.jp
SUMMARY:【Ｇスクエア五福】📱ケータイ・スマホ料金診断会📱& 🤖オリジナルAI動画をつくってみよう🤖
DESCRIPTION:こんにちは😊💕\nＧスクエア五福です！！ \n\n\n\n \n\n📱ケータイ・スマホ料金診断会📱\n【日時】3月14日（土） 15日（日）\n9:00～16:00（最終受付15:30） \n🤖オリジナルAI動画をつくってみよう🤖\n【日時】3月14日（土） 15日（日）\n10:00～15:00 \n↓↓ご予約はこちらから↓↓ \n\n\n\n \n\n▧ ▦ ▤ ▥ ▧ ▦ ▤ ▥ ▧ ▦ ▤ ▥ ▧ ▦ ▤ ▥ \n上記日程で料金診断会と\nオリジナルAI作成体験会を開催いたします🙌\nこの機会にぜひ料金の見直しや話題のAI動画作成をご体験ください🤖 \nさらに【Mobile Keeper】ブースも設置✨\nカーコーティングで有名なあの「 KeePer」\n大切なスマートフォンを擦り傷から守り、指紋が付きにくくなります！\nこの機会にぜひ「Mobile KeePer」をお試しください！ \n▧ ▦ ▤ ▥ ▧ ▦ ▤ ▥ ▧ ▦ ▤ ▥ ▧ ▦ ▤ ▥ \nどなたでもご参加いただけます🎀\n同時に、ガラポン抽選会も開催✨ \n⚫︎お人さま1回限り\n⚫︎なくなり次第終了となります \n是非この機会にお越しください♥\nトヨタモビリティ富山 株式会社 Gスクエア五福 \nーーーーーーーーーーーーーーーーーーーー \n\nトヨタモビリティ富山　Ｇスクエア五福\n富山市五福末広町１２３８\n \nショールーム　☎０７６－４３１－８１１７\nサービス　　　☎０７６－４３１－８１１８ \nーーーーーーーーーーーーーーーーーーーー
URL:https://events.toyota-mobi-toyama.jp/event/%e3%80%90%ef%bd%87%e3%82%b9%e3%82%af%e3%82%a8%e3%82%a2%e4%ba%94%e7%a6%8f%e3%80%91%f0%9f%93%b1%e3%82%b1%e3%83%bc%e3%82%bf%e3%82%a4%e3%83%bb%e3%82%b9%e3%83%9e%e3%83%9b%e6%96%99%e9%87%91%e8%a8%ba/
LOCATION:Gスクエア五福\, 五福末広町１２３８\, 富山市\, 富山県\, 930-0884\, 日本
CATEGORIES:AI,その他,キッズ,呉東,富山市内,通信
ATTACH;FMTTYPE=image/jpeg:https://events.toyota-mobi-toyama.jp/wp/wp-content/uploads/2026/02/wysiwyg_update_image_20260218043636.jpg
END:VEVENT
BEGIN:VEVENT
DTSTART;TZID=Asia/Tokyo:20260214T090000
DTEND;TZID=Asia/Tokyo:20260215T160000
DTSTAMP:20260424T050732
CREATED:20260127T031622Z
LAST-MODIFIED:20260127T031622Z
UID:1817-1771059600-1771171200@events.toyota-mobi-toyama.jp
SUMMARY:【富山南】🍫バレンタインフェア💖
DESCRIPTION:こんにちは\nトヨタモビリティ富山 富山南です✨ \n🍫バレンタインフェア💖 \n日にち◆2/14(土)\,15(日)\n時間◆9:00～16:00 \n \n  \n🍫ご来店でチョコプレゼント🎁\n※なくなり次第終了。 \n🌟ケータイ・スマホ料金相談会\n日にち◆14(土)\,15(日)\n時間◆9:00～16:00(最終受付15:30)\n参加費◆無料\n当日ガラポン抽選会も同時開催🎯\n※事前にご予約いただくと\n当日スムーズにご案内ができます。\n(ご予約はお電話☎076-421-8110) \n🌟ディスプレイオーディオ体験会\n日にち◆14(土)\n時間◆10:00～11:00\n参加費◆無料\n知っておくと便利な機能を\nスタッフが実際に使いながらお伝えします！ \n🌟JAFイベント\n日にち◆15(日)\n時間◆10:00～16:00\n内容◆こども免許証\n魔法のキーホルダー作り\nキッズユニフォームで記念撮影📸\n参加費◆無料 \n🌟お肌チェック&ハンドホットケア\n日にち◆15(日)\n時間：10:00～16:00\n参加費◆無料\n講師◆C’BON様\n※女性限定 \n皆さまのご来店をお待ちしております😊💖
URL:https://events.toyota-mobi-toyama.jp/event/%e3%80%90%e5%af%8c%e5%b1%b1%e5%8d%97%e3%80%91%f0%9f%8d%ab%e3%83%90%e3%83%ac%e3%83%b3%e3%82%bf%e3%82%a4%e3%83%b3%e3%83%95%e3%82%a7%e3%82%a2%f0%9f%92%96/
LOCATION:富山南\, 黒崎１２８－１\, 富山市\, 富山県\, 939-8214\, 日本
CATEGORIES:キッズ,ファミリー,通信
ATTACH;FMTTYPE=image/png:https://events.toyota-mobi-toyama.jp/wp/wp-content/uploads/2026/01/2.14.sat-2.15.sun-5.png
END:VEVENT
BEGIN:VEVENT
DTSTART;TZID=Asia/Tokyo:20260124T090000
DTEND;TZID=Asia/Tokyo:20260125T160000
DTSTAMP:20260424T050732
CREATED:20260116T060122Z
LAST-MODIFIED:20260116T060122Z
UID:1806-1769245200-1769356800@events.toyota-mobi-toyama.jp
SUMMARY:【砺波】📱スマホ料金診断会&AI動画教室🎩
DESCRIPTION:トヨタモビリティ富山 砺波\n    \n  \n  からのお知らせです📢 \n  \n    【イベントのご案内】\n   \n   \n  \n    ❄️スマホ電話料金診断会❄️\n   \n \n  日時▷\n  \n    1/24(土)・\n    1/25(日)\n    9:00〜16:00\n   \n  生活にかかせない携帯電話！📱 \n  契約の内容を見直すことで\n  月々の通信費を\n  おトク\n  にできるかも👀💡 \n  お客さまの最適な\n  料金プランを\n  ご提案します✨ \n  見直しだけでも大歓迎です🙌🏻💭\n  お気軽にお越しください🪻 \n  ❄️\n  \n    AI動画教室\n  \n  ❄️ \n \n  日時▷\n  \n    1/24(土)・\n    1/25(日)\n    10:00〜15:00\n   \n  今話題の\n  AI\n  を使って\n  \n    オリジナルの動画\n  \n  を\n  作ってみませんか？🤖 \n \n  作業は\n  カンタン！\n  自分の作りたい動画のイメージを文章にするだけ🧏🏻‍♀️ \n  スタッフが丁寧にご説明しますので\n  ぜひ興味のある方はご参加ください💪🏻💕 \n  \n    🎊ガラポン抽選会🎊\n   \n \n  も開催します！\n  アンケートにご回答でご参加いただけます！\n  ※お1人さま1回限り。数に限りがございます。\n  なくなり次第終了となります。 \n  当店では\n  \n    『UQ mobile』\n  \n  も取り扱っております📱 \n  UQ mobileについて気になる事や分からない事があれば\n  お気軽にご相談ください👂🏻♡ \n  \n    UQ親子応援割\n  \n  ・\n  \n    UQサンキュー応援割\n   \n \n  好評受付中です！🧒🏻👧🏻🌷\n  詳しくは店頭スタッフまたは下記よりご確認ください\n  \n    https://www.uqwimax.jp/mobile/ouenwari/\n   \n  📱🚗クルマもスマホもトヨタのお店で🚗📱 \n  皆さまのご来店お待ちしております😊🫶🏻
URL:https://events.toyota-mobi-toyama.jp/event/%e3%80%90%e7%a0%ba%e6%b3%a2%e3%80%91%f0%9f%93%b1%e3%82%b9%e3%83%9e%e3%83%9b%e6%96%99%e9%87%91%e8%a8%ba%e6%96%ad%e4%bc%9aai%e5%8b%95%e7%94%bb%e6%95%99%e5%ae%a4%f0%9f%8e%a9/
LOCATION:砺波\, 太郎丸３－５０\, 砺波市\, 富山県\, 939-1363\, 日本
CATEGORIES:通信
ATTACH;FMTTYPE=image/png:https://events.toyota-mobi-toyama.jp/wp/wp-content/uploads/2026/01/水色　白　チラシ　シンプル　スマホ教室　A4.png
END:VEVENT
END:VCALENDAR